BEGIN:VCALENDAR
VERSION:2.0
PRODID:-//The Wellness Insider - ECPv6.15.20//NONSGML v1.0//EN
CALSCALE:GREGORIAN
METHOD:PUBLISH
X-WR-CALNAME:The Wellness Insider
X-ORIGINAL-URL:https://thewellnessinsider.asia
X-WR-CALDESC:Events for The Wellness Insider
REFRESH-INTERVAL;VALUE=DURATION:PT1H
X-Robots-Tag:noindex
X-PUBLISHED-TTL:PT1H
BEGIN:VTIMEZONE
TZID:Asia/Shanghai
BEGIN:STANDARD
TZOFFSETFROM:+0800
TZOFFSETTO:+0800
TZNAME:CST
DTSTART:20190101T000000
END:STANDARD
END:VTIMEZONE
BEGIN:VEVENT
DTSTART;TZID=Asia/Shanghai:20201009T080000
DTEND;TZID=Asia/Shanghai:20201011T170000
DTSTAMP:20260424T052006
CREATED:20200923T093004Z
LAST-MODIFIED:20200923T093004Z
UID:5941-1602230400-1602435600@thewellnessinsider.asia
SUMMARY:ASICS Virtual Run
DESCRIPTION:To mark World Mental Health Day on 10th October\, ASICS is leading a virtual run to support mental and physical wellness amidst the global pandemic. \nHeld from 9 to 11 October 2020\, ASICS is inviting participants from Singapore and around the region to run in solidarity with a unifying voice to raise awareness and take action to create lasting change. \nASICS recognises that running can be an easy escape from anxiety and stress\, especially in this period. \nThrough the virtual run\, we hope to provide a platform and opportunity for people to start or continue running and achieve a sound mind in a sound body. \nRoy Lan\, ASICS Regional Marketing Communications Manager (Southeast & South Asia)  \nASICS World Mental Health Day Virtual Run is available in four categories : 3km / 5km / 10km / 20km. Registration is now open on 42Race. \n  \nHow do I submit my fitness events?\nSimply connect your Apple Health or Google fit. Your steps will automatically be synced to ASICS’ system. You can submit it after the event is open for submissions.
URL:https://thewellnessinsider.asia/event/asics-virtual-run/
CATEGORIES:Fitness,Lifestyle,Runs
ATTACH;FMTTYPE=image/jpeg:https://thewellnessinsider.asia/wp-content/uploads/2020/09/image.jpg
END:VEVENT
END:VCALENDAR