BEGIN:VCALENDAR
VERSION:2.0
PRODID:-//The Wellness Insider - ECPv6.15.20//NONSGML v1.0//EN
CALSCALE:GREGORIAN
METHOD:PUBLISH
X-WR-CALNAME:The Wellness Insider
X-ORIGINAL-URL:https://thewellnessinsider.asia
X-WR-CALDESC:Events for The Wellness Insider
REFRESH-INTERVAL;VALUE=DURATION:PT1H
X-Robots-Tag:noindex
X-PUBLISHED-TTL:PT1H
BEGIN:VTIMEZONE
TZID:Asia/Shanghai
BEGIN:STANDARD
TZOFFSETFROM:+0800
TZOFFSETTO:+0800
TZNAME:CST
DTSTART:20240101T000000
END:STANDARD
END:VTIMEZONE
BEGIN:VEVENT
DTSTART;TZID=Asia/Shanghai:20251001T080000
DTEND;TZID=Asia/Shanghai:20251001T170000
DTSTAMP:20260424T112123
CREATED:20251001T040438Z
LAST-MODIFIED:20251001T040438Z
UID:16822-1759305600-1759338000@thewellnessinsider.asia
SUMMARY:Healing Heritage: A Journey Through the Evolution of Traditional Chinese Medicine in Singapore
DESCRIPTION:Singapore Chinese Cultural Centre (SCCC) presents Healing Heritage\, an exhibition that traces the story of traditional Chinese medicine (TCM) in Singapore from its roots in the 19th century to its role in daily life today.  \nHeld from 1 October 2025 to 22 February 2026 at SCCC’s Creative Box (Level 6)\, the exhibition invites visitors to explore how TCM has evolved over the years in Singapore\, blending tradition with innovation and staying relevant in today’s modern lifestyles. \nSupported by Singapore Chinese Physicians’ Association and Singapore Chung Hwa Medical Institution\, Healing Heritage highlights milestones in TCM’s development in Singapore\, its community impact\, and adaptations to modern society. Through interpretive displays\, historical artefacts\, interactive experiences\, and stories of medical organisations and brands\, visitors can discover how TCM has evolved while remaining true in its cultural heritage as a living tradition in Singapore. \nThe exhibition is organised into five zones\, each designed for visitors to uncover different aspects of TCM and its rich history: \nTracing the Healing Journey – Follow TCM’s development in Singapore\, from early 19th century medical halls to its recognition in today’s healthcare system. Milestones include the founding of Thong Chai Medical Institution in 1867 and the recent inclusion of acupuncture under MediSave. \nEncountering the Neighbourhood Healer – Step into a recreated medical hall with classic wooden cabinets and drawers of herbs. Learn how family-run businesses adapted to changing times\, and try an interactive herb-matching game to learn about remedies hands-on. \nBuilding Benevolence through Community – Discover the role of charitable institutions and professional organisations in supporting healthcare during epidemics and raising standards through education and research. Exhibits include traditional acupuncture needles and early journals like Medical Monthly (Yiyao Yuekan). \nTransforming Tradition through Innovation – See how TCM evolves with modern life\, from halal-certified remedies\, digital diagnostic tools and even vending machines. A canine acupuncture model in this zone shows how TCM can be adapted and applied in veterinary care. \nSustaining a Living Heritage – Experience how TCM continues to be part of everyday life\, from medicinal cuisine and herbal products to social media outreach by young TCM physicians such as THE TCM FOLKS. A conversation kiosk further invites visitors to reflect on their own encounters with TCM. \nAccording to Alvin Tan\, CEO of SCCC: “With Healing Heritage\, we hope to focus on traditional Chinese medicine (TCM) as a system of medicine and as a form of intangible cultural heritage\, and to showcase TCM’s contributions to the Chinese community and to society. We also hope to highlight TCM’s impact and use beyond the Chinese community\, and to raise public awareness of how TCM has endured\, evolved and become part of Singaporeans’ everyday life.” \nFor more details on Healing Heritage please click here. \n\nImages: Singapore Chinese Cultural Centre 
URL:https://thewellnessinsider.asia/event/healing-heritage-a-journey-through-the-evolution-of-traditional-chinese-medicine-in-singapore/
LOCATION:Singapore Chinese Cultural Centre\, 1 Straits Boulevard\, 018906\, Singapore
CATEGORIES:Arts,Health,Lifestyle
ATTACH;FMTTYPE=image/png:https://thewellnessinsider.asia/wp-content/uploads/2025/10/Healing-Heritage-KV.png
END:VEVENT
END:VCALENDAR