BEGIN:VCALENDAR
VERSION:2.0
PRODID:-//The Wellness Insider - ECPv6.15.20//NONSGML v1.0//EN
CALSCALE:GREGORIAN
METHOD:PUBLISH
X-ORIGINAL-URL:https://thewellnessinsider.asia
X-WR-CALDESC:Events for The Wellness Insider
REFRESH-INTERVAL;VALUE=DURATION:PT1H
X-Robots-Tag:noindex
X-PUBLISHED-TTL:PT1H
BEGIN:VTIMEZONE
TZID:Asia/Shanghai
BEGIN:STANDARD
TZOFFSETFROM:+0800
TZOFFSETTO:+0800
TZNAME:CST
DTSTART:20240101T000000
END:STANDARD
END:VTIMEZONE
BEGIN:VEVENT
DTSTART;TZID=Asia/Shanghai:20251010T120000
DTEND;TZID=Asia/Shanghai:20251010T160000
DTSTAMP:20260422T235618
CREATED:20250924T074552Z
LAST-MODIFIED:20250924T074552Z
UID:16765-1760097600-1760112000@thewellnessinsider.asia
SUMMARY:Japan Tea Festival 2025
DESCRIPTION:Date: Friday\, 10 October 2025Time: 12:00 pm – 4:00 pmVenue: Jubilee Ballroom\, Four Points Hotel Singapore\, 382 Havelock RoadAdmission: Free (walk-in and on-site registration available) \nThe Japan Tea Festival returns to Singapore this October\, bringing a rare opportunity to experience the depth and diversity of Japanese tea culture. Organised by the Japan Tea Industry Association with the support of JETRO and JFOODO\, the festival invites visitors to savour teas from more than 15 regions of Japan\, including celebrated varieties from Kyoto\, Shizuoka\, and Kagoshima. \nFestival highlights include: \n\n\nRare tea tastings – Discover exquisite sencha\, gyokuro\, matcha\, and hidden regional gems. \n\n\nObaku Baisa-ryu Sencha Ceremony – A live demonstration by Professor Sosen Nakai\, showcasing refined sencha traditions. \n\n\nFood pairings – Japanese sweets by ABC Cooking Studio Singapore designed to complement the teas. \n\n\nCultural showcases – Featuring Fukujuen Singapore\, Japan Rail Café\, and JTB Singapore. \n\n\nMore than a tasting event\, the festival reflects Japan’s 1\,200-year tea heritage\, where wellness\, mindfulness\, and harmony meet in every cup. \nLearn more and RSVP via JETRO Singapore’s Facebook page \n\nImages: JETRO Singapore
URL:https://thewellnessinsider.asia/event/japan-tea-festival-2025/
LOCATION:Four Points by Sheraton Singapore\, Riverview\, 382 Havelock Road\, Singapore\, 169629\, Singapore
CATEGORIES:Food & Dining
ATTACH;FMTTYPE=image/png:https://thewellnessinsider.asia/wp-content/uploads/2025/09/Sencha-tea-ceremony.png
END:VEVENT
END:VCALENDAR