BEGIN:VCALENDAR
VERSION:2.0
PRODID:-//The Wellness Insider - ECPv6.15.20//NONSGML v1.0//EN
CALSCALE:GREGORIAN
METHOD:PUBLISH
X-ORIGINAL-URL:https://thewellnessinsider.asia
X-WR-CALDESC:Events for The Wellness Insider
REFRESH-INTERVAL;VALUE=DURATION:PT1H
X-Robots-Tag:noindex
X-PUBLISHED-TTL:PT1H
BEGIN:VTIMEZONE
TZID:Asia/Shanghai
BEGIN:STANDARD
TZOFFSETFROM:+0800
TZOFFSETTO:+0800
TZNAME:CST
DTSTART:20200101T000000
END:STANDARD
END:VTIMEZONE
BEGIN:VEVENT
DTSTART;TZID=Asia/Shanghai:20210528T200000
DTEND;TZID=Asia/Shanghai:20210528T210000
DTSTAMP:20260422T172232
CREATED:20210527T083907Z
LAST-MODIFIED:20210527T083908Z
UID:7380-1622232000-1622235600@thewellnessinsider.asia
SUMMARY:Let's Talk About PCOS & Endometriosis
DESCRIPTION:Join our founder\, Melissa Fann\, this Friday 28 May at 8pm on the Clubhouse app as she talks about PCOS and Endometriosis. This discussion is open to all genders and is meant to be a support system for women who are suffering from these conditions as well as their partners who would like to understand more. \nThis session is not meant to dispense medical advice but to really talk about the symptoms\, how to cope with the conditions and streamlining the tons of advice out there. \nWe hope to see you there and do share this session with your family or friends! \nPsst…Clubhouse is now on Android!
URL:https://thewellnessinsider.asia/event/lets-talk-about-pcos-endometriosis/
LOCATION:Virtual
CATEGORIES:Health
ATTACH;FMTTYPE=image/jpeg:https://thewellnessinsider.asia/wp-content/uploads/2021/05/Clubhouse-01.jpg
END:VEVENT
END:VCALENDAR