BEGIN:VCALENDAR
VERSION:2.0
PRODID:-//The Wellness Insider - ECPv6.15.20//NONSGML v1.0//EN
CALSCALE:GREGORIAN
METHOD:PUBLISH
X-WR-CALNAME:The Wellness Insider
X-ORIGINAL-URL:https://thewellnessinsider.asia
X-WR-CALDESC:Events for The Wellness Insider
REFRESH-INTERVAL;VALUE=DURATION:PT1H
X-Robots-Tag:noindex
X-PUBLISHED-TTL:PT1H
BEGIN:VTIMEZONE
TZID:Asia/Shanghai
BEGIN:STANDARD
TZOFFSETFROM:+0800
TZOFFSETTO:+0800
TZNAME:CST
DTSTART:20200101T000000
END:STANDARD
END:VTIMEZONE
BEGIN:VEVENT
DTSTART;TZID=Asia/Shanghai:20210508T140000
DTEND;TZID=Asia/Shanghai:20210508T150000
DTSTAMP:20260422T105220
CREATED:20210304T144634Z
LAST-MODIFIED:20210304T144634Z
UID:7015-1620482400-1620486000@thewellnessinsider.asia
SUMMARY:健康讲座：女性更年期与心血管疾病的关联
DESCRIPTION:Registration starts on 12 April
URL:https://thewellnessinsider.asia/event/%e5%81%a5%e5%ba%b7%e8%ae%b2%e5%ba%a7%ef%bc%9a%e5%a5%b3%e6%80%a7%e6%9b%b4%e5%b9%b4%e6%9c%9f%e4%b8%8e%e5%bf%83%e8%a1%80%e7%ae%a1%e7%96%be%e7%97%85%e7%9a%84%e5%85%b3%e8%81%94/
LOCATION:Virtual
CATEGORIES:Health,Lifestyle,Sexuality
END:VEVENT
END:VCALENDAR