BEGIN:VCALENDAR
VERSION:2.0
PRODID:-//The Wellness Insider - ECPv6.15.20//NONSGML v1.0//EN
CALSCALE:GREGORIAN
METHOD:PUBLISH
X-ORIGINAL-URL:https://thewellnessinsider.asia
X-WR-CALDESC:Events for The Wellness Insider
REFRESH-INTERVAL;VALUE=DURATION:PT1H
X-Robots-Tag:noindex
X-PUBLISHED-TTL:PT1H
BEGIN:VTIMEZONE
TZID:Asia/Shanghai
BEGIN:STANDARD
TZOFFSETFROM:+0800
TZOFFSETTO:+0800
TZNAME:CST
DTSTART:20190101T000000
END:STANDARD
END:VTIMEZONE
BEGIN:VEVENT
DTSTART;TZID=Asia/Shanghai:20200321T143000
DTEND;TZID=Asia/Shanghai:20200321T160000
DTSTAMP:20260423T103630
CREATED:20200311T035231Z
LAST-MODIFIED:20200610T024823Z
UID:3254-1584801000-1584806400@thewellnessinsider.asia
SUMMARY:Boost Your Immunity With Kombucha
DESCRIPTION:It’s not easy staying happy\, positive\, and mentally healthy throughout life’s journey in this crazy\, fast-paced modern world. Nowadays\, it seems that we are constantly racing with life itself\, unable to slow down or stop to enjoy the process and the little things that make life worth living. S \nCome join us in this basic kombucha workshop where we will teach you how to make this fermented tea as well as educate you about nutrition and the benefits of probiotics. Seats are limited\, so do book yours today! \nWhat is Kombucha?\nIt is a variety of fermented tea that is produced using a “Symbiotic Colony Of Bacteria and Yeast” (SCOBY). During the fermentation process\, enzymes\, amino acids\, organic acids (sometimes ethanol even)\, B vitamins\, vitamin C and probiotics are produced. Thus\, it is often consumed to help with general health by keeping a healthy gut. \n \n  \nWhat will you learn during this kombucha workshop?\nYou’ll learn the basics of how to make kombucha\, what to do and what NOT to do when brewing your kombucha. You will also get to taste a few various ‘flavours’ of kombucha. \nWhat will you bring home?\n\nStarter kit including your own SCOBY\nRecipe guide to kick off your kombucha experiments\n\nDue to space constraints\, we only have 10 available seats for this workshop. \nDate: Sat\, 21 March 2020\nTime: 2.30 – 4.00pm\nVenue: Given upon registration\nCost: S$70 per person (includes materials\, excludes Eventbrite fees) \nTo read what some of our past attendees have written about our workshop\, please click here. \n\nPhoto credits: Kombucha Chronicles and unsplash
URL:https://thewellnessinsider.asia/event/boost-your-immunity-with-kombucha/
CATEGORIES:Food & Dining,Kombucha
ATTACH;FMTTYPE=image/jpeg:https://thewellnessinsider.asia/wp-content/uploads/2020/06/admin-ajax-2.jpeg
END:VEVENT
END:VCALENDAR