BEGIN:VCALENDAR
VERSION:2.0
PRODID:-//The Wellness Insider - ECPv6.15.20//NONSGML v1.0//EN
CALSCALE:GREGORIAN
METHOD:PUBLISH
X-WR-CALNAME:The Wellness Insider
X-ORIGINAL-URL:https://thewellnessinsider.asia
X-WR-CALDESC:Events for The Wellness Insider
REFRESH-INTERVAL;VALUE=DURATION:PT1H
X-Robots-Tag:noindex
X-PUBLISHED-TTL:PT1H
BEGIN:VTIMEZONE
TZID:Asia/Shanghai
BEGIN:STANDARD
TZOFFSETFROM:+0800
TZOFFSETTO:+0800
TZNAME:CST
DTSTART:20180101T000000
END:STANDARD
END:VTIMEZONE
BEGIN:VEVENT
DTSTART;TZID=Asia/Shanghai:20190927T193000
DTEND;TZID=Asia/Shanghai:20190927T210000
DTSTAMP:20260423T195919
CREATED:20200610T031344Z
LAST-MODIFIED:20200610T031344Z
UID:3366-1569612600-1569618000@thewellnessinsider.asia
SUMMARY:Basic Kombucha Workshop
DESCRIPTION:Come join us in this basic kombucha workshop where we will teach you how to make this fermented tea as well as educate you about nutrition and the benefits of probiotics. Seats are limited\, so do book yours today! \nWhat is Kombucha?\nIt is a variety of fermented tea that is produced using a “Symbiotic Colony Of Bacteria and Yeast” (SCOBY). During the fermentation process\, enzymes\, amino acids\, organic acids (sometimes ethanol even)\, B vitamins\, vitamin C and probiotics are produced. Thus\, it is often consumed to help with general health by keeping a healthy gut. \n \n  \nWhat will you learn during this kombucha workshop?\nYou’ll learn the basics of how to make kombucha\, what to do and what NOT to do when brewing your kombucha. You will also get to taste a few various ‘flavours’ of kombucha. \n \nWhat will you bring home?\n\nStarter kit including your own SCOBY\nRecipe guide to kick off your kombucha experiments\n\nDue to space (and scoby breeding) constraints\, we only have 10 available seats for this workshop. \nDate: Fri\, 27 September 2019\nTime: 7.30 – 9.00pm\nVenue: Given upon registration\nCost: S$70 per person (includes materials) \nTo read what some of our past attendees have written about our workshop\, please click here. \n\nPhoto credits: Kombucha Chronicles and unsplash
URL:https://thewellnessinsider.asia/event/basic-kombucha-workshop-2/
ATTACH;FMTTYPE=image/jpeg:https://thewellnessinsider.asia/wp-content/uploads/2020/06/admin-ajax-2.jpeg
END:VEVENT
END:VCALENDAR