BEGIN:VCALENDAR
VERSION:2.0
PRODID:-//The Wellness Insider - ECPv6.15.20//NONSGML v1.0//EN
CALSCALE:GREGORIAN
METHOD:PUBLISH
X-ORIGINAL-URL:https://thewellnessinsider.asia
X-WR-CALDESC:Events for The Wellness Insider
REFRESH-INTERVAL;VALUE=DURATION:PT1H
X-Robots-Tag:noindex
X-PUBLISHED-TTL:PT1H
BEGIN:VTIMEZONE
TZID:Asia/Shanghai
BEGIN:STANDARD
TZOFFSETFROM:+0800
TZOFFSETTO:+0800
TZNAME:CST
DTSTART:20230101T000000
END:STANDARD
END:VTIMEZONE
BEGIN:VEVENT
DTSTART;TZID=Asia/Shanghai:20240518T093000
DTEND;TZID=Asia/Shanghai:20240518T113000
DTSTAMP:20260423T182709
CREATED:20240419T181417Z
LAST-MODIFIED:20240419T181417Z
UID:12668-1716024600-1716031800@thewellnessinsider.asia
SUMMARY:GOOD TIME FOR BED: SLEEP BETTER TONIGHT (Part I & II)
DESCRIPTION:Shan You Counselling Centre (SYCC) delivers counselling and psychotherapy for people with: \nStress\, mental health issues\, couple and family issues\, with or without chronic health conditions\, and also for caregivers\, across the lifespan. We serve everyone\, regardless of ethnic background\, religion and offer subsidised counselling where needed. \nA series of Mind-Body Public Education Talks and Workshops is lined up for you\, with the commitment to offer educational and effective strategies that improve the mental\, physical\, social and spiritual well-being of individuals\, couples and families in the community. \nThe Upcoming Talk and Workshop Series in English\, focuses on sleep improvement\, how to detect symptoms\, make sense of the disturbing symptoms when having trouble falling asleep\, staying asleep\, and what strategies to apply as well as how to work with your doctor and psychologist for better quality sleep. \nGood time for bed: Sleep better tonight (Part 1)\nIn this talk\, learn about: \n\nThe impact of insomnia: understand the comprehensive effects of poor sleep on personal well-being\, job performance and loved ones\nCauses and consequences: delve into the 6 common culprits of sleeplessness and how they exacerbate stress and health issues\nBlueprint for better sleep: discover the physiology of sleep and how to harness it for improved rest\nPractical tips and techniques: from sleep restriction therapy to extended exhalations\, learn 10 practical steps for achieving sleep success\n\nDate: 18 May 2024\nTime: 9.30am to 11.30am\nVenue: Shan You Counselling Centre\, Blk 5 Upper Boon Keng Road #02-15 Singapore 380005\nFees for TALK: S$20/pax (includes refreshment)\nFees for TALK and WORKSHOP: S$60/pax \nRegister and get a complimentary session with an experienced psychologist who works with insomnia. \nGood time for bed: Sleep better tonight (Part 2)\nDo you know which thinking habits might have crushed your natural sleep instinct? What do you need to know to weigh the pros and cons of using sleep medications? For mindfulness enthusiasts\, discover a tiny change to body scan to quicken your sleep process. How to channel worries into solutions and sleep through the night? How to benefit from short cut strategies for optimal sleep from scientific research. \nIn this workshop\, upskill yourself for sleep success: \n\nBeliefs that block or boost sleep\nSleep medication decisions: when to start taking or tapering off\nBody scan with a twist\nThe constructive worry solution\nThe proven Relaxation Response (RR) and cue controlled relief\nAutogenic Training (AT): the ultra brief version with the same power\n\nDate: 1 June 2024\nTime: 2pm to 5pm\nVenue: Shan You Counselling Centre\, Blk 5 Upper Boon Keng Road #02-15 Singapore 380005\nFees for WORKSHOP: S$50/pax (includes refreshments)\nFees for TALK and WORKSHOP: S$60/pax \nRegister and get a complimentary session with an experienced psychologist who works with insomnia. \nHow to register\nTo get your seat\, please register by emailing the below information to info@shanyou.org.sg or calling +65 67419293. \n\nContact number\nEmail address\nNo. of seats to reserve\n\n\nImage: Envato
URL:https://thewellnessinsider.asia/event/good-time-for-bed-sleep-better-tonight-part-i-ii/
LOCATION:Shan You Counselling Centre\, Blk 5 Upper Boon Keng Road #02-15\, Singapore\, 380005\, Singapore
CATEGORIES:Health,Lifestyle
ATTACH;FMTTYPE=image/png:https://thewellnessinsider.asia/wp-content/uploads/2020/05/climate-change-sleepless.png
ORGANIZER;CN="Shan You Counselling Centre":MAILTO:info@shanyou.org.sg
END:VEVENT
END:VCALENDAR