BEGIN:VCALENDAR
VERSION:2.0
PRODID:-//The Wellness Insider - ECPv6.15.20//NONSGML v1.0//EN
CALSCALE:GREGORIAN
METHOD:PUBLISH
X-ORIGINAL-URL:https://thewellnessinsider.asia
X-WR-CALDESC:Events for The Wellness Insider
REFRESH-INTERVAL;VALUE=DURATION:PT1H
X-Robots-Tag:noindex
X-PUBLISHED-TTL:PT1H
BEGIN:VTIMEZONE
TZID:Asia/Shanghai
BEGIN:STANDARD
TZOFFSETFROM:+0800
TZOFFSETTO:+0800
TZNAME:CST
DTSTART:20200101T000000
END:STANDARD
END:VTIMEZONE
BEGIN:VEVENT
DTSTART;TZID=Asia/Shanghai:20210309T183000
DTEND;TZID=Asia/Shanghai:20210309T193000
DTSTAMP:20260424T132531
CREATED:20210305T111758Z
LAST-MODIFIED:20210305T111758Z
UID:7029-1615314600-1615318200@thewellnessinsider.asia
SUMMARY:Glaucoma Diagnosis\, Tests & Treatments (Malay Webinar)
DESCRIPTION:World Glaucoma Week 2021 \n In conjunction with World Glaucoma Week 2021 observed from 7 – 13 March 2021\, the Singapore National Eye Centre (SNEC) will be organizing a series of educational activities for the public\, to raise awareness on glaucoma. The theme this year\, ‘The world is bright\, save your sight’\, hopes to inform the public that with regular eye checks\, people can continue to see the world around us in its beauty\, charm and adventure. \nThere will be free eye care webinar talks for the public to learn first-hand from eye doctors from SNEC\, Tan Tock Seng Hospital and National University Hospital on topics including glaucoma diagnosis\, tests and treatments and new models of care for patients. The webinars will be conducted in English\, Mandarin\, Malay and Tamil. As the eye care talks are held virtually online\, it offers everyone a chance to join in and learn more about the importance of eye care for a better quality of life. \nThe webinars are jointly organised by Singapore National Eye Centre and the eye departments of government restructured hospitals\, supported by The Glaucoma Association of Singapore. \nMalay Webinar\, 9 March 2021 \n\n\n\nTopic\nSpeaker\n\n\nGlaucoma Diagnosis\, Tests & Treatments\nDr Kiew Sieh Yean \nAssociate Consultant\,  Cataract & Comprehensive Ophthalmology Department @ Singapore National Eye Centre\n\n\nQuestion and Answer\n\n\n\nTo register for the Malay Webinar on 9 March\, please visit this link
URL:https://thewellnessinsider.asia/event/glaucoma-diagnosis-tests-treatments-malay-webinar/
LOCATION:Virtual
CATEGORIES:Health
END:VEVENT
BEGIN:VEVENT
DTSTART;TZID=Asia/Shanghai:20210310T183000
DTEND;TZID=Asia/Shanghai:20210310T193000
DTSTAMP:20260424T132531
CREATED:20210305T112450Z
LAST-MODIFIED:20210305T112450Z
UID:7032-1615401000-1615404600@thewellnessinsider.asia
SUMMARY:Glaucoma Diagnosis\, Tests & Treatment (Tamil Webinar)
DESCRIPTION:World Glaucoma Week 2021 \n In conjunction with World Glaucoma Week 2021 observed from 7 – 13 March 2021\, the Singapore National Eye Centre (SNEC) will be organizing a series of educational activities for the public\, to raise awareness on glaucoma. The theme this year\, ‘The world is bright\, save your sight’\, hopes to inform the public that with regular eye checks\, people can continue to see the world around us in its beauty\, charm and adventure. \nThere will be free eye care webinar talks for the public to learn first-hand from eye doctors from SNEC\, Tan Tock Seng Hospital and National University Hospital on topics including glaucoma diagnosis\, tests and treatments and new models of care for patients. The webinars will be conducted in English\, Mandarin\, Malay and Tamil. As the eye care talks are held virtually online\, it offers everyone a chance to join in and learn more about the importance of eye care for a better quality of life. \nThe webinars are jointly organised by Singapore National Eye Centre and the eye departments of government restructured hospitals\, supported by The Glaucoma Association of Singapore. \nTamil Webinar\, 10 March 2021 \n\n\n\nTopic\nSpeaker\n\n\nGlaucoma Diagnosis\, Tests & Treatments\nDr Jayant V Iyer \nConsultant\,  Glaucoma Department @ Singapore National Eye Centre\n\n\nQuestion and Answer\n\n\n\nTo register for the Tamil Webinar on 10 March\, please visit this link \n 
URL:https://thewellnessinsider.asia/event/glaucoma-diagnosis-tests-treatment-tamil-webinar/
LOCATION:Virtual
CATEGORIES:Health
END:VEVENT
BEGIN:VEVENT
DTSTART;TZID=Asia/Shanghai:20210311T183000
DTEND;TZID=Asia/Shanghai:20210311T193000
DTSTAMP:20260424T132531
CREATED:20210305T113053Z
LAST-MODIFIED:20210305T113053Z
UID:7035-1615487400-1615491000@thewellnessinsider.asia
SUMMARY:Telemedicine & Low Vision Services for Glaucoma Patients
DESCRIPTION:World Glaucoma Week 2021 \n In conjunction with World Glaucoma Week 2021 observed from 7 – 13 March 2021\, the Singapore National Eye Centre (SNEC) will be organizing a series of educational activities for the public\, to raise awareness on glaucoma. The theme this year\, ‘The world is bright\, save your sight’\, hopes to inform the public that with regular eye checks\, people can continue to see the world around us in its beauty\, charm and adventure. \nThere will be free eye care webinar talks for the public to learn first-hand from eye doctors from SNEC\, Tan Tock Seng Hospital and National University Hospital on topics including glaucoma diagnosis\, tests and treatments and new models of care for patients. The webinars will be conducted in English\, Mandarin\, Malay and Tamil. As the eye care talks are held virtually online\, it offers everyone a chance to join in and learn more about the importance of eye care for a better quality of life. \nThe webinars are jointly organised by Singapore National Eye Centre and the eye departments of government restructured hospitals\, supported by The Glaucoma Association of Singapore. \nEnglish Webinar\, 11 March 2021 \n\n\n\nTopic \nSpeaker\n\n\nWelcome\nClinical Assoc Prof Rahat Husain \nSenior Consultant\, Glaucoma Department @ Singapore National Eye Centre\n\n\nVirtual Clinics and Telemedicine\nDr Vivien Yap \nDeputy Head of Service (Glaucoma) & Consultant NHG Eye Institute @ Tan Tock Seng Hospital\n\n\nLow Vision Services for Glaucoma Patients\nDr Olivia Huang \nConsultant\, Glaucoma Department\n\n\nThe Patient Experience\nMs Noor Rizianah Ibrahim \n& \nMs Soo Hoo Wai Cheng \nNurse Clinic\, NHG Eye Institute @ Tan Tock Seng Hospital\n\n\n\nTo register for the English Webinar on 11 March\, please visit this link
URL:https://thewellnessinsider.asia/event/telemedicine-low-vision-services-for-glaucoma-patients/
LOCATION:Virtual
CATEGORIES:Health
END:VEVENT
BEGIN:VEVENT
DTSTART;TZID=Asia/Shanghai:20210313T090000
DTEND;TZID=Asia/Shanghai:20210313T100000
DTSTAMP:20260424T132531
CREATED:20210307T140248Z
LAST-MODIFIED:20210307T140516Z
UID:7038-1615626000-1615629600@thewellnessinsider.asia
SUMMARY:Glaucoma Diagnosis\, Tests & Treatments
DESCRIPTION:In conjunction with World Glaucoma Week 2021 observed from 7 – 13 March 2021\, the Singapore National Eye Centre (SNEC) will be organizing a series of educational activities for the public\, to raise awareness on glaucoma. The theme this year\, ‘The world is bright\, save your sight’\, hopes to inform the public that with regular eye checks\, people can continue to see the world around us in its beauty\, charm and adventure. \nThere will be free eye care webinar talks for the public to learn first-hand from eye doctors from SNEC\, Tan Tock Seng Hospital and National University Hospital on topics including glaucoma diagnosis\, tests and treatments and new models of care for patients. The webinars will be conducted in English\, Mandarin\, Malay and Tamil. As the eye care talks are held virtually online\, it offers everyone a chance to join in and learn more about the importance of eye care for a better quality of life. \nThe webinars are jointly organised by Singapore National Eye Centre and the eye departments of government restructured hospitals\, supported by The Glaucoma Association of Singapore. \n\n\n\nTopic\nSpeaker\n\n\nWelcome \n \nDr Rachel Chong \nConsultant\, Glaucoma Department @ Singapore National Eye Centre\n\n\nGlaucoma Diagnosis\, Tests & Treatments\nAssoc Prof Chelvin Sng \nSenior Consultant\, Department of Ophthalmology @ National University Hospital\n\n\nQuestion and Answer\nDr Bryan Ang \nConsultant\, NHG  Eye Institute @ Tan Tock Seng Hospital\n\n\n\nTo register for the English Webinar on 13 March\, please visit this link \n\nImage: Singapore National Eye Centre
URL:https://thewellnessinsider.asia/event/glaucoma-diagnosis-tests-treatments/
LOCATION:Virtual
CATEGORIES:Health
END:VEVENT
BEGIN:VEVENT
DTSTART;TZID=Asia/Shanghai:20210313T110000
DTEND;TZID=Asia/Shanghai:20210313T120000
DTSTAMP:20260424T132531
CREATED:20210307T141058Z
LAST-MODIFIED:20210307T141058Z
UID:7043-1615633200-1615636800@thewellnessinsider.asia
SUMMARY:青光眼的诊断，检查与治疗（中文讲座）
DESCRIPTION:In conjunction with World Glaucoma Week 2021 observed from 7 – 13 March 2021\, the Singapore National Eye Centre (SNEC) will be organizing a series of educational activities for the public\, to raise awareness on glaucoma. The theme this year\, ‘The world is bright\, save your sight’\, hopes to inform the public that with regular eye checks\, people can continue to see the world around us in its beauty\, charm and adventure. \nThere will be free eye care webinar talks for the public to learn first-hand from eye doctors from SNEC\, Tan Tock Seng Hospital and National University Hospital on topics including glaucoma diagnosis\, tests and treatments and new models of care for patients. The webinars will be conducted in English\, Mandarin\, Malay and Tamil. As the eye care talks are held virtually online\, it offers everyone a chance to join in and learn more about the importance of eye care for a better quality of life. \nThe webinars are jointly organised by Singapore National Eye Centre and the eye departments of government restructured hospitals\, supported by The Glaucoma Association of Singapore. \nMandarin Webinar\, 13 March 2021 \n\n\n\nTopic\nSpeaker\n\n\nWelcome\nDr Long Seng Chee \nHead of Glaucoma Service\, Department of Ophthalmology @ National University Hospital\n\n\nGlaucoma Diagnosis\, Tests & Treatments\nDr Vivien Yap \nDeputy Head of Service (Glaucoma) & Consultant NHG Eye Institute @ Tan Tock Seng Hospital\n\n\nQuestion and Answer\nDr Lee Yi Fang \nAssociate Consultant\, Cataract & Comprehensive Ophthalmology Department @ Singapore National Eye Centre\n\n\n\nTo register for the Mandarin Webinar on 13 March\, please visit this link \n\nImage: Singapore National Eye Centre
URL:https://thewellnessinsider.asia/event/%e9%9d%92%e5%85%89%e7%9c%bc%e7%9a%84%e8%af%8a%e6%96%ad%ef%bc%8c%e6%a3%80%e6%9f%a5%e4%b8%8e%e6%b2%bb%e7%96%97%ef%bc%88%e4%b8%ad%e6%96%87%e8%ae%b2%e5%ba%a7%ef%bc%89/
LOCATION:Virtual
CATEGORIES:Health
END:VEVENT
END:VCALENDAR