BEGIN:VCALENDAR
VERSION:2.0
PRODID:-//The Wellness Insider - ECPv6.15.20//NONSGML v1.0//EN
CALSCALE:GREGORIAN
METHOD:PUBLISH
X-WR-CALNAME:The Wellness Insider
X-ORIGINAL-URL:https://thewellnessinsider.asia
X-WR-CALDESC:Events for The Wellness Insider
REFRESH-INTERVAL;VALUE=DURATION:PT1H
X-Robots-Tag:noindex
X-PUBLISHED-TTL:PT1H
BEGIN:VTIMEZONE
TZID:Asia/Shanghai
BEGIN:STANDARD
TZOFFSETFROM:+0800
TZOFFSETTO:+0800
TZNAME:CST
DTSTART:20210101T000000
END:STANDARD
END:VTIMEZONE
BEGIN:VEVENT
DTSTART;VALUE=DATE:20220501
DTEND;VALUE=DATE:20220522
DTSTAMP:20260422T040442
CREATED:20220503T110247Z
LAST-MODIFIED:20220503T110247Z
UID:8509-1651363200-1653177599@thewellnessinsider.asia
SUMMARY:Cordlife 'We are Family' Charity Virtual Walkathon
DESCRIPTION:Building on the momentum to strengthen its familial ties with the community\, consumer healthcare company catering to families\, Cordlife Group Limited (“Cordlife” or the “Company” and together with its subsidiaries\, the “Group”) will be putting their best foot forward as they mark their 21 year milestone anniversary. By kickstarting their ‘We are Family’ Charity Virtual Walkathon in May 2022\, Cordlife will be cementing yet another collaboration within the community on this momentous occasion. \nTaking place from 1 to 21 May 2022\, Cordlife will be rallying families to come together to participate in a symbolic and meaningful Virtual Walkathon. In an ode to the spirit of family and togetherness\, all proceeds raise through the Virtual Walkathon will support Metta School\, whose curriculum offers special education for students aged 7 to 21 with mild intellectual disability and/or autism spectrum disorder (ASD). Cordlife has also pledged a donation that comprises of all the proceeds from the fund-raising initiative. \nHow to participate?\n\nThe charity Virtual Walkathon will take place from 1 to 21 May 2022 and comprises of a 2.1 kilometre walk that can be carried out via their preferred fitness app.\nTo verify the completion of the Virtual Walkathon\, participants will have to take a screenshot of the distance covered and upload it to their social media profile page.\nAll participants will stand a chance to win attractive prizes when they post a photo with the tags @cordlifesg #happybirthday. Participants must ensure that the photo posted is set to “Public” setting to be eligible.\nParticipants can register for the Virtual Walkathon at https://www.cordlife.com/sg/csr2022/ from 30 March to 30 April 2022.\nRegistration costs S$10/person and is limited to the first 500 registrations.\n\nTo recognise the efforts of participants and to honour the community’s contributions throughout the years\, Cordlife will also be organising a Virtual Birthday Party on 22 May 2022. Highlights of the virtual bash include games and attractive prizes\, with a Grand Prize of $2\,100 cash to be won\, and $210 cash for 21 lucky winners. \n\nImage: Cordlife
URL:https://thewellnessinsider.asia/event/cordlife-we-are-family-charity-virtual-walkathon/
LOCATION:Virtual
CATEGORIES:Fitness,Walks
ATTACH;FMTTYPE=image/png:https://thewellnessinsider.asia/wp-content/uploads/2022/05/Cordlife-Virtual-Walkathon-Celebrations_1400x468px.png
END:VEVENT
END:VCALENDAR