BEGIN:VCALENDAR
VERSION:2.0
PRODID:-//The Wellness Insider - ECPv6.15.20//NONSGML v1.0//EN
CALSCALE:GREGORIAN
METHOD:PUBLISH
X-WR-CALNAME:The Wellness Insider
X-ORIGINAL-URL:https://thewellnessinsider.asia
X-WR-CALDESC:Events for The Wellness Insider
REFRESH-INTERVAL;VALUE=DURATION:PT1H
X-Robots-Tag:noindex
X-PUBLISHED-TTL:PT1H
BEGIN:VTIMEZONE
TZID:Asia/Shanghai
BEGIN:STANDARD
TZOFFSETFROM:+0800
TZOFFSETTO:+0800
TZNAME:CST
DTSTART:20180101T000000
END:STANDARD
END:VTIMEZONE
BEGIN:VEVENT
DTSTART;VALUE=DATE:20191025
DTEND;VALUE=DATE:20191031
DTSTAMP:20260424T060907
CREATED:20190617T000011Z
LAST-MODIFIED:20200629T132208Z
UID:4368-1571961600-1572479999@thewellnessinsider.asia
SUMMARY:Empower Girls & Women Through a Run Across the Serengeti
DESCRIPTION:Following on the incredible success of the Serengeti Girls Run in 2018\, Singita and the Grumeti Fund are thrilled to announce that entries for the 2019 event are officially open. The all-women run forms part of Singita’s signature collection of conservation safaris called “Safaris With A Purpose\,” and is held in partnership with the Grumeti Fund to support the empowerment of girls and women in rural Tanzania. \n \nComprising five all-inclusive days at Singita Sabora Tented Camp\, this year’s itinerary includes a variety of activities and a run that will see participants complete 21 kilometres daily over 3 days\, traversing some of the most iconic wilderness areas in Africa. \nThe multi-stage event invites runners of all levels to cross the vast plains in Singita’s private concession in the western corridor of the Serengeti\, where they’ll encounter an abundance of wildlife and breathtaking scenery at every turn. They will be accompanied by expertly trained\, experienced anti-poaching scouts from the Grumeti Fund\, who’ll keep an eye out for curious animals\, while a support team in a shadow vehicle will be on hand to take care of their safety and comfort. \n \nThe event’s home base\, Singita Sabora Tented Camp\, is an intimate 1920s-inspired explorers camp that embodies the magic of a bygone era. Featuring opulent chandeliers\, Persian rugs and bowls filled with fresh roses\, it provides a space for the runners to rest and recuperate at the end of every day. \nThe exclusive\, purpose-driven experience is aimed at raising funds for empowerment programs for girls and women\, which are focused on providing opportunities for women to become leaders in conservation. Each donation assists in funding numerous non-profit initiatives\, including scholarships for local girls in secondary school\, vocational studies and university; training girl mentors and providing life skills and internships; as well as enterprise development training for women and environmental education for girls from local secondary schools. \n \nSerengeti Girls Run offers participants various opportunities to engage with the women who benefit from these programmes. The day after their arrival\, guests can join girls from the local community on a short 4km fun run\, followed by a career fair\, where they can share their own inspiring stories with hundreds of girls from neighbouring villages. \nDuring the five-night itinerary\, the participants will also visit the Grumeti Fund’s Environmental Education Center\, which hosts week-long courses for local students on conservation and minimising our impact on the Earth\, as well as an opportunity to meet the Fund’s anti-poaching team to find out how they preserve and protect the region’s critical ecosystem. \nThis year’s event will take place from October 25-30\, 2019. The experience costs US$8\,500 per person (single) or US$6\,000 per person (sharing) for the all-inclusive 5-night package\, including Grumeti Air return flights to Kilimanjaro; an additional tax-deductible donation to the Grumeti Fund of US$16\,500 per person (single) or US$9\,000 per person (sharing)\, used to fund empowerment programmes in the Serengeti. \nTo book your place\, email Katherine Cunliffe\, info@grumetifund.org or visit www.singita.com \n  \n\nPhotos: Singita
URL:https://thewellnessinsider.asia/event/empower-girls-women-through-a-run-across-the-serengeti/
CATEGORIES:Fitness,Runs
ATTACH;FMTTYPE=image/jpeg:https://thewellnessinsider.asia/wp-content/uploads/2020/06/girls_run_4.jpg
END:VEVENT
END:VCALENDAR