BEGIN:VCALENDAR
VERSION:2.0
PRODID:-//The Wellness Insider - ECPv6.15.20//NONSGML v1.0//EN
CALSCALE:GREGORIAN
METHOD:PUBLISH
X-ORIGINAL-URL:https://thewellnessinsider.asia
X-WR-CALDESC:Events for The Wellness Insider
REFRESH-INTERVAL;VALUE=DURATION:PT1H
X-Robots-Tag:noindex
X-PUBLISHED-TTL:PT1H
BEGIN:VTIMEZONE
TZID:Asia/Shanghai
BEGIN:STANDARD
TZOFFSETFROM:+0800
TZOFFSETTO:+0800
TZNAME:CST
DTSTART:20210101T000000
END:STANDARD
END:VTIMEZONE
BEGIN:VEVENT
DTSTART;TZID=Asia/Shanghai:20221203T163000
DTEND;TZID=Asia/Shanghai:20221203T193000
DTSTAMP:20260420T062545
CREATED:20221103T082739Z
LAST-MODIFIED:20221103T082739Z
UID:9485-1670085000-1670095800@thewellnessinsider.asia
SUMMARY:Run for Inclusion 2022
DESCRIPTION:Organised by Runninghour\, Run for Inclusion 2022 makes a grand return for its eighth edition as an in-person event. This year’s event will be held at Singapore Turf Club (STC) — Singapore’s oldest social horse racing club and the Corporate Partner for Run for Inclusion 2022. Gracing this year’s event as the Guest-of-Honour is President Halimah Yacob. \nRun for Inclusion is one of the largest inclusive mass running events in Singapore where participants run alongside Persons with Special Needs (PWSNs) who are that are hard of hearing\, physically\, visually and intellectually challenged and persons with autism or on mental recovery. The annual event aims to promote the integration of PWSNs into mainstream society. \nThe event features cycle\, run and walk categories where participants can choose varied distances according to their preference and ability. The categories include the personalised distance of up to 3km\, 3km or 5km run or walk\, 10km run and the 20km cycling category (which also comprises a tandem cycling category to cater for PWSNs). \nFollowing the tradition of previous years’ runs\, Run for Inclusion 2022 will continue to offer complimentary entries to all PWSNs and their caregivers (limited to one caregiver per PWSN) to encourage more PWSNs to participate in this event. These complimentary entries are made possible in partnership with Central Singapore Community Development Council under the ‘SoleMate’ programme. \nParticipants can also look forward to an exciting line-up of activities\, including a 16-metre inflatable obstacle course designed for children with special needs and a carnival. \nRace categories & registration\n\n\n\nRace Category\nThroughout Registration Period\nRegistration cost\n\n\nPWSN\nCaregiver (Max 1 per PWSN)\n\n\nPersonalised Distance\n(Below 3km)\nFOC\nFOC\nS$35\n\n\n3km Walk or Run\nFOC\nFOC\nS$35\n\n\n5km Walk or Run\nFOC\nFOC\nS$40\n\n\n10km Run\nFOC\nFOC\nS$45\n\n\n20km Cycling\n(Using your own bike and helmet)\nFOC\nFOC\nS$45\n\n\n20km Cycling\n(Require rental bike and helmet – provided at a fee of S$8)\nFOC\nFOC\nS$53\n\n\n\n*Complimentary slots will be offered to participants with special needs and a caregiver. \nDate: Saturday\, 3 December 2022\nTime: 4.30 to 7.30pm\nVenue: Singapore Turf Club \nTo register\, please visit https://www.runninghour.com/event-details/run-for-inclusion-2022. For enquiries\, please email raceinfo@runninghour.com.
URL:https://thewellnessinsider.asia/event/run-for-inclusion-2022/
LOCATION:Singapore Turf Club\, 1 Turf Club Ave\, Singapore\, 738078\, Singapore
CATEGORIES:Cycling,Fitness,Runs
ATTACH;FMTTYPE=image/png:https://thewellnessinsider.asia/wp-content/uploads/2022/11/Runninghour-RFI-2022-Poster.png
END:VEVENT
END:VCALENDAR