BEGIN:VCALENDAR
VERSION:2.0
PRODID:-//The Wellness Insider - ECPv6.15.20//NONSGML v1.0//EN
CALSCALE:GREGORIAN
METHOD:PUBLISH
X-ORIGINAL-URL:https://thewellnessinsider.asia
X-WR-CALDESC:Events for The Wellness Insider
REFRESH-INTERVAL;VALUE=DURATION:PT1H
X-Robots-Tag:noindex
X-PUBLISHED-TTL:PT1H
BEGIN:VTIMEZONE
TZID:Asia/Shanghai
BEGIN:STANDARD
TZOFFSETFROM:+0800
TZOFFSETTO:+0800
TZNAME:CST
DTSTART:20200101T000000
END:STANDARD
END:VTIMEZONE
BEGIN:VEVENT
DTSTART;VALUE=DATE:20211003
DTEND;VALUE=DATE:20211011
DTSTAMP:20260421T055223
CREATED:20210915T135512Z
LAST-MODIFIED:20210915T135512Z
UID:7759-1633219200-1633910399@thewellnessinsider.asia
SUMMARY:The Limitless Run 2021 - I Run For Hope
DESCRIPTION:The Limitless Run (TLR) is back and last year saw the funds raised to S$60\,015 which helped to provide about 1\,090 counselling sessions for youths in need of mental health treatment. \nThis year\, things have changed and your help is needed once more. With the recent incidents that have been happening\, Limitless is seeing more and more youths reaching out for help. Last year saw a total of 373 youths but as of the end of August 2021\, that number has risen to 650. \nThat’s staggering. It’s beyond anything that could’ve been planned for. And Limitless hasn’t been able to provide every one of them the help they deserve due to the lack of mental health professionals to meet the need. The numbers are expected to rise and there is a need to expand the clinical team to provide for that increase. \nBy participating in TLR 2021\, you will be helping to fund the increased costs required to meet the growing need for Limitless’ services and enable them to expand their clinical team. This will in turn allow them to help more youths who need mental health therapy. \nVirtual Run\nAll runners will be encouraged to use a running app to track and record their time and distance\, and the finisher’s medal will be sent after verification. Besides the finisher’s medal\, all participants will also be entitled to a race pack\, and runners in the 10km solo category are entitled to a race tee (which can also be purchased separately). \nRunners will also get access to masterclasses conducted by mental health professionals from 11-15 October 2021. \nRunners are also encouraged to help multiply their impact and will be given a toolkit to help fundraise within their own communities and on social media through giving.sg. \n \nThose who do not wish to run but would still like to support the cause\, they can choose to give at www.giving.sg/limitless/tlr2021 and all donations done there will be matched dollar-for-dollar by the government! \nTo sign up for the run\, please register at https://connect.justrunlah.com/virtual-challenge/the-limitless-run-2021/. \nFor more details about The Limitless Run 2021\, please visit www.limitless.sg/run. \n\nImages: Limitless
URL:https://thewellnessinsider.asia/event/the-limitless-run-2021-i-run-for-hope/
LOCATION:Virtual
CATEGORIES:Fitness,Runs
ATTACH;FMTTYPE=image/png:https://thewellnessinsider.asia/wp-content/uploads/2021/09/image002-1.png
END:VEVENT
END:VCALENDAR