BEGIN:VCALENDAR
VERSION:2.0
PRODID:-//The Wellness Insider - ECPv6.15.20//NONSGML v1.0//EN
CALSCALE:GREGORIAN
METHOD:PUBLISH
X-ORIGINAL-URL:https://thewellnessinsider.asia
X-WR-CALDESC:Events for The Wellness Insider
REFRESH-INTERVAL;VALUE=DURATION:PT1H
X-Robots-Tag:noindex
X-PUBLISHED-TTL:PT1H
BEGIN:VTIMEZONE
TZID:Asia/Shanghai
BEGIN:STANDARD
TZOFFSETFROM:+0800
TZOFFSETTO:+0800
TZNAME:CST
DTSTART:20190101T000000
END:STANDARD
END:VTIMEZONE
BEGIN:VEVENT
DTSTART;VALUE=DATE:20200928
DTEND;VALUE=DATE:20201011
DTSTAMP:20260420T133511
CREATED:20200928T072236Z
LAST-MODIFIED:20200928T072323Z
UID:5980-1601251200-1602374399@thewellnessinsider.asia
SUMMARY:Match for Life
DESCRIPTION:Bone Marrow Donor Programme (BMDP) is holding their annual flagship event this year. First launched in 2019 at Our Tampines Hub\, Match for Life aims to use the medium of sports to bring members of the community together to raise awareness on blood-related diseases and the importance of bone marrow donation. However\, unlike last year\, this year’s event will be fully virtual! \nIt Takes a Village to Save a Life\nWith the theme “It Takes a Village to Save a Life”\, MFL 2020 is pulling together fitness partners and renowned experts to hold sporting activities\, health-related webinars and social media activities. \nBesides using sports to support the vision and mission of the BMDP\,  the event also seeks to appreciate and recognise the contributions of doctors\, nurses\, families\, friends and partners who have worked around the clock to make transplants possible for patients. Indeed\, it takes more than one person to allow for a successful transplant to be made possible. \nWhat can I expect?\nThe planned activities aim to educate and entertain participants of all ages. Sessions will be held through Zoom and re-run of recorded videos will be streamed on YouTube Live to allow for a wider reach. Below is a schedule for your reference: \n \nHow do I register?\nVisit Match for Life’s webpage and sign up for their workout and webinar sessions. Registration is free\, so do invite all your friends and family to join you. Let’s stand united in our fight against blood diseases through exercise\, conversations on much-asked topics and so much more! \n\nImages ; Match for Life
URL:https://thewellnessinsider.asia/event/match-for-life/
CATEGORIES:Fitness,Lifestyle
ATTACH;FMTTYPE=image/png:https://thewellnessinsider.asia/wp-content/uploads/2020/09/MFL2020-Header.png
END:VEVENT
END:VCALENDAR