BEGIN:VCALENDAR
VERSION:2.0
PRODID:-//The Wellness Insider - ECPv6.15.20//NONSGML v1.0//EN
CALSCALE:GREGORIAN
METHOD:PUBLISH
X-ORIGINAL-URL:https://thewellnessinsider.asia
X-WR-CALDESC:Events for The Wellness Insider
REFRESH-INTERVAL;VALUE=DURATION:PT1H
X-Robots-Tag:noindex
X-PUBLISHED-TTL:PT1H
BEGIN:VTIMEZONE
TZID:Asia/Shanghai
BEGIN:STANDARD
TZOFFSETFROM:+0800
TZOFFSETTO:+0800
TZNAME:CST
DTSTART:20240101T000000
END:STANDARD
END:VTIMEZONE
BEGIN:VEVENT
DTSTART;TZID=Asia/Shanghai:20251119T120000
DTEND;TZID=Asia/Shanghai:20251119T130000
DTSTAMP:20260423T070955
CREATED:20250508T195920Z
LAST-MODIFIED:20250508T195920Z
UID:15782-1763553600-1763557200@thewellnessinsider.asia
SUMMARY:Gratitude in the Workplace: How Appreciation Drives Performance (FREE Lunch and Learn Virtual Event!)
DESCRIPTION:In this virtual one-hour talk\, we will explore the powerful effects of gratitude in the workplace and how fostering a culture of appreciation can lead to better performance and well-being. Learn how expressing gratitude enhances relationships\, increases motivation\, and creates a more positive work environment. We’ll cover practical strategies for showing appreciation to colleagues\, and how you can incorporate gratitude into your daily routine to foster connection and enhance team dynamics. \nI’m offering these lunchtime talks for free because I’ve seen the struggles of individuals\, especially clients who have difficulty attending evening events due to family\, work\, and other commitments. I believe in making personal and professional growth accessible to everyone\, regardless of their busy schedules. These lunchtime sessions are my way of giving back to the community. I’m also seeking sponsors who share these values and are committed to positively impacting people’s lives. \nThis is a free virtual talk lasting one hour. The recording will be available for 30 days to those who pre-register. Afterward\, the recording will be available for purchase\, and the slides will not be downloadable or for sale. Those wishing to receive AASECT CE credits can pay for them. You can type into the chat box during the session\, and we will mute everyone except during the Q&A session\, time permitting. Feel free to turn your video on or off. \nThis program meets the requirements of the American Association of Sexuality Educators\, Counselors\, and Therapists (AASECT) and is approved for 1 CE credit. These CE credits may be applied toward AASECT certification and renewal of certification. Completion of this program does not ensure or guarantee AASECT certification. For further information\, please contact info@aasect.org. \nAASECT Core Knowledge: O \nDate: Wed 19 Nov 2025  \nTime: 12 – 1p.m. Singapore time \nFee: Free/ S$25 for 1 AASECT CE point \nPlatform: Zoom \nLed by Dr. Martha Tara Lee\n\n\n\nDr. Martha Tara Lee has been a passionate advocate for positive sexuality since 2007. With a Doctorate in Human Sexuality and a Masters in Counseling\, she launched Eros Coaching in 2009 to help individuals and couples lead self-actualised and pleasurable lives. Her expertise includes working with couples who have unconsummated marriage\, individuals with sexual inhibitions and discrepancies in sexual desire\, men with erection and ejaculation concerns\, and members of the LGBTQIA+ and kink communities. Dr. Lee welcomes all sexual orientations and is available for online and face-to-face consultations. Martha speaks English and Mandarin. \nShe is the only certified sexuality educator by the American Association of Sexuality Educators\, Counselors and Therapists (AASECT) in the region (as of 2011) and is also an AASECT certified sexuality educator supervisor (as of 2018). She strives to provide fun\, educational\, and sex-positive events and is often cited in the media including Huffington Post\, Newsweek\, South China Morning Post\, and more. She is the appointed Resident Sexologist for Singapore Cancer Society\, Of Noah.sg\, OfZoey.sg\, and Virtus Fertility Centre. She is the host of radio show Eros Evolution for OMTimes Radio. In recognition of her work\, she was named one of ‘Top 50 Inspiring Women under 40’ by Her World in July 2010\, and one of ‘Top 100 Inspiring Women’ by CozyCot in March 2011. She is the author of Love\, Sex and Everything In-Between (2013)\,  Orgasmic Yoga: Masturbation\, Meditation and Everything In-Between (2015)\, From Princess to Queen: Heartbreaks\, Heartgasms and Everything In-Between (2017)\, and {Un}Inhihibited (2019). \nFor her full profile\, click here. Email her here.
URL:https://thewellnessinsider.asia/event/gratitude-in-the-workplace-how-appreciation-drives-performance-free-lunch-and-learn-virtual-event/
LOCATION:Virtual
CATEGORIES:Lifestyle,Mindfulness
END:VEVENT
BEGIN:VEVENT
DTSTART;TZID=Asia/Shanghai:20251216T120000
DTEND;TZID=Asia/Shanghai:20251216T123000
DTSTAMP:20260423T070955
CREATED:20250508T173423Z
LAST-MODIFIED:20250508T173423Z
UID:15802-1765886400-1765888200@thewellnessinsider.asia
SUMMARY:The Dark Side of Hybrid Work: Loneliness\, Isolation & Digital Burnout
DESCRIPTION:Why remote work isn’t always the dream and how to stay connected? \nHybrid work offers flexibility but also challenges\, including loneliness\, digital fatigue\, and weakened team dynamics. This 30-minute talk explores research-backed strategies for maintaining connection and well-being in hybrid workenvironments. \nKey takeaways: \n\nRecognizing the emotional and psychological impact of hybrid work\nManaging digital fatigue and work-life balance\nBuilding connections and combating loneliness\nEmployer and employee strategies for sustaining engagement\n\nJoin us to learn how to thrive in a hybrid work model without feeling disconnected or burned out. \nDate: Tues 16 Dec 2025 \nTime: 12:00 – 12:30p.m. Singapore Time \nPlatform: LinkedIn https://www.linkedin.com/company/underneaththemoon/ \nAbout Krish Phua\n\n\n\nKrish Phua is a registered Counsellor\, Psychotherapist\, and certified Clinical Supervisor specializing in Gender and Sexuality\, HIV and AIDS\, and Couple and Family Therapy. With over 10 years of experience in various settings\, Phua provides therapy for individuals\, couples\, families\, and groups. He also offers crisis management\, intervention\, and psychosocial support to marginalized communities. \nPhua holds a Master’s degree in Social Science (Professional Counselling) and is currently pursuing a PhD in Counselling Psychology. He is also an adjunct faculty / lecturer and a trainer in some educational institutions for adult learners. He is fluent in English\, Chinese\, and Cantonese. \nFor his full profile\, click here.
URL:https://thewellnessinsider.asia/event/the-dark-side-of-hybrid-work-loneliness-isolation-digital-burnout/
LOCATION:Virtual
CATEGORIES:Lifestyle,Mindfulness
ORGANIZER;CN="Underneath The Moon":MAILTO:info@underneaththemoon.com
END:VEVENT
BEGIN:VEVENT
DTSTART;TZID=Asia/Shanghai:20251217T120000
DTEND;TZID=Asia/Shanghai:20251217T133000
DTSTAMP:20260423T070955
CREATED:20250508T200022Z
LAST-MODIFIED:20250508T200022Z
UID:15784-1765972800-1765978200@thewellnessinsider.asia
SUMMARY:Reflect\, Reset\, and Recharge: Preparing for the Year Ahead (FREE Lunch and Learn Virtual Event!)
DESCRIPTION:In this virtual one-hour talk\, we will reflect on the past year and prepare ourselves mentally and emotionally for the year ahead. Learn how to reset your goals\, recharge your energy\, and enter the new year with intention and focus. We’ll discuss how to overcome challenges and create a plan for growth\, wellness\, and success. By the end of this session\, you’ll have actionable strategies for starting the new year with a refreshed mindset and a renewed sense of purpose. \nI’m offering these lunchtime talks for free because I’ve seen the struggles of individuals\, especially clients who have difficulty attending evening events due to family\, work\, and other commitments. I believe in making personal and professional growth accessible to everyone\, regardless of their busy schedules. These lunchtime sessions are my way of giving back to the community. I’m also seeking sponsors who share these values and are committed to positively impacting people’s lives. \nThis is a free virtual talk lasting one hour. The recording will be available for 30 days to those who pre-register. Afterward\, the recording will be available for purchase\, and the slides will not be downloadable or for sale. Those wishing to receive AASECT CE credits can pay for them. You can type into the chat box during the session\, and we will mute everyone except during the Q&A session\, time permitting. Feel free to turn your video on or off. \nThis program meets the requirements of the American Association of Sexuality Educators\, Counselors\, and Therapists (AASECT) and is approved for 1 CE credit. These CE credits may be applied toward AASECT certification and renewal of certification. Completion of this program does not ensure or guarantee AASECT certification. For further information\, please contact info@aasect.org. \nAASECT Core Knowledge: M \nDate: Wed 17 Dec 2025  \nTime: 12 – 1p.m. Singapore time \nFee: Free/ S$25 for 1 AASECT CE point \nPlatform: Zoom \nLed by Dr. Martha Tara Lee\n\n\n\nDr. Martha Tara Lee has been a passionate advocate for positive sexuality since 2007. With a Doctorate in Human Sexuality and a Masters in Counseling\, she launched Eros Coaching in 2009 to help individuals and couples lead self-actualised and pleasurable lives. Her expertise includes working with couples who have unconsummated marriage\, individuals with sexual inhibitions and discrepancies in sexual desire\, men with erection and ejaculation concerns\, and members of the LGBTQIA+ and kink communities. Dr. Lee welcomes all sexual orientations and is available for online and face-to-face consultations. Martha speaks English and Mandarin. \nShe is the only certified sexuality educator by the American Association of Sexuality Educators\, Counselors and Therapists (AASECT) in the region (as of 2011) and is also an AASECT certified sexuality educator supervisor (as of 2018). She strives to provide fun\, educational\, and sex-positive events and is often cited in the media including Huffington Post\, Newsweek\, South China Morning Post\, and more. She is the appointed Resident Sexologist for Singapore Cancer Society\, Of Noah.sg\, OfZoey.sg\, and Virtus Fertility Centre. She is the host of radio show Eros Evolution for OMTimes Radio. In recognition of her work\, she was named one of ‘Top 50 Inspiring Women under 40’ by Her World in July 2010\, and one of ‘Top 100 Inspiring Women’ by CozyCot in March 2011. She is the author of Love\, Sex and Everything In-Between (2013)\,  Orgasmic Yoga: Masturbation\, Meditation and Everything In-Between (2015)\, From Princess to Queen: Heartbreaks\, Heartgasms and Everything In-Between (2017)\, and {Un}Inhihibited (2019). \nFor her full profile\, click here. Email her here.
URL:https://thewellnessinsider.asia/event/reflect-reset-and-recharge-preparing-for-the-year-ahead-free-lunch-and-learn-virtual-event/
LOCATION:Virtual
CATEGORIES:Lifestyle,Mindfulness
END:VEVENT
END:VCALENDAR