BEGIN:VCALENDAR
VERSION:2.0
PRODID:-//The Wellness Insider - ECPv6.15.20//NONSGML v1.0//EN
CALSCALE:GREGORIAN
METHOD:PUBLISH
X-ORIGINAL-URL:https://thewellnessinsider.asia
X-WR-CALDESC:Events for The Wellness Insider
REFRESH-INTERVAL;VALUE=DURATION:PT1H
X-Robots-Tag:noindex
X-PUBLISHED-TTL:PT1H
BEGIN:VTIMEZONE
TZID:Asia/Shanghai
BEGIN:STANDARD
TZOFFSETFROM:+0800
TZOFFSETTO:+0800
TZNAME:CST
DTSTART:20240101T000000
END:STANDARD
END:VTIMEZONE
BEGIN:VEVENT
DTSTART;TZID=Asia/Shanghai:20251014T120000
DTEND;TZID=Asia/Shanghai:20251014T123000
DTSTAMP:20260422T193853
CREATED:20250508T194943Z
LAST-MODIFIED:20250508T194943Z
UID:15800-1760443200-1760445000@thewellnessinsider.asia
SUMMARY:The Art of Saying No at Work: Setting Boundaries Without Guilt
DESCRIPTION:Practical ways to say no without damaging your career. \nMany employees struggle to say no at work\, leading to stress and overcommitment. This 30-minute talk teaches assertiveness skills to set boundaries while maintaining professionalism. \nKey takeaways: \n\nUnderstanding the importance of workplace boundaries\nHow to say no with confidence and professionalism\nStrategies to protect time and mental well-being\nOvercoming guilt and fear of repercussions\n\nJoin us to master the art of saying no while keeping your career and well-being intact. \nDate: Tues 14 Oct 2025 \nTime: 12:00 – 12:30p.m. Singapore Time \nPlatform: LinkedIn https://www.linkedin.com/company/underneaththemoon/ \nAbout Krish Phua\n\n\n\nKrish Phua is a registered Counsellor\, Psychotherapist\, and certified Clinical Supervisor specializing in Gender and Sexuality\, HIV and AIDS\, and Couple and Family Therapy. With over 10 years of experience in various settings\, Phua provides therapy for individuals\, couples\, families\, and groups. He also offers crisis management\, intervention\, and psychosocial support to marginalized communities. \nPhua holds a Master’s degree in Social Science (Professional Counselling) and is currently pursuing a PhD in Counselling Psychology. He is also an adjunct faculty / lecturer and a trainer in some educational institutions for adult learners. He is fluent in English\, Chinese\, and Cantonese. \nFor his full profile\, click here.
URL:https://thewellnessinsider.asia/event/the-art-of-saying-no-at-work-setting-boundaries-without-guilt/
LOCATION:Virtual
CATEGORIES:Lifestyle,Mindfulness
ORGANIZER;CN="Underneath The Moon":MAILTO:info@underneaththemoon.com
END:VEVENT
BEGIN:VEVENT
DTSTART;VALUE=DATE:20251023
DTEND;VALUE=DATE:20251028
DTSTAMP:20260422T193853
CREATED:20250820T170821Z
LAST-MODIFIED:20250821T152649Z
UID:16588-1761177600-1761609599@thewellnessinsider.asia
SUMMARY:5 Day Journey of Personal Transformation Retreat in Ubud\, Bali
DESCRIPTION:Summary of the retreat\nMore than just a retreat\, this intimate 5–8 person journey offers personalized healing through a curated blend of meditation\, sound therapy\, and practical tools for lasting growth. \nEach day builds on the last—beginning with grounding under the stars in a soothing sound bath\, moving through deep healing and mindset shifts\, and culminating in full integration of your new energy so you can step confidently into the future you envision. \n \nThe Retreat Experience\nFive Days to Renew\, Realign and Rise\nOver five transformative days in the lush beauty of Ubud\, you’ll journey through grounding\, healing\, self-awareness\, and integration — supported by a small\, intimate group of like-minded souls. \nThis is more than just a retreat; it’s a carefully curated experience designed to nourish your body\, awaken your mind\, and open your heart\, with practical tools to carry your growth forward long after you leave Bali. \nThe Essence of This Retreat\nThis journey blends the best of mind-body-spirit renewal: yoga\, meditation\, healing therapies\, creative expression\, and cultural dining experiences\, thoughtfully balanced with personal space for rest and reflection. \nYou’ll leave rejuvenated and equipped with actionable tools and practices\, from self-hypnosis to reflective journaling\, to help your transformation flourish in everyday life. \nBenefits\n\n\nTransformative Personal Growth Through Curated Healing Practices\n\n\nImmerse in Nature for Inner Peace and Clarity\n\n\nBuild Lifelong Connections with Like-Minded Individuals\n\n\nBalanced Approach to Mind\, Body\, and Spirit Practices\n\n\nAccess to Unique Workshops and Transformative Learning\n\n\nReceive Personalized Attention and Tailored Healing Sessions\n\n\nRecharge and De-Stress in a Serene Environment\n\n\nNourishing Meals Focused on Health and Wellness\n\n\nEmpower Yourself Through Mindfulness and Meditation Techniques\n\n\nIndulge in Cultural and Healing Experiences Unique to Bali\n\n\n\nWhat Makes This Retreat Special\nJoin us for “A Journey of Personal Transformation\,” a 5-day\, 4-night retreat in Ubud\, Bali\, from 23–27 October 2025. \nLimited to 5–8 participants\, this intimate experience is thoughtfully curated for deep healing\, expanded awareness\, and sustainable growth\, a journey of reconnecting with self\, nature\, and meaningful knowledge that supports transformation not just during the retreat but well beyond it. \nWhat makes this retreat unique: \n\nIntimate group (5 to 8 participants) for a deeply personal experience\nCurated program blending learning\, restoration\, and creative expression\nLed by two experienced healers with corporate backgrounds\, combining practical insight with deep holistic practices\nPersonalized 1:1 healing\, plus group meditations and sound baths\nActionable tools for integration\, including a self-hypnosis script\, reflective journaling\, or continued growth\n\nEach day weaves together guided meditation\, breathwork\, reflective practices\, and creating space for self-discovery and integration. \n \nWhat’s included in the package\n\n\n\nAirport Pickup & Drop-off\n\n\n\n4 nights accommodation\n\n\n3 daily delicious and nutritious meals\n\n\nWater\, tea\, coffee served throughout the day\n\n\nWelcome drink\n\n\nDaily yoga classes\n\n\nDaily meditation classes\n\n\nDaily pranayama classes\n\n\nTwo massages\n\n\nPersonalized 1-1 energetic healing with the organizers\n\n\nSound bath under the stars\n\n\nSpecialized workshops\n\n\nGroup excursions/activities\n\n\nPre and post retreat support from our team\n\n\nTransportation during the retreat\n\n\nWifi connection\n\n\nWhat’s NOT included in the package\n\n\nFlights costs\n\n\nTravel insurance\n\n\nVisa fee\n\n\nAdditional treatments\n\n\nOptional Upgrades\n\n\nHypnotheraphy\n\n\nCard Reading\n\n\nSound Healing\n\n\nCost of basic package is SGD 2\,800 per person and a deposit of SGD 437 is required upon booking\, with free cancellation by 23 September 2025. \nFor the full programme and to book this retreat\, please visit https://www.heartnsolejourneys.com/retreats-overview \n\nImages: Heart n Sole Journeys
URL:https://thewellnessinsider.asia/event/5-day-journey-of-personal-transformation-retreat-in-ubud-bali/
LOCATION:Ubud\, Bali\, Ubud\, Bali\, Indonesia
CATEGORIES:Lifestyle,Meditation,Mindfulness,Yoga
ATTACH;FMTTYPE=image/jpeg:https://thewellnessinsider.asia/wp-content/uploads/2025/08/Ubud-retreat-villa-outside.jpeg
ORGANIZER;CN="Heart n Sole Journeys Pte Ltd":MAILTO:heartnsolejourneys@gmail.com
END:VEVENT
END:VCALENDAR