BEGIN:VCALENDAR
VERSION:2.0
PRODID:-//The Wellness Insider - ECPv6.15.20//NONSGML v1.0//EN
CALSCALE:GREGORIAN
METHOD:PUBLISH
X-ORIGINAL-URL:https://thewellnessinsider.asia
X-WR-CALDESC:Events for The Wellness Insider
REFRESH-INTERVAL;VALUE=DURATION:PT1H
X-Robots-Tag:noindex
X-PUBLISHED-TTL:PT1H
BEGIN:VTIMEZONE
TZID:Asia/Shanghai
BEGIN:STANDARD
TZOFFSETFROM:+0800
TZOFFSETTO:+0800
TZNAME:CST
DTSTART:20240101T000000
END:STANDARD
END:VTIMEZONE
BEGIN:VEVENT
DTSTART;TZID=Asia/Shanghai:20250812T120000
DTEND;TZID=Asia/Shanghai:20250812T123000
DTSTAMP:20260422T225421
CREATED:20250508T195852Z
LAST-MODIFIED:20250508T195852Z
UID:15795-1755000000-1755001800@thewellnessinsider.asia
SUMMARY:The Burnout Recovery Plan: Rebuilding Your Energy & Motivation
DESCRIPTION:What to do when stress turns into exhaustion? \nBurnout affects mental health\, job satisfaction\, and overall productivity. This 30-minute talk delves into the signs of burnout and science-backed recovery strategies. \nKey takeaways: \n\nIdentifying early signs of burnout\nUnderstanding the difference between stress and burnout\nPractical steps to recover energy and motivation\nBuilding sustainable habits for long-term well-being\n\nJoin us to gain actionable insights on how to recharge and prevent burnout from derailing your career. \nDate: Tues 12 Aug 2025 \nTime: 12:00 – 12:30p.m. Singapore Time \nPlatform: LinkedIn https://www.linkedin.com/company/underneaththemoon/ \nAbout Krish Phua\n\n\n\nKrish Phua is a registered Counsellor\, Psychotherapist\, and certified Clinical Supervisor specializing in Gender and Sexuality\, HIV and AIDS\, and Couple and Family Therapy. With over 10 years of experience in various settings\, Phua provides therapy for individuals\, couples\, families\, and groups. He also offers crisis management\, intervention\, and psychosocial support to marginalized communities. \nPhua holds a Master’s degree in Social Science (Professional Counselling) and is currently pursuing a PhD in Counselling Psychology. He is also an adjunct faculty / lecturer and a trainer in some educational institutions for adult learners. He is fluent in English\, Chinese\, and Cantonese. \nFor his full profile\, click here.
URL:https://thewellnessinsider.asia/event/the-burnout-recovery-plan-rebuilding-your-energy-motivation/
LOCATION:Virtual
CATEGORIES:Lifestyle,Mindfulness
ORGANIZER;CN="Underneath The Moon":MAILTO:info@underneaththemoon.com
END:VEVENT
END:VCALENDAR