BEGIN:VCALENDAR
VERSION:2.0
PRODID:-//The Wellness Insider - ECPv6.15.20//NONSGML v1.0//EN
CALSCALE:GREGORIAN
METHOD:PUBLISH
X-ORIGINAL-URL:https://thewellnessinsider.asia
X-WR-CALDESC:Events for The Wellness Insider
REFRESH-INTERVAL;VALUE=DURATION:PT1H
X-Robots-Tag:noindex
X-PUBLISHED-TTL:PT1H
BEGIN:VTIMEZONE
TZID:Asia/Shanghai
BEGIN:STANDARD
TZOFFSETFROM:+0800
TZOFFSETTO:+0800
TZNAME:CST
DTSTART:20240101T000000
END:STANDARD
END:VTIMEZONE
BEGIN:VEVENT
DTSTART;TZID=Asia/Shanghai:20250610T210000
DTEND;TZID=Asia/Shanghai:20250610T220000
DTSTAMP:20260423T021757
CREATED:20250508T195229Z
LAST-MODIFIED:20250508T195229Z
UID:15791-1749589200-1749592800@thewellnessinsider.asia
SUMMARY:FREE A.M.A. Ask Me Anything with Senior Counsellor Krish Phua
DESCRIPTION:Join Our FREE Virtual Ask-Me-Anything Session! 🌟\nIn this informal and engaging session\, Senior Counsellor Krish Phua\, specializes in relationships and intimacy\, will answer your questions about love\, sex\, and everything in between!  \nTopics Covered: \n\nLove ❤️\nSex and… 🔥\nAnything In-Between! 🌈\n\nThis session will be interactive\, intimate\, and personal—an opportunity to ask those questions you’ve been curious about but hesitant to voice.  \nSession Highlights:\n\nSafety and Confidentiality: Your privacy is our top priority. ️\nNon-Judgmental Environment: We foster respect and positivity. \nAsk Anything: No question is off-limits. \n\nCommonly Asked Questions:\nIs female ejaculation real?  \n\n\n\nIs it normal to masturbate? \nHow often should couples have sex? \n\n\n\n… What is your question? 🤔 \nInclusive Space: We welcome everyone—regardless of gender\, sexual orientation\, or ability.🌟 \n\nAll emotions and experiences are valid. Please note this session is not a substitute for psychotherapy or intensive therapy. \nPre-Submit Your Questions: Submit your questions at least 24 hours before the scheduled session to ensure we cover them! Your anonymity will be maintained. \nWe’ll start with pre-submitted questions and then move on to live queries. Feel free to message us privately or in the group chat during the session. \n\nDate: Tues 10 June 2025 \nTime: 9:00 – 10:00p.m. Singapore Time \nPlatform: Zoom \nPlease ask your question using this link. \nDon’t miss this chance to get the answers you’ve been seeking! \nAbout Krish Phua\n\n\n\nKrish Phua is a registered Counsellor\, Psychotherapist\, and certified Clinical Supervisor specializing in Gender and Sexuality\, HIV and AIDS\, and Couple and Family Therapy. With over 10 years of experience in various settings\, Phua provides therapy for individuals\, couples\, families\, and groups. He also offers crisis management\, intervention\, and psychosocial support to marginalized communities. \nPhua holds a Master’s degree in Social Science (Professional Counselling) and is currently pursuing a PhD in Counselling Psychology. He is also an adjunct faculty / lecturer and a trainer in some educational institutions for adult learners. He is fluent in English\, Chinese\, and Cantonese. \nFor his full profile\, click here.
URL:https://thewellnessinsider.asia/event/free-a-m-a-ask-me-anything-with-senior-counsellor-krish-phua/
LOCATION:Virtual
CATEGORIES:Lifestyle,Mindfulness,Relationships,Sexuality
END:VEVENT
BEGIN:VEVENT
DTSTART;TZID=Asia/Shanghai:20250617T120000
DTEND;TZID=Asia/Shanghai:20250617T123000
DTSTAMP:20260423T021757
CREATED:20250508T195318Z
LAST-MODIFIED:20250508T195318Z
UID:15793-1750161600-1750163400@thewellnessinsider.asia
SUMMARY:Dealing with Workplace Anxiety: Managing Fear\, Stress & Self-Doubt (on LinkedIn Live!)
DESCRIPTION:Workplace anxiety can hinder performance\, relationships\, and career growth. This 30-minute talk explores common triggers and evidence-based copingstrategies for managing stress and self-doubt at work. \nKey takeaways: \n\nRecognizing the signs and causes of workplace anxiety\nEffective stress management techniques\nBuilding confidence and resilience at work\nCommunicating effectively under pressure\n\nJoin us to discover practical ways to stay calm and focused in high-pressure work environments. \nDate: Tues 17 Jun 2025 \nTime: 12:00 – 12:30p.m. Singapore Time \nPlatform: LinkedIn https://www.linkedin.com/company/underneaththemoon/ \nAbout Krish Phua\n\n\n\nKrish Phua is a registered Counsellor\, Psychotherapist\, and certified Clinical Supervisor specializing in Gender and Sexuality\, HIV and AIDS\, and Couple and Family Therapy. With over 10 years of experience in various settings\, Phua provides therapy for individuals\, couples\, families\, and groups. He also offers crisis management\, intervention\, and psychosocial support to marginalized communities. \nPhua holds a Master’s degree in Social Science (Professional Counselling) and is currently pursuing a PhD in Counselling Psychology. He is also an adjunct faculty / lecturer and a trainer in some educational institutions for adult learners. He is fluent in English\, Chinese\, and Cantonese. \nFor his full profile\, click here.
URL:https://thewellnessinsider.asia/event/dealing-with-workplace-anxiety-managing-fear-stress-self-doubt-on-linkedin-live/
LOCATION:Virtual
CATEGORIES:Lifestyle,Mindfulness
ORGANIZER;CN="Underneath The Moon":MAILTO:info@underneaththemoon.com
END:VEVENT
BEGIN:VEVENT
DTSTART;TZID=Asia/Shanghai:20250618T120000
DTEND;TZID=Asia/Shanghai:20250618T130000
DTSTAMP:20260423T021757
CREATED:20250508T195028Z
LAST-MODIFIED:20250508T195028Z
UID:15772-1750248000-1750251600@thewellnessinsider.asia
SUMMARY:Navigating Conflict: Mastering Difficult Conversations at Work (FREE Lunch and Learn Virtual Event!)
DESCRIPTION:How do you handle conflict when it arises in the workplace? In this virtual one-hour talk\, we will equip you with essential conflict-resolution skills to approach challenging conversations with confidence and empathy. We’ll break down techniques for de-escalating tense situations and ensuring that discussions remain productive and respectful. Discover how to turn disagreements into opportunities for growth and collaboration\, rather than confrontation. By understanding the dynamics of conflict and communication\, you’ll learn how to foster healthier\, more effective relationships with colleagues. \nI’m offering these lunchtime talks for free because I’ve seen the struggles of individuals\, especially clients who have difficulty attending evening events due to family\, work\, and other commitments. I believe in making personal and professional growth accessible to everyone\, regardless of their busy schedules. These lunchtime sessions are my way of giving back to the community. I’m also seeking sponsors who share these values and are committed to positively impacting people’s lives. \nThis is a free virtual talk lasting one hour. The recording will be available for 30 days to those who pre-register. Afterward\, the recording will be available for purchase\, and the slides will not be downloadable or for sale. Those wishing to receive AASECT CE credits can pay for them. You can type into the chat box during the session\, and we will mute everyone except during the Q&A session\, time permitting. Feel free to turn your video on or off. \nThis program meets the requirements of the American Association of Sexuality Educators\, Counselors\, and Therapists (AASECT) and is approved for 1 CE credit. These CE credits may be applied toward AASECT certification and renewal of certification. Completion of this program does not ensure or guarantee AASECT certification. For further information\, please contact info@aasect.org. \nAASECT Core Knowledge: O \nDate: Wed 18 June 2025  \nTime: 12 – 1p.m. Singapore time \nFee: Free/ S$25 for 1 AASECT CE point \nPlatform: Zoom \nLed by Dr. Martha Tara Lee\n\n\n\nDr. Martha Tara Lee has been a passionate advocate for positive sexuality since 2007. With a Doctorate in Human Sexuality and a Masters in Counseling\, she launched Eros Coaching in 2009 to help individuals and couples lead self-actualised and pleasurable lives. Her expertise includes working with couples who have unconsummated marriage\, individuals with sexual inhibitions and discrepancies in sexual desire\, men with erection and ejaculation concerns\, and members of the LGBTQIA+ and kink communities. Dr. Lee welcomes all sexual orientations and is available for online and face-to-face consultations. Martha speaks English and Mandarin. \nShe is the only certified sexuality educator by the American Association of Sexuality Educators\, Counselors and Therapists (AASECT) in the region (as of 2011) and is also an AASECT certified sexuality educator supervisor (as of 2018). She strives to provide fun\, educational\, and sex-positive events and is often cited in the media including Huffington Post\, Newsweek\, South China Morning Post\, and more. She is the appointed Resident Sexologist for Singapore Cancer Society\, Of Noah.sg\, OfZoey.sg\, and Virtus Fertility Centre. She is the host of radio show Eros Evolution for OMTimes Radio. In recognition of her work\, she was named one of ‘Top 50 Inspiring Women under 40’ by Her World in July 2010\, and one of ‘Top 100 Inspiring Women’ by CozyCot in March 2011. She is the author of Love\, Sex and Everything In-Between (2013)\,  Orgasmic Yoga: Masturbation\, Meditation and Everything In-Between (2015)\, From Princess to Queen: Heartbreaks\, Heartgasms and Everything In-Between (2017)\, and {Un}Inhihibited (2019). \nFor her full profile\, click here. Email her here.
URL:https://thewellnessinsider.asia/event/navigating-conflict-mastering-difficult-conversations-at-work-free-lunch-and-learn-virtual-event/
LOCATION:Virtual
CATEGORIES:Lifestyle,Mindfulness
END:VEVENT
END:VCALENDAR