BEGIN:VCALENDAR
VERSION:2.0
PRODID:-//The Wellness Insider - ECPv6.15.20//NONSGML v1.0//EN
CALSCALE:GREGORIAN
METHOD:PUBLISH
X-ORIGINAL-URL:https://thewellnessinsider.asia
X-WR-CALDESC:Events for The Wellness Insider
REFRESH-INTERVAL;VALUE=DURATION:PT1H
X-Robots-Tag:noindex
X-PUBLISHED-TTL:PT1H
BEGIN:VTIMEZONE
TZID:Asia/Shanghai
BEGIN:STANDARD
TZOFFSETFROM:+0800
TZOFFSETTO:+0800
TZNAME:CST
DTSTART:20230101T000000
END:STANDARD
END:VTIMEZONE
BEGIN:VEVENT
DTSTART;VALUE=DATE:20240705
DTEND;VALUE=DATE:20240708
DTSTAMP:20260423T200153
CREATED:20240525T035512Z
LAST-MODIFIED:20240525T035512Z
UID:12806-1720137600-1720396799@thewellnessinsider.asia
SUMMARY:Rejuvenate and Reconnect: Cover Projects Presents a Wellness Retreat Festival 2024
DESCRIPTION:Nestled within the colourful historical district of Balestier\, The Initial invites guests to embark on a transformative journey of self-care and rejuvenation during its wellness weekend retreat as part of the Singapore Wellness Festival 2024. From 5 to 7 July\,\nparticipants can immerse themselves in various activities dedicated to the mind\, body\, and soul. \nWith programmes that are suitable for beginners\, the retreat offers knowledgeable workshops and classes that aim to provide a starting point for participants to kickstart their wellness journey. \nAs a pioneering co-living serviced residence\, The Initial offers a haven where urban living meets personalised experiences. Its partnership with the Singapore Tourism Board underscores its commitment to being involved in and part of the community where it operates. \nA retreat for the mind and body\n\n\n\n\n\n\n\n\n\n\nEmbark on a journey of self-care and rejuvenation during The Initial’s weekend retreat. Over three days and two nights\, guests can engage in a thoughtfully curated selection of activities to nurture mental and physical well-being. \nFrom immersive skincare and decluttering workshops to invigorating yoga sessions and mindfulness classes\, every moment is designed to instil a sense of balance and inspire personal growth among guests. Explore the rich cultural tapestry of Balestier through guided tours and indulge in private one-on-one wellness sessions tailored to individual needs. \nMs Anne Teng\, a guest instructor and sound healing therapist from Healing Harmonies\, shares\, “If you’re seeking a break from the hustle and bustle of daily life\, Healing Harmonies offers the perfect escape. Our group sound bath sessions are designed to soothe your tired body and mind. Join us and immerse yourself in an experience that leaves you feeling relaxed\, grounded\, rejuvenated\, and ready to start the week ahead.” \nNourishing creations\, for your heart and soul\n\n\n\n\n\n\n\n\n\n\n\nDuring the retreat\, guests are welcome to indulge in a culinary journey that nourishes both body and soul. The Initial’s dedicated in-house chef will prepare nourishing meals with meticulous care\, reflecting its commitment to holistic wellness. \nFrom wholesome breakfast spreads to hearty dinners\, each dish is specifically curated to fulfil and nourish — a core component often overlooked in wellness. Additionally\, guests are invited to unwind by joining mocktail classes\, offering a refreshing and rejuvenating way to complement their wellness experience. \nCap off this rejuvenating weekend retreat experience at The Initial with a visit to a bazaar on Sunday\, 7 July\, at Thank You Come Again (TYCA)\, a bistro nestled within The Initial which not only provides refreshments but also a co-working and event space for the community. Kicking off at 11.30am for participants and open to the public at 1pm\, this vibrant marketplace will showcase a diverse array of offerings from our supporting vendors and local artisans\, adding an extra layer of excitement and discovery to your journey of self-care and exploration. Our vendors from Kalm Organise and Oh Hello Bae will also be offering wellness products during the bazaar. \nBrowse through unique handmade crafts\, artisanal goods\, and one-of-a-kind treasures\, each telling its own story and inviting participants to connect with the rich tapestry of local culture and creativity. Whether you’re seeking a special memento to commemorate your retreat experience or simply looking to support talented craftsmen and women\, the bazaar promises to be a highlight of your weekend. Drop by the bazaar as The Initial celebrates community\, creativity\, and connection. \nMr Lim Keong Wee\, Co-Founder and Director of Cover Projects\, said\, “At The Initial\, we are thrilled to unveil our weekend wellness retreat\, curated to offer a sanctuary of tranquillity and rejuvenation. In today’s fast-paced world\, prioritising self-care is essential. Our retreat provides a harmonious blend of serene surroundings\, mindful practices\, and expert guidance to restore balance and nourish the mind\, body\, and soul. We invite all seekers of inner peace to join us on this transformative journey towards holistic well-being. Our retreat offers a unique opportunity to pause\, recharge\, and reconnect with oneself amidst the bustling rhythms of urban life.” \nInterested participants will get to enjoy a special early bird pricing until 8 June. We eagerly await your presence to guide you on your path towards wellness and inner peace in pursuit of wellness and joy. \nFor more information on The Initial’s Wellness Weekend Retreat\, you may visit the website here and make your bookings here. \n\nImages: The Initial x Cover Projects
URL:https://thewellnessinsider.asia/event/rejuvenate-and-reconnect-cover-projects-presents-a-wellness-retreat-festival-2024/
LOCATION:The Initial\, 355 Balestier Road\, Singapore\, 329782\, Singapore
CATEGORIES:Food & Dining,Mindfulness,Yoga
ATTACH;FMTTYPE=image/jpeg:https://thewellnessinsider.asia/wp-content/uploads/2024/05/image-2.jpeg
END:VEVENT
END:VCALENDAR