BEGIN:VCALENDAR
VERSION:2.0
PRODID:-//The Wellness Insider - ECPv6.15.20//NONSGML v1.0//EN
CALSCALE:GREGORIAN
METHOD:PUBLISH
X-WR-CALNAME:The Wellness Insider
X-ORIGINAL-URL:https://thewellnessinsider.asia
X-WR-CALDESC:Events for The Wellness Insider
REFRESH-INTERVAL;VALUE=DURATION:PT1H
X-Robots-Tag:noindex
X-PUBLISHED-TTL:PT1H
BEGIN:VTIMEZONE
TZID:Asia/Shanghai
BEGIN:DAYLIGHT
TZOFFSETFROM:+0800
TZOFFSETTO:+0900
TZNAME:CDT
DTSTART:19860503T180000
END:DAYLIGHT
BEGIN:STANDARD
TZOFFSETFROM:+0900
TZOFFSETTO:+0800
TZNAME:CST
DTSTART:19860913T170000
END:STANDARD
BEGIN:DAYLIGHT
TZOFFSETFROM:+0800
TZOFFSETTO:+0900
TZNAME:CDT
DTSTART:19870411T180000
END:DAYLIGHT
BEGIN:STANDARD
TZOFFSETFROM:+0900
TZOFFSETTO:+0800
TZNAME:CST
DTSTART:19870912T170000
END:STANDARD
BEGIN:DAYLIGHT
TZOFFSETFROM:+0800
TZOFFSETTO:+0900
TZNAME:CDT
DTSTART:19880416T180000
END:DAYLIGHT
BEGIN:STANDARD
TZOFFSETFROM:+0900
TZOFFSETTO:+0800
TZNAME:CST
DTSTART:19880910T170000
END:STANDARD
BEGIN:DAYLIGHT
TZOFFSETFROM:+0800
TZOFFSETTO:+0900
TZNAME:CDT
DTSTART:19890415T180000
END:DAYLIGHT
BEGIN:STANDARD
TZOFFSETFROM:+0900
TZOFFSETTO:+0800
TZNAME:CST
DTSTART:19890916T170000
END:STANDARD
BEGIN:DAYLIGHT
TZOFFSETFROM:+0800
TZOFFSETTO:+0900
TZNAME:CDT
DTSTART:19900414T180000
END:DAYLIGHT
BEGIN:STANDARD
TZOFFSETFROM:+0900
TZOFFSETTO:+0800
TZNAME:CST
DTSTART:19900915T170000
END:STANDARD
BEGIN:DAYLIGHT
TZOFFSETFROM:+0800
TZOFFSETTO:+0900
TZNAME:CDT
DTSTART:19910413T180000
END:DAYLIGHT
BEGIN:STANDARD
TZOFFSETFROM:+0900
TZOFFSETTO:+0800
TZNAME:CST
DTSTART:19910914T170000
END:STANDARD
END:VTIMEZONE
BEGIN:VEVENT
DTSTART;TZID=Asia/Shanghai:20260426T004740
DTEND;TZID=Asia/Shanghai:20240316T173000
DTSTAMP:20260426T004740
CREATED:20240322T111531Z
LAST-MODIFIED:20240322T111531Z
UID:12262-0-1710610200@thewellnessinsider.asia
SUMMARY:Virtual: Break The Wall of Silence – An Interactive Talk by Anju Kish
DESCRIPTION:Break The Wall of Silence – An Interactive Talk by Anju Kish\, Sex Educator\, Author\, Founder\, UnTaboo\nParenting does not come with a user manual! \n\nMy child likes to run around naked in the house. Till what age is that ok?\nMy child saw my sanitary napkins and asked what it is. What shall I say?\nMy child is asking how does the baby get into the mother’s tummy?\nChild sexual abuse cases are on the rise. How can I protect my little one?\nIs it ok for my child to see the parents being physically affectionate?\nMy child is playing with his private parts\, should I stop him?\n\nAs the kids grow… so does their curiosity. \n\nHow do the Parents tackle this curiousity?\nDo you initiate the conversation even if the child is not asking?\nWhen and how to start having these conversations?\nWho should have this conversation with the child?\nHow to answer the awkward questions kids ask?\nHow to create an open relationship with kids?\n\nAll this and more…. \nIn an exclusive talk for parents on Zoom. \nThe increasing exposure of Kids to adult content has raised their curiosity levels \nSome openly ask what’s on their mind while most turn to the internet to satisfy their curiosity. \nAge-inappropriate content on the internet is creating havoc \nThe solution lies in Sex Education  \nIt gives kids age-appropriate answers & helps them form responsible & safe attitudes \nThe term ‘Sex Education’ could be a scary one for a parent. \nWe are scared because we do not understand what it means & construe it to be a talk on sex with our children\, and thus run away from it. Parents also shy away from sex education as they themselves lack clarity on concepts & feel ill equipped to tackle questions. \nSex education is not just about sex. It is a wide term and even kids as young as 2 need sex education! \nWell\, attend UnTaboo’s highly enlightening\, interactive\, impactful & fun session! \nBREAK THE WALL OF SILENCE \nTo know & to understand: \n\nWhat all does Sex Education cover\nWhen & how to start having these conversations\nWho should have this conversation with the kids\nHow much is enough\nThe impact: positive & negative of having or not having this conversation.\nHow to answer the awkward questions kids ask\nHow to create an open relationship with kids & teens\nHow to become an askable parent\n\nBut it doesn’t just end there. \n\nThe talk helps you get over your inhibitions\nEnables understanding on various sex-ed related topics including gender\, sexuality\, & more\nIt empowers you to naturally talk to children & create a closer bond with them\n\nThis session is designed to break down walls\, understand concepts\, enable open conversations\, make awkward subjects not so awkward\, and put a parent on the path of becoming an askable parent. It is a liberating experience both for the parent and the child. \nAnd most importantly\, makes you a part of big social change to raise a more aware and responsible future generation\, leading to a safer society. \nDuration of the Talk: 2 hours – VERY INTERACTIVE SESSION USING AUDIO-VISUAL MEDIUM \nNumber of Participants:  Any number (Parents of children aged 2 to 21) \nHappy participants speak… \n“I thought I was very liberal and open minded and could talk openly to my kids\, but Anju’s talk opened my eyes to a completely new perspective. It’s an extremely impactful talk and she makes it super interactive and fun!” – Aneesha Patel\, Indore \n “The talk conducted by Anju Kish was able to bring clarity in the minds of teachers and parents and dispel a lot of myths. It was an eye-opener of how ignorant they were on certain issues and at the same time a great exposure on how to handle queries on such issues. Ms. Anju handled the sessions with ease and great poise. A great session and thoroughly enjoyed by everyone.” – Garimaa Sethi – School Counselor\, Mayo College\, Ajmer \nDate: Sat 16 March 2024 \nTime: 4 – 5:30p.m. SGT \nPlatform: Zoom \nInvestment: S$25 \nThis session will not be recorded.
URL:https://thewellnessinsider.asia/event/virtual-break-the-wall-of-silence-an-interactive-talk-by-anju-kish/
LOCATION:Virtual
CATEGORIES:Lifestyle,Parenthood
ORGANIZER;CN="Martha Lee":MAILTO:drmarthalee@eroscoaching.com
END:VEVENT
END:VCALENDAR