BEGIN:VCALENDAR
VERSION:2.0
PRODID:-//The Wellness Insider - ECPv6.15.20//NONSGML v1.0//EN
CALSCALE:GREGORIAN
METHOD:PUBLISH
X-ORIGINAL-URL:https://thewellnessinsider.asia
X-WR-CALDESC:Events for The Wellness Insider
REFRESH-INTERVAL;VALUE=DURATION:PT1H
X-Robots-Tag:noindex
X-PUBLISHED-TTL:PT1H
BEGIN:VTIMEZONE
TZID:Asia/Shanghai
BEGIN:STANDARD
TZOFFSETFROM:+0800
TZOFFSETTO:+0800
TZNAME:CST
DTSTART:20240101T000000
END:STANDARD
END:VTIMEZONE
BEGIN:VEVENT
DTSTART;TZID=Asia/Shanghai:20250706T070000
DTEND;TZID=Asia/Shanghai:20250706T130000
DTSTAMP:20260420T090426
CREATED:20250603T091029Z
LAST-MODIFIED:20250604T034207Z
UID:16304-1751785200-1751806800@thewellnessinsider.asia
SUMMARY:SYNC. Festival 2025
DESCRIPTION:Registration Now Open for SYNC. Festival at Yishun: Singapore’s first community wellness festival inspired by seven types of rest and sustainable living. \nAgainst the backdrop of rising stress and eco-anxiety in Singapore\, Tzu-Chi Foundation (Singapore) is proud to introduce SYNC. Festival – a uniquely integrated celebration of holistic well-being and sustainable living. \nOpen to members of the public\, this half-day gathering invites attendees to Pause\, Realign\, and Reset through immersive wellness activities and a community fun run. \nEvent Details:\n🧘🏻‍♂️What: SYNC. Festival 2025\n🗓️ When: 6 July 2025\, Sunday\, 7.00am to 1.00pm\n📍 Where: Tzu Chi Humanistic Youth Centre\, 30A Yishun Central 1\, Singapore 768796\n🎉 Highlights: \n\n\n\nFAM WALK\nAn invigorating 3km casual walk through the scenic heartland of Yishun while you relax\, connect with yourself and loved ones\, and embrace the beauty of nature. \nAge: 3 years old and above \nTime: 8:00am – 9:30am \nFee: S$15\n\n\nYOUTH QUEST\nAn adrenaline-filled adventure for young adults aged between 21 and 30\, where they will navigate seven dynamic stations\, each designed to test both their physical and mental strength! \nAge: 21 to 30 years old \nTime: 8:40am – 11:30am \nFee: S$20\n\n\nSYNC. VILLAGE\nActivities featuring immersive experiences that highlight the seven essential types of rest – from creative to sensory. \n*Exclusively for participants of Fam Walk and Youth Quest. \n  \nTime: 9:00am – 1:00pm\n\n\n\nWho Should Attend: Wellness seekers\, families\, eco-conscious individuals\, changemakers\, and anyone seeking inspiration to live more mindfully. \nFor more details and registration information\, please visit: https://syncfestival.sg/ \n\nImage: SYNC. Festival
URL:https://thewellnessinsider.asia/event/sync-festival-2025/
LOCATION:Tzu Chi Humanistic Youth Centre\, 30A Yishun Central 1\, Singapore\, 768796\, Singapore
CATEGORIES:Lifestyle,Mindfulness,Walks
ATTACH;FMTTYPE=image/png:https://thewellnessinsider.asia/wp-content/uploads/2025/06/SYNC.-Festival_Main-Poster.png
END:VEVENT
END:VCALENDAR