BEGIN:VCALENDAR
VERSION:2.0
PRODID:-//The Wellness Insider - ECPv6.15.20//NONSGML v1.0//EN
CALSCALE:GREGORIAN
METHOD:PUBLISH
X-ORIGINAL-URL:https://thewellnessinsider.asia
X-WR-CALDESC:Events for The Wellness Insider
REFRESH-INTERVAL;VALUE=DURATION:PT1H
X-Robots-Tag:noindex
X-PUBLISHED-TTL:PT1H
BEGIN:VTIMEZONE
TZID:Asia/Shanghai
BEGIN:STANDARD
TZOFFSETFROM:+0800
TZOFFSETTO:+0800
TZNAME:CST
DTSTART:20250101T000000
END:STANDARD
END:VTIMEZONE
BEGIN:VEVENT
DTSTART;TZID=Asia/Shanghai:20260607T060000
DTEND;TZID=Asia/Shanghai:20260607T110000
DTSTAMP:20260422T103614
CREATED:20260421T071715Z
LAST-MODIFIED:20260421T071839Z
UID:17652-1780812000-1780830000@thewellnessinsider.asia
SUMMARY:Skechers Friendship Walk and Run 2026 Singapore Returns to Marina Barrage This June
DESCRIPTION:The Skechers Friendship Walk and Run 2026 Singapore returns for its ninth edition on 7 June 2026 at Marina Barrage\, bringing together families\, casual walkers\, and competitive runners for a shared day of movement. \nDesigned to be accessible across age groups and fitness levels\, the annual event continues to attract participants looking for a social and purposeful way to stay active. Beyond the physical challenge\, the event also supports a meaningful cause: Skechers will donate S$2 to APSN for every successful sign-up\, helping fund programmes that empower individuals with mild intellectual disabilities through education\, training\, and employment support. \nChoose Between a 5KM Leisure Walk or 10KM Competitive Run\nParticipants can register under two main categories depending on their preferred pace and experience level. \nThe 10KM Competitive Individual Run is suited for runners aiming to push performance goals and challenge their endurance. \nMeanwhile\, the 5KM Leisure Walk offers a more relaxed option ideal for families\, couples\, and friends. This category supports multiple participation formats\, including individual\, buddy\, and family registrations\, making it especially suitable for multi-generational participation. \n \nExclusive Race Packs and Early Bird Registration Opportunities\nThis year’s event introduces two limited performance shoe race pack categories\, available to the first 50 participants in each option: \n\n5KM Walk Performance Shoes Pack featuring Skechers Hands Free Slip-ins®: Max Cushioning® Glide-Step®\n10KM Run Performance Shoes Pack featuring SKX® AERO Burst or SKX® AERO Spark running shoes\n\nEarly bird pricing is available for the first 500 participants\, encouraging early registration before popular categories reach capacity. \nAll registered participants will also receive a race pack valued at approximately S$80\, including: \n\nOfficial event tee\nRace bib\nSkechers discount voucher\nPerformance footwear (for selected performance pack categories)\n\nFinishers will receive a commemorative medal upon completion. \n \nRace Village Activities and Lucky Draw Highlights\nThe event experience extends beyond the walk and run routes. \nParticipants and visitors can explore the Race Village\, which will feature live stage entertainment\, interactive games\, and photo-friendly installations throughout the day. \nThe annual lucky draw will also return\, with prizes including: \n\nFirst prize: one year’s supply of Skechers footwear\nSecond to fifth prizes: two pairs of Skechers footwear each\nSixth to tenth prizes: Skechers apparel sets\n\nCash prizes will additionally be awarded to top finishers in both the men’s and women’s competitive run categories. \nEvent Details: Skechers Friendship Walk and Run 2026 Singapore\nEvent: Skechers Friendship Walk and Run 2026 SingaporeDate: 7 June 2026Venue: Marina Barrage\, SingaporeCategories: \n\n10KM Competitive Individual Run\n5KM Leisure Walk (Individual / Buddy / Family)Registration closing date: 24 May 2026Entry fees: From S$25 to S$120Early bird promotion: Available for first 500 sign-upsCharity component: S$2 donated to APSN per participantRace pack includes: Event tee\, race bib\, voucher\, and selected footwear (performance pack categories)\n\n\nImages: Skechers Singapore
URL:https://thewellnessinsider.asia/event/skechers-friendship-walk-and-run-2026/
LOCATION:Marina Barrage
CATEGORIES:Fitness,Runs,Walks
ATTACH;FMTTYPE=image/jpeg:https://thewellnessinsider.asia/wp-content/uploads/2026/04/Skechers-Fun-Walk-and-Run-2026.jpg
END:VEVENT
BEGIN:VEVENT
DTSTART;TZID=Asia/Shanghai:20260613T080000
DTEND;TZID=Asia/Shanghai:20260614T170000
DTSTAMP:20260422T103614
CREATED:20260401T062548Z
LAST-MODIFIED:20260401T062548Z
UID:17503-1781337600-1781456400@thewellnessinsider.asia
SUMMARY:Great Green Run 2026
DESCRIPTION:Great Green Run 2026 Returns to Marina Barrage with Sustainable Race Experiences and Green Bazaar\nThe Great Green Run 2026 Singapore returns for its third edition this June\, bringing together fitness\, sustainability and community participation in a race experience designed to encourage environmental responsibility alongside healthy living. \nOrganised by Modellscape and TRI-FACTOR\, the event continues to position itself as more than a typical running event. Instead\, it aims to inspire participants to adopt greener lifestyle habits while engaging in activities that support climate awareness and social impact. \nThis year’s edition is part of Singapore’s wider Go Green 2026 initiative\, reinforcing the run’s alignment with national sustainability goals and community-driven environmental action. \nA Run Designed Around Sustainability\nParticipants can choose from three race categories — a 10km run\, 5km run and an 800m parent-child dash — making the event accessible to runners of different ages and experience levels. \nIn line with its sustainability theme\, finishers will receive plantable medals\, encouraging runners to continue their environmental contribution even after race day. \nThe event also introduces The Hive\, a new interactive activity inspired by the run’s bee mascot. Designed as an educational engagement space\, it highlights biodiversity awareness and the importance of pollinators through hands-on experiences. \nGreen Bazaar Returns with Two Days of Eco-Friendly Shopping\nBeyond the race itself\, visitors can explore the Green Bazaar\, a sustainability-focused marketplace taking place across two days. Featuring more than 60 stalls\, the bazaar offers a mix of pre-loved fashion\, accessories\, handcrafted goods and food vendors\, creating a lively community platform centred around conscious consumption. \nThe marketplace complements the run’s broader goal of encouraging environmentally responsible lifestyle choices beyond the running route. \nSupporting Climate Action Through Community Participation\nThe Great Green Run continues to bring together runners\, sustainability advocates and organisations with a shared goal of building a greener future. The event also supports Singapore’s Green Plan 2030 and contributes to broader global sustainability objectives through community engagement initiatives. \nIn addition\, small and medium-sized enterprises can benefit from a sustainability initiative supported by the Singapore Manufacturing Federation\, with up to 50 SMEs eligible to receive complimentary carbon footprint reports as part of the programme. \nEvent Details\nEvent: Great Green Run 2026 SingaporeDate: 14 June 2026Venue: Marina Barrage\, SingaporeRace Flag-off Times:• 10km — 7:45am• 5km — 8:30am• 800m Parent-Child Dash — 9:15am \nTicket Prices:• 10km — From S$58• 5km — From S$48• 800m Parent-Child Dash — S$66 per pair \nGreen Bazaar:13–14 June 2026 \nBazaar Opening Hours:Saturday: 9:00am – 7:00pmSunday: 7:00am – 7:00pm \nSign-up Link:https://www.greatgreenrun.com/ \n\nImages: Great Green Run
URL:https://thewellnessinsider.asia/event/great-green-run-2026/
LOCATION:Marina Barrage
CATEGORIES:Runs
ATTACH;FMTTYPE=image/jpeg:https://thewellnessinsider.asia/wp-content/uploads/2026/04/GGR26-KV-scaled.jpg
END:VEVENT
END:VCALENDAR