BEGIN:VCALENDAR
VERSION:2.0
PRODID:-//The Wellness Insider - ECPv6.15.20//NONSGML v1.0//EN
CALSCALE:GREGORIAN
METHOD:PUBLISH
X-ORIGINAL-URL:https://thewellnessinsider.asia
X-WR-CALDESC:Events for The Wellness Insider
REFRESH-INTERVAL;VALUE=DURATION:PT1H
X-Robots-Tag:noindex
X-PUBLISHED-TTL:PT1H
BEGIN:VTIMEZONE
TZID:Asia/Shanghai
BEGIN:STANDARD
TZOFFSETFROM:+0800
TZOFFSETTO:+0800
TZNAME:CST
DTSTART:20170101T000000
END:STANDARD
END:VTIMEZONE
BEGIN:VEVENT
DTSTART;TZID=Asia/Shanghai:20180225T080000
DTEND;TZID=Asia/Shanghai:20180304T090000
DTSTAMP:20260420T090119
CREATED:20180219T020821Z
LAST-MODIFIED:20200608T062257Z
UID:3064-1519545600-1520154000@thewellnessinsider.asia
SUMMARY:Yoga in the Park
DESCRIPTION:All proceeds of this session will go towards supporting Lamu Centre of Preventive Health (LCPH) – a non-profit organisation that provides free preventive healthcare to the most impoverished peoples of Lamu\, coastal Kenya. Kenya. All services are free of charge for patients. \nLCPH’s primary focus is on health screening and education toward the prevention of chronic diseases such as diabetes\, hypertension\, and cancers\, which are increasingly prevalent among coastal Kenyans\, they want all patients to have access to long term medicaid services. Some of these services are either cost prohibitive or otherwise unavailable in Lamu County. \nThe LCPH board\, which oversees the clinic and is responsible for fundraising for the clinic\, is based in Bloomington\, Illinois\, USA. \nAll contributions go directly to enhancing the healthcare services that LCPH provides to the Lamu community. Your contribution will go towards operational costs of the clinic\, medical equipment\, medicines\, educational materials as well healthcare workers’ salaries. Some medical equipment that can really help out clinics are these cpap cleaning wipes in ellsworth wi.  \nFor more information about LCPH\, please head to: http://www.lamuhealth.org/Index/Home.html \nThis class is taught by: Kathy Gabriel \nImportant Information: \nBy signing up for this POP UP class\, it is taken that you have understood and accepted the terms in the release and waiver of liability here: \n\n\n\nExperience includes:\n\n\nEnjoy a yoga session while being able to contribute to a meaningful cause\nA unique yoga experience in fun\, random locations around the island\nMeet likeminded individuals who want to share a practice with you\nExplore Singapore in a unique way\n\nPrice: S$15 per person\nDates: Sundays\, 25th February and 4th March\nTime: 8 to 9am\nVenue: Singapore Botanic Gardens (exact location will be given upon registration) \nTo register\, please click here. \n\n\n\nPhoto credits: Funzing \n 
URL:https://thewellnessinsider.asia/event/yoga-in-the-park/
LOCATION:Singapore Botanic Gardens
CATEGORIES:Fitness,Yoga
ATTACH;FMTTYPE=image/jpeg:https://thewellnessinsider.asia/wp-content/uploads/2020/06/Pop-Up-Yoga.jpg
END:VEVENT
BEGIN:VEVENT
DTSTART;TZID=Asia/Shanghai:20180207T080000
DTEND;TZID=Asia/Shanghai:20180228T100000
DTSTAMP:20260420T090119
CREATED:20180202T073255Z
LAST-MODIFIED:20200606T073603Z
UID:2966-1517990400-1519812000@thewellnessinsider.asia
SUMMARY:Suspension - Body Weight Workout
DESCRIPTION:This workout is a form of suspension training bodyweight exercise that helps to develop strength\, balance\, flexibility and core stability simultaneously. \nIt requires the use of the suspension trainer\, a portable performance training tool that leverages gravity and the user’s body weight to complete hundreds of exercises. \n\n\n\nExperience includes:\n\nBody weight workout\nSuspension training\nflexibility\, core stability\, endurance\n\nSuitable for all gender\, ages and fitness background with friendly and professional instructors. \nDates & Times: \n\n\n\nWed\, 7th\, 14th\, 21st or 28th February\n8 to 9pm\n\n\n Thu\, 8th\, 15th or 22nd February\n9 to 10am\n\n\n\nPrice: S$20 per person\nVenue: EQUIP Fitness\, Bukit Timah Plaza (exact address will be given upon registration. \nTo register\, please click here. \n\nPhoto credits: Funzing  \n\n 
URL:https://thewellnessinsider.asia/event/suspension-body-weight-workout/
LOCATION:EQUIP Fitness\, Bukit Timah Plaza
CATEGORIES:Fitness
ATTACH;FMTTYPE=image/jpeg:https://thewellnessinsider.asia/wp-content/uploads/2020/06/suspension-workout.jpg
END:VEVENT
BEGIN:VEVENT
DTSTART;TZID=Asia/Shanghai:20180201T080000
DTEND;TZID=Asia/Shanghai:20180228T090000
DTSTAMP:20260420T090119
CREATED:20180126T072039Z
LAST-MODIFIED:20200606T072443Z
UID:2950-1517472000-1519808400@thewellnessinsider.asia
SUMMARY:Anti-Aging Yoga with Mookaite Jasper
DESCRIPTION:I don’t think anyone like the effects of aging on the body. While age does affect you in various ways\, there’s a lot you can do to limit the impact on your body.\n\nA new study has confirmed the link of regular yoga practice to an increase in two key substances linked to youth and longevity: Growth hormone (GH) and dehydroepiandrosterone sulphate (DHEAS).\n\nAt ANTI-AGING Yoga| Mookaite Jasper\, yogis work into a deep\, slow breathing and meditative practice along with a variety of inverted yoga positions where blood flows to the face\, brain and upper body.\n\nPracticing inversions is considered equivalent to dipping into the Fountain of Youth. Inversions done with elongated\, slow breathing regularly can do wonders.\n\nEvery yogi is also paired with a Mookaite Jasper crystal within 3 feet of their surroundings (Electromagnetic Field). \nWorking and Balancing with Crystals:\nCrystals are a particular form of mineral with a molecular structure that is fixed\, with a regular repeating geometric pattern. \n\nAmongst the most ordered and stable matter in the universe\, and like everything on Earth\, crystals vibrate at a specific frequency.\n\nDue to their stability\, they’re able to maintain this specific frequency and transmit energy being used in all ways\, from ensuring watches keep time (thanks to quartz in them) to helping run computers (the silicon in silicon chip is a crystal\, too). \n\nAnd we believe that this ability to keep things ticking in harmony is why crystals have such healing powers when it comes to our wellbeing.\n\n \nAbout Mookaite Jasper:\nAn Australian stone of bold\, earthy-beauty originating from the Aboriginal tribes of the area\, mookaite is considered to be a mother earth stone- that is\, helps the wearer connect to the electromagnetic frequencies of the earth. From the quartz family as many types of jasper are\, it is a rare stone found only in the Kennedy Ranges of Western Australia in the outcroppings of Mooka Creek. \nEmbracing the power of an ageless spirit\, the energy of this crystal does not over stimulate the body and helps to raise the vibrations of your physical body and to recognise and release negative belief patterns concerned with physical degeneration and aging\, thus reducing the process of physical aging while keeping one young in spirit. \n\nHaving this Mookaite Jasper on you or within your electromagnetic field (3 feet surrounding you)\, raises your vibrational level by refracting and reflecting light into your auric field.\n\n\nAssociated Chakras:\n– Base Root\n– Solar Plexus\n– Third Eye\nPhysical Ailment:\n– Anti-Aging\nEmotional Issue:\n– Release of Belief Patterns\nSpritual Connections:\n– Connection to Mother Earth\n– Raising Ones Energetic VibrationsSo while you can’t stop the passage of time\, you can use the combination of these tools at our ANTI-AGING Yoga| Mookaite Jasper class held every Thursday to slow down the aging-process indefinitely.Come with an open heart\, and create an all-around happier\, healthier YOU.\n\n\n\nExperience includes:\n\n1 hour of ANTI-AGING Yoga\nNon-invasive & Holistic approach to Anti-Aging\nUnderstanding Anti-Aging through Inversions\, Dhyana\, Pranayama & Chakra\nPrivate Al-Fresco zen training ground\n\n\n\n\nDates: Every Thursday in February\nVenue: To be given upon successful registration\n\nTo register\, please click here.\n\n\n\nPhoto credits: Funzing and Pixabay
URL:https://thewellnessinsider.asia/event/anti-aging-yoga-with-mookaite-jasper/
CATEGORIES:Fitness,Yoga
ATTACH;FMTTYPE=image/jpeg:https://thewellnessinsider.asia/wp-content/uploads/2020/06/2017_11_15_07_41_32_____uhPbhu_847.jpg
END:VEVENT
END:VCALENDAR