BEGIN:VCALENDAR
VERSION:2.0
PRODID:-//The Wellness Insider - ECPv6.15.20//NONSGML v1.0//EN
CALSCALE:GREGORIAN
METHOD:PUBLISH
X-ORIGINAL-URL:https://thewellnessinsider.asia
X-WR-CALDESC:Events for The Wellness Insider
REFRESH-INTERVAL;VALUE=DURATION:PT1H
X-Robots-Tag:noindex
X-PUBLISHED-TTL:PT1H
BEGIN:VTIMEZONE
TZID:Asia/Shanghai
BEGIN:STANDARD
TZOFFSETFROM:+0800
TZOFFSETTO:+0800
TZNAME:CST
DTSTART:20190101T000000
END:STANDARD
END:VTIMEZONE
BEGIN:VEVENT
DTSTART;TZID=Asia/Shanghai:20200724T200000
DTEND;TZID=Asia/Shanghai:20200724T213000
DTSTAMP:20260424T121319
CREATED:20200723T034328Z
LAST-MODIFIED:20200723T034328Z
UID:5035-1595620800-1595626200@thewellnessinsider.asia
SUMMARY:Healthy Hair\, Healthy Body
DESCRIPTION:Join the experts to understand from the perspective of how a healthy scalp and hair is also a sign of a healthy body. Find out how to restore the health of your scalp\, prevent hair loss and grow that beautiful crown of hair that is the envy of others.
URL:https://thewellnessinsider.asia/event/healthy-hair-healthy-body/
LOCATION:Virtual
CATEGORIES:Beauty,Hair
ATTACH;FMTTYPE=image/jpeg:https://thewellnessinsider.asia/wp-content/uploads/2020/07/healthy-hair.jpeg
ORGANIZER;CN="Essentially Meridian":MAILTO:hoeekid@yahoo.com
END:VEVENT
END:VCALENDAR