BEGIN:VCALENDAR
VERSION:2.0
PRODID:-//The Wellness Insider - ECPv6.15.20//NONSGML v1.0//EN
CALSCALE:GREGORIAN
METHOD:PUBLISH
X-ORIGINAL-URL:https://thewellnessinsider.asia
X-WR-CALDESC:Events for The Wellness Insider
REFRESH-INTERVAL;VALUE=DURATION:PT1H
X-Robots-Tag:noindex
X-PUBLISHED-TTL:PT1H
BEGIN:VTIMEZONE
TZID:Asia/Shanghai
BEGIN:STANDARD
TZOFFSETFROM:+0800
TZOFFSETTO:+0800
TZNAME:CST
DTSTART:20250101T000000
END:STANDARD
END:VTIMEZONE
BEGIN:VEVENT
DTSTART;TZID=Asia/Shanghai:20260306T103000
DTEND;TZID=Asia/Shanghai:20260308T210000
DTSTAMP:20260423T064652
CREATED:20260210T081353Z
LAST-MODIFIED:20260210T081353Z
UID:17341-1772793000-1773003600@thewellnessinsider.asia
SUMMARY:Korea Travel Fair 2026: Experience K-Culture like never before
DESCRIPTION:Now Boarding Korea: Your Journey into K-Culture\nGet ready to step into the world of K-culture! Korea Tourism Organization (KTO) proudly presents Korea Travel Fair 2026\, taking place from 6 to 8 March 2026 (Friday to Sunday) at Plaza Singapura\, from 10:30am to 9:00pm daily. \nBuilding on last year’s celebration of 50 years of Korea–Singapore diplomatic ties\, this year’s edition promises three days of immersive experiences\, exclusive travel deals\, hands-on cultural activities\, and star-studded highlights designed for K-culture enthusiasts of all ages. \nA lifestyle showcase of Korea’s travel\, culture and trends\nThe Korea Travel Fair is an annual highlight for Singaporeans eager to explore the best of Korean tourism in one place. Serving as a one-stop gateway to Korean travel\, the fair brings together destinations\, travel inspiration\, hands-on cultural experiences\, and exclusive promotions under one roof. \n \nEvent highlights\n\nParticipation by more than 20 exhibitors\, including Regional Tourism Organisations from Jeju\, Busan and Gangwon\, and major travel agencies offering event-only promotions and packages.\na three-zone event layout across the Main Atrium\, The Alley and Canopy Plaza\, featuring travel discovery\, cultural experiences and live showcase.\nOpening Ceremony on 7 March\, with a special appearance by Ji Chang-wook\nCelebrity Travel Talk with Ji Chang-wook\, sharing personal travel stories and destination recommendations\nLive performances from Korean musical Dream High\, starring Luna (fx)\, Kim Dong-hyun (Golden Child)\, Kang Seung-sik and Lim Se-jun\n\n \n\nK-food experiences\, including tastings\, a culinary showcase with celebrity chefs and on-site food activations\nK-beauty and K-welllness activations\, featuring skincare consultations\, demonstrations and interactive experiences\nHands-on cultural workshops inspired by Korean creativity and regional traditions\nInteractive challenges\, gift redemptions and daily lucky draws with prizes including travel-related rewards\n\nAdmission is free. Discover the full programme schedule here. \n\nImages: Korea Travel Fair
URL:https://thewellnessinsider.asia/event/korea-travel-fair-2026-experience-k-culture-like-never-before/
LOCATION:Plaza Singapura\, 68 Orchard Road\, 238839\, Singapore
CATEGORIES:Arts,Food & Dining,Lifestyle
ATTACH;FMTTYPE=image/jpeg:https://thewellnessinsider.asia/wp-content/uploads/2026/02/Korea-Travel-Fair-2026_Official-Poster.jpg
END:VEVENT
BEGIN:VEVENT
DTSTART;VALUE=DATE:20260312
DTEND;VALUE=DATE:20260316
DTSTAMP:20260423T064652
CREATED:20260106T072446Z
LAST-MODIFIED:20260106T092755Z
UID:17238-1773273600-1773619199@thewellnessinsider.asia
SUMMARY:National Ballet of China’s  A Dream of Red Mansions in Singapore
DESCRIPTION:JUST LIVE proudly presents A Dream of Red Mansions\, performed by the internationally acclaimed National Ballet of China\, making its highly anticipated Singapore premiere in March 2026. As part of the National Ballet of China’s Asia tour\, this celebrated two-act ballet transforms Cao Xueqin’s literary masterpiece into a breathtaking stage experience\, fusing classical ballet technique with the poetic nuances of Chinese cultural aesthetics. \nThe 2-hour performance follows the romance of Jia Baoyu and Lin Daiyu\, set against the rise and decline of the Jia family. As the ballet unfolds\, Jia Baoyu drifts into a dreamlike realm where the souls of flowers\, childhood companions\, and echoes of past lives weave through an ethereal landscape. Playful innocence shimmers alongside the bittersweet ache of first love and parting\, while each movement\, costume\, and play of light shapes a living reverie — a world both luminous and poetic\, hauntingly beautiful and unforgettable. \nDrawing on over six decades of artistic mastery\, the National Ballet of China interprets Cao Xueqin’s novel with subtlety and depth. Every gesture\, tableau\, and musical phrase reflects the company’s distinctive blend of Western classical technique and Chinese artistic heritage\, evoking the story’s romance\, longing\, and ephemeral beauty for audiences. \n \nAt the heart of this production is a visionary creative team led by Executive Director and Producer Feng Ying and General Choreographer Tong Ruirui\, supported by Scriptwriter Feng Li\, Stage Designer Liu Xinglin\, Costume Designer Yang Donglin\, Lighting Designer Liu Zhao\, and Composer Ye Xiaogang\, whose evocative score highlights the romance\, longing\, and ethereal beauty of Jia Baoyu’s journey. Their combined artistry translates the novel’s intricate emotions into an immersive performance\, where movement\, visuals\, and music converge to capture the essence of A Dream of Red Mansions. \n“The vision to bring A Dream of Red Mansions to life through dance has been close to my heart for many years\,” said Tong Ruirui\, the General Choreographer of A Dream of Red Mansions Ballet. “Through this ballet\, we invite audiences to step into Jia Baoyu’s dream: a space where love\, memory\, and imagination intertwine. Every gesture reflects the emotional currents of this extraordinary story. It is our hope that audiences will leave with a deep sense of connection to the beauty\, longing\, and timelessness of these characters’ lives\,” he continued. \nBringing Tong Ruirui’s vision to the stage\, JUST LIVE envelops the performance in world-class lighting\, set\, and stage design. “We are thrilled to bring the National Ballet of China to Singapore\,” said Alain Brochu\, Marketing Director of JUST LIVE. “JUST LIVE’s vision has always been to create unforgettable live experiences\, and this collaboration allows us to showcase the exquisite artistry of one of the world’s premier ballet companies while immersing audiences in the poetic\, dreamlike world of the Rong Mansion\,” he added. \nExperience a performance where every visual\, every note\, and every breath of movement evokes the essence of A Dream of Red Mansions\, reflecting on love\, destiny\, and the fleeting nature of life itself. \nTickets & Showtimes* \n\nDates: 12 – 15 March 2026\nShowtimes: 8:00 PM daily\, with an additional matinee at 2:30 PM on 14 March 2026\nVenue: Esplanade – Theatres on the Bay\, Singapore\nTicket Categories: Cat 1 (S$388) | Cat 2 (S$288) | Cat 3 (S$188) | Cat 4 (S$158) | Cat 5 (S$88) | Premier Box (S$388) | Balcony (S$188)\nEarly Bird Tickets are now available. For bookings and more information\, visit https://www.sistic.com.sg/events/mansions0326.\n\n* SISTIC booking fees apply. \nSynopsis of A Dream of Red Mansions \nIn A Dream of Red Mansions\, audiences follow Jia Baoyu on a journey through a dreamlike realm where past lives\, childhood companions\, and the souls of flowers intermingle. Against the backdrop of the grand Rong Mansion\, Jia Baoyu’s childhood unfolds alongside Lin Daiyu and Xue Baochai\, as innocence\, first love\, and the fleeting joys of youth are tenderly explored. Playful moments in the Grand View Garden coexist with the melancholy of parting and the quiet awareness of life’s impermanence\, creating a poetic tapestry of memory\, love\, and longing. \nAs the story progresses\, Jia Baoyu faces familial pressure\, personal loss\, and the complications of romance\, culminating in a dramatic confrontation between desire and duty. From birthday celebrations to tragic revelations\, he navigates the tensions of love and societal expectations\, ultimately retreating into a solitary\, reflective world. In the epilogue\, the ethereal vision of the past lingers as Jia Baoyu bids farewell to the intertwined fates around him\, leaving audiences with a haunting meditation on love\, destiny\, and the ephemeral beauty of life. \nFor more information on A Dream of Red Mansions Ballet\, please visit https://www.sistic.com.sg/events/mansions0326.  \n\nImages: JUST LIVE and National Ballet of China
URL:https://thewellnessinsider.asia/event/national-ballet-of-chinas-a-dream-of-red-mansions-in-singapore/
LOCATION:Esplanade\, 1 Esplanade Drive\, Singapore
CATEGORIES:Arts
ATTACH;FMTTYPE=image/png:https://thewellnessinsider.asia/wp-content/uploads/2026/01/A-Dream-of-Red-Mansions-Ballet-of-China.png
END:VEVENT
BEGIN:VEVENT
DTSTART;TZID=Asia/Shanghai:20260320T200000
DTEND;TZID=Asia/Shanghai:20260320T210000
DTSTAMP:20260423T064652
CREATED:20260310T034814Z
LAST-MODIFIED:20260310T034814Z
UID:17390-1774036800-1774040400@thewellnessinsider.asia
SUMMARY:TGIF Music Station: SCCC x YES 933 (Superstar Homecoming)
DESCRIPTION:This March\, TGIF Music Station brings audiences on a nostalgic journey back to the golden days of Campus SuperStar. This special showcase reunites alumni such as Cheeyang Ng\, Khim Ng and Ben Hum who first captured hearts on the competition stage and now return as seasoned performers to share how their musical journeys have evolved. 10-year-old local busker Shayne Ko will also share the stage\, representing the next generation of our local music talents.\n\nMore details on TGIF MUSIC STATION: SCCC X YES 933 below:\n\nDate: Friday\, 20 March 2026\nTime (Physical Show): From 8:00 PM\nTime (Online): 8:00 PM\nTheme: Superstar Homecoming\nVenue: Singapore Chinese Cultural Centre\, Ho Bee Concourse\, Level 1\nAdmission is free\, pre-registration is not required. \nAudiences can enjoy the performances live at SCCC’s Ho Bee Concourse or at the comfort of their own homes via live stream on SCCC’s Facebook and TikTok as well.\n\n\nImage: Singapore Chinese Cultural Centre
URL:https://thewellnessinsider.asia/event/tgif-music-station-sccc-x-yes-933-superstar-homecoming/
LOCATION:Singapore Chinese Cultural Centre\, 1 Straits Boulevard\, 018906\, Singapore
CATEGORIES:Arts
ATTACH;FMTTYPE=image/jpeg:https://thewellnessinsider.asia/wp-content/uploads/2026/03/TGIF-Music-Station_Mar-2026-Poster_KV-Landscape_1920x1080-scaled.jpg
END:VEVENT
BEGIN:VEVENT
DTSTART;TZID=Asia/Shanghai:20260410T200000
DTEND;TZID=Asia/Shanghai:20260410T210000
DTSTAMP:20260423T064652
CREATED:20260408T093334Z
LAST-MODIFIED:20260408T093334Z
UID:17560-1775851200-1775854800@thewellnessinsider.asia
SUMMARY:TGIF Music Station: SCCC x YES 933 (Summer)
DESCRIPTION:Dazzle with the stars this summer! This month’s TGIF Music Station gets all glammed up with appearances by The Celebrity Agency artistes! Make your summer even better with Mediacorp Artistes Desmond Tan\, Denise Camillia Tan\, Jeremy Chan\, Tyler Ten\, He Ying Ying and more as they perform drama soundtracks and Mandopop covers.\n\n\nMore details on TGIF MUSIC STATION: SCCC X YES 933 below:\n\nDate: Friday\, 10 April 2026\nTime (Physical Show): From 8:00 PM\nTime (Online): 8:00 PM\nTheme: Summer\nVenue: Singapore Chinese Cultural Centre\, Ho Bee Concourse\, Level 1 \n\nAdmission is free\, pre-registration is not required. Audiences can enjoy the performances live at SCCC’s Ho Bee Concourse or at the comfort of their own homes via live stream on SCCC’s Facebook and TikTok as well.\n\n\nImage: Singapore Chinese Cultural Centre
URL:https://thewellnessinsider.asia/event/tgif-music-station-sccc-x-yes-933-summer-2/
LOCATION:Singapore Chinese Cultural Centre\, 1 Straits Boulevard\, 018906\, Singapore
CATEGORIES:Arts
ATTACH;FMTTYPE=image/jpeg:https://thewellnessinsider.asia/wp-content/uploads/2026/04/TGIF-Station-Apr-2026.jpeg
END:VEVENT
BEGIN:VEVENT
DTSTART;VALUE=DATE:20260501
DTEND;VALUE=DATE:20260525
DTSTAMP:20260423T064652
CREATED:20260421T075425Z
LAST-MODIFIED:20260421T075425Z
UID:17660-1777593600-1779667199@thewellnessinsider.asia
SUMMARY:Sail the Currents that Shape Us at Singapore HeritageFest 2026
DESCRIPTION:From 1 to 24 May 2026\, follow the currents that have steered our nation’s maritime journey. Through islandwide cultural performances\, scenic water and land tours\, guided trails\, workshops and exhibitions\, SHF 2026 reveals Singapore’s deep connection to the sea and the vibrant communities that made us a global maritime hub. \n \nDon’t miss the festival highlight\, HOMEGROUND @ ACM Green. This one-stop hub brings Singapore’s living maritime traditions alive through a central exhibition and interactive weekend programmes. Keep an eye out for Pitta\, the SHF 2026 mascot\, across the island and snap a photo to share on Instagram with @sgheritagefest\, #SGHeritageFest\, #SHF2026 and #ISeaYou for a chance to win a limited-edition SHF keepsake at HOMEGROUND. Stay tuned for more! \nPlan your full voyage at https://www.heritage.sg/sgheritagefest. \n\nImages: Singapore HeritageFest
URL:https://thewellnessinsider.asia/event/sail-the-currents-that-shape-us-at-singapore-heritagefest-2026/
CATEGORIES:Arts,Lifestyle
ATTACH;FMTTYPE=image/jpeg:https://thewellnessinsider.asia/wp-content/uploads/2026/04/Singapore-HeritageFest-2026-Key-Visual.jpg
END:VEVENT
BEGIN:VEVENT
DTSTART;TZID=Asia/Shanghai:20260517T110000
DTEND;TZID=Asia/Shanghai:20260517T170000
DTSTAMP:20260423T064652
CREATED:20260410T052806Z
LAST-MODIFIED:20260410T052806Z
UID:17566-1779015600-1779037200@thewellnessinsider.asia
SUMMARY:Boutiques Singapore Spring Summer Edition 2026
DESCRIPTION:A design-led lifestyle showcase returns this May\nBoutiques Singapore Spring Summer Edition 2026 returns to the F1 Pit Building from 15 to 17 May 2026\, bringing together more than 300 independent brands across fashion\, accessories\, beauty\, home living and gourmet discoveries. \nThis edition places a stronger spotlight on fashion\, with a record number of new labels joining returning favourites from Singapore and across the region. Visitors can expect everything from contemporary ready-to-wear pieces and sculptural jewellery to lifestyle products designed for everyday use. \nBeyond shopping\, the event continues to evolve into a multi-sensory lifestyle experience with curated lounges\, workshops and creative encounters woven into the programme. \n \nNew experiential lounges and creative activities\nThis year introduces refreshed spaces designed for discovery and interaction beyond retail browsing. \nThe Art & Chess Circle offers a relaxed environment featuring artist talks\, creative workshops and hands-on activities such as collage lampshade sessions and colouring experiences. Selected sessions will also include live portrait drawing. \nMeanwhile\, the returning Music Lounge presents a curated vinyl listening experience developed in collaboration with local record specialists. Visitors can explore records using turntables and headphones\, and even create personalised vinyl keepsakes through a special collaboration with a local record studio. \nAnother highlight is a dedicated lounge space where visitors can explore a full-scale airline Skycouch experience and stand a chance to win return flights through an on-site lucky draw. \n\n\n\n\n\n\n\n(Clockwise from top left) Slurp Your Oysters\, Glug Glug and Chimichanga\n\n\n\nFamily-friendly spaces and lifestyle dining experiences\nFamilies visiting with young children can make use of a kids’ drop-off zone organised by The Artground\, offering creative workshops and installations designed for younger visitors while parents explore the fair at their own pace. \nThe Garage Café also returns with a refreshed concept that now includes a lively bar and dining area serving craft beverages alongside comfort food favourites and gourmet snacks. \nAcross the venue\, visitors will find a growing selection of halal-friendly dining options alongside international street-food-style offerings and specialty treats. \nSpotlight on emerging designers and regional labels\nFashion takes centre stage this season with a strong mix of homegrown Singapore designers and regional labels making their Singapore debut. \nExpect exclusive collection launches spanning ready-to-wear\, accessories and contemporary jewellery\, alongside functional everyday apparel designed for tropical climates. Several participating brands will unveil limited colourways and Boutiques-exclusive pieces created specially for this edition. \nThe event also continues its Showcase Grant initiative\, supporting emerging local creatives through mentorship\, marketing guidance and financial assistance. \nDiscover beauty\, home living and purpose-driven brands\nIn addition to fashion\, the Spring Summer edition brings together brands across: \n\nsmall-batch skincare and fragrance\nrefill-based beauty concepts\nartisanal home décor and handcrafted ceramics\nindoor kitchen garden solutions\nwellness-inspired lifestyle products\nsocially conscious design initiatives\n\nVisitors can also explore installations and retail experiences presented by organisations supporting rehabilitation programmes and creative communities. \nEvent details\nEvent: Boutiques Singapore Spring Summer Edition 2026\nDates: 15–17 May 2026\nVenue: F1 Pit Building\, 1 Republic Boulevard\, Singapore\nTickets: \n\n\n\nDay\n1-Day Pass\n1-Day Pass\n(Duo Bundle)\n1-Day Pass\n(Trio Bundle)\n3-Day Pass\n\n\nFriday\n$8\n2 for $12.80\n3 for $16.80\n$19 for 3-day unlimited entry\n\n\nSaturday\n$10\n2 for $16\n3 for $21\n\n\nSunday\n$10\n2 for $16\n3 for $21\n\n\n\nChildren under 12 enter for free.\nRegistration site: https://www.ticketmelon.com/boutiques-singapore/spring-summer-edition-2026\nOpening hours: Opens from 11am \n\nImages: Boutiques Singapore
URL:https://thewellnessinsider.asia/event/boutiques-singapore-spring-summer-edition-2026/
LOCATION:F1 Pit Building\, 1 Republic Boulevard\, Singapore\, 038975\, Singapore
CATEGORIES:Arts,Lifestyle
ATTACH;FMTTYPE=image/jpeg:https://thewellnessinsider.asia/wp-content/uploads/2026/04/Boutiques-2025-2.jpeg
END:VEVENT
BEGIN:VEVENT
DTSTART;TZID=Asia/Shanghai:20260523T150000
DTEND;TZID=Asia/Shanghai:20260531T170000
DTSTAMP:20260423T064652
CREATED:20260407T045817Z
LAST-MODIFIED:20260408T093557Z
UID:17550-1779548400-1780246800@thewellnessinsider.asia
SUMMARY:Scaredy Kat Presents
DESCRIPTION:A Youth Theatre Story About Anxiety\, Courage and Creativity\nGateway Arts’ latest youth theatre production Scaredy Kat Presents arrives in Singapore this May with a multimedia-driven performance that explores how young people experience fear\, friendship and self-doubt. Directed by award-winning theatre-maker Yvan Karlsson and written by playwright Janine Sobeck Knighton\, the production blends live performance with stop-motion animation and puppetry to bring the emotional world of its young protagonist to life. \nThe story follows Kathryn\, a girl who has lived with anxiety since childhood. She finds comfort in creating stop-motion films inside her room\, building a miniature world where she can safely express emotions she struggles to articulate in real life. When a new classmate enters her carefully controlled space\, Kathryn must decide whether she is ready to step beyond fear and embrace change. \nMultimedia Storytelling Designed for Young Audiences\nThis production marks Gateway Arts’ first theatre project to integrate live visual feeds and stop-motion filmmaking into its storytelling. A specially created stop-motion sequence featuring handcrafted puppets offers insight into Kathryn’s inner emotional landscape\, reflecting themes of insecurity\, loneliness and courage. \nAlongside the animated elements\, larger-scale puppetry appears within the live performance itself\, creating a layered theatrical experience that communicates feelings visually rather than relying purely on dialogue. \nThe result is a performance designed to resonate with young audiences navigating uncertainty while also helping parents and educators better understand how children process anxiety and self-confidence. \n \nSupporting Conversations About Mental Wellness\nEach performance will be followed by a facilitated post-show discussion led by TOUCH Counselling & Psychological Services. These sessions provide audiences with opportunities to reflect on themes such as social anxiety\, peer pressure and emotional resilience\, while offering practical perspectives from mental health professionals. \nThrough storytelling and guided reflection\, Scaredy Kat Presents aims to create a shared space for families\, educators and young people to talk more openly about emotional wellbeing. \nWho Should Watch This Performance\nRecommended primarily for audiences aged 10 to 14\, the production is also suitable for parents\, educators and anyone interested in stories about growing up\, friendship and overcoming fear. The show runs for approximately 75 minutes with no intermission. \nEvent Details\nPerformance Dates (Public Shows)23 May 2026 – 3:00pm\, 7:30pm24 May 2026 – 3:00pm29 May 2026 – 7:30pm30 May 2026 – 3:00pm\, 7:30pm31 May 2026 – 3:00pm \nSchool Shows21\, 22\, 25\, 26 and 28 May 2026 \nVenueGateway Theatre Black Box3615 Jalan Bukit MerahSingapore 159461 \nTicket PricesEarly Bird: S$36 (excluding booking fees)Standard: S$45 (excluding booking fees; eligible for SG Culture Pass) \nRegistration Linkhttps://gatewayarts.sg/portfolio/scaredy-kat-presents \n\nImages: Scaredy Kat
URL:https://thewellnessinsider.asia/event/scaredy-kat-presents/
LOCATION:Gateway Theatre\, 3615 Jalan Bukit Merah\, Singapore\, 159461\, Singapore
CATEGORIES:Arts
ATTACH;FMTTYPE=image/png:https://thewellnessinsider.asia/wp-content/uploads/2026/04/Gateway-Arts_Scaredy-Kat-Presents_Key-Visual-No-Text_Landscape.png
END:VEVENT
END:VCALENDAR