BEGIN:VCALENDAR
VERSION:2.0
PRODID:-//The Wellness Insider - ECPv6.15.20//NONSGML v1.0//EN
CALSCALE:GREGORIAN
METHOD:PUBLISH
X-WR-CALNAME:The Wellness Insider
X-ORIGINAL-URL:https://thewellnessinsider.asia
X-WR-CALDESC:Events for The Wellness Insider
REFRESH-INTERVAL;VALUE=DURATION:PT1H
X-Robots-Tag:noindex
X-PUBLISHED-TTL:PT1H
BEGIN:VTIMEZONE
TZID:Asia/Shanghai
BEGIN:STANDARD
TZOFFSETFROM:+0800
TZOFFSETTO:+0800
TZNAME:CST
DTSTART:20210101T000000
END:STANDARD
END:VTIMEZONE
BEGIN:VEVENT
DTSTART;VALUE=DATE:20230627
DTEND;VALUE=DATE:20230703
DTSTAMP:20260423T153625
CREATED:20230627T153756Z
LAST-MODIFIED:20230627T153756Z
UID:11214-1687824000-1688342399@thewellnessinsider.asia
SUMMARY:Splatter Painting Art Therapy
DESCRIPTION:The end of June is looking exciting for all shoppers and visitors at 313@somerset as Lendlease brings a series of fun activities and exciting perks to the mall! Celebrate the gift of art with the Colours of Summer Unleashed event\, happening from now to 2 July 2023. \nVisitors can look forward to a thrilling list of perks and rewards that will be sure to paint a fun and memorable experience for guests of all ages. \nUnleash your creativity and celebrate the gift of art at 313@somerset’s Splatter Painting Art Therapy event! With a minimum of S$120* spent at 313@somerset\, Lendlease Plus members can simply head down to L1 Atrium to redeem a session of the Splatter Painting Art Therapy where you get to ignite the inner Picasso in you. \n \nWhat’s more? Participants who share their Splatter Painting Art Therapy experience on Instagram can redeem 16\,000 Plus$ (worth S$8) instantly by simply following these instructions: \n\nFollow @313somerset on Instagram\nPost an Instagram Story/ Reel/ Post of your Splatter Painting experience\, tag @313somerset and hashtag #313splatterpaint\nShow your exciting post to the event crew on site and the 16\,000 Plus$ is yours instantly!\n\n* Maximum of 3 same-day combined receipts. Redemption of painting session is subject to slot availability. \nOther perks\nThis summer\, enjoy a list of deals and steals not to be missed\, only at 313@somerset. \n\n\nEnjoy 5x Plus$* when you spend a minimum of S$30 in a single receipt. \n\n\nReceive 10\,000 Plus$** with a minimum nett spend of S$200 in a maximum of 3 same-day combined receipts. \n\n\n* Bonus Plus$ are capped at 30\,000 Plus$ per Basic Member and 60\,000 Plus$ per Premium Member per day.\n** Limited to first 5\,000 redemptions and 1 redemption per member per day. \nNew Lendlease Plus Member Exclusive \nIf you’re not a Lendlease Plus Member yet\, simply download the Lendlease Plus mobile app and sign up as a member to enjoy the following perks below. \n\n\nExclusive for new members\, receive 10\,000 Lendlease Plus$* when you sign up with promo code “313SUMMER23” via the Lendlease Plus mobile app or lendleaseplus.com. \n\n\nIf you’re between 16 and 25 years old\, refer your squad using your unique member referral code to receive a $10 Lendlease E-Voucher. What’s more? Spend S$120** to unlock an additional 24\,000 Plus$ (worth S$12) reward! \n\n\n  \n* Limited to the first 300 successful sign-ups.\n** Maximum of 2 same-day combined receipts. \n  \nFor the full information about 313@somerset’s exciting campaign this summer\, visit their website here. \n\nImages: Lendlease
URL:https://thewellnessinsider.asia/event/splatter-painting-art-therapy/
LOCATION:313@Somerset\, 313 Orchard Road\, 238895\, Singapore
CATEGORIES:Arts,Mindfulness
ATTACH;FMTTYPE=image/jpeg:https://thewellnessinsider.asia/wp-content/uploads/2023/06/image-6.jpeg
END:VEVENT
BEGIN:VEVENT
DTSTART;TZID=Asia/Shanghai:20230102T100000
DTEND;TZID=Asia/Shanghai:20230105T220000
DTSTAMP:20260423T153625
CREATED:20221230T090412Z
LAST-MODIFIED:20230103T071007Z
UID:10208-1672653600-1672956000@thewellnessinsider.asia
SUMMARY:i12 Katong Ushers Year of the Rabbit with Chinese Zodiac Sculptures Made from Upcycled Flip-flops
DESCRIPTION:Singapore\, 27 December 2022 – i12 Katong welcomes the auspicious Year of the Rabbit with a plethora of attractive promotions\, rewards\, and exciting events\, as well as an Art Exhibition of the world’s first sculptures of Chinese Zodiac Animals made from upcycled flip-flops. \nArt Exhibition of the World’s First Sculptures of Chinese Zodiac Animals made from upcycled flip-flops\nDate: 2 to 31 January 2023\nLocation: Level 1 Atrium and around the mall\ni12 Katong welcomes the auspicious Year of the Rabbit with a plethora of attractive promotions\, rewards\, and exciting events\, as well as an Art Exhibition of the world’s first sculptures of Chinese Zodiac Animals made from upcycled flip-flops. \nCommissioned and handcrafted by six talented Kenyan artists from OCEAN Sole Africa\, a non-profit and social enterprise with a mission to clean polluted beaches and provide careers to artisans in high-impact communities; the spectacular displays are inspired by the legacy and tale of the Chinese New Year zodiac animals and will be unveiled to shoppers on 2 January 2023. \n \nTo usher in the Year of the Rabbit\, a 3-metre-tall rabbit sculpture will take centre stage at the mall’s atrium on Level 1. Made over 21 days from 2\,875 pairs of worn-out and discarded flip-flops\, the impressive sculpture depicts the rabbit’s abundance and longevity\, while raising awareness of the tangible impact that our lifestyles can have on the environment. The vibrant colours further add to the art’s overall cheerfulness and complement the festive celebrations of Chinese New Year. \n  \n \nFrom left to right: Handcrafted dragon\, horse\, tiger and snake sculptures made from used flip-flops \nThe zodiac sculptures are a part of i12 Katong’s drive to spotlight novel art collaborations driven by sustainable practices\, in line with Keppel Land’s commitment to sustainability. To raise awareness of the importance of sustainable living\, the artists behind these exhibits aim to not only create beautiful works of art\, but to also promote conversations about environmental issues. \ni12 Katong invites shoppers to embark on a hunt to find the 12 Chinese zodiac animal sculptures around the mall. Follow the trail and submit the correct answers to 12 simple questions at the Level 3 Concierge Counter to redeem up to S$20 worth of vouchers from participating retailers. Redemption is limited to the first 100 shoppers. \nJolly Activities for Every-bunny In The Family!\nTo herald new beginnings\, i12 Katong will host a variety of exciting performances and activities every weekend for the entire month of January 2023. \nChinese Poem Recitals and Pipa Performances by Fang Cao Yuan: Learn about Chinese culture and enjoy Chinese poem recitals and pipa performances by the students of Fang Cao Yuan.\nDate: 7\, 8\, 14 & 15 January 2023\nTime: 2pm\nLocation: Level 1 Atrium \nChinese Calligraphy Decor: Redeem an auspicious handwritten Chinese calligraphy décor piece when you spend a min. of $20.\nDate: 7\, 8\, 14 & 15 January 2023\nTime: 2pm to 4pm\nLocation: Level 1 Atrium \nKids CNY Craft Workshops: Kids can have a fun time making Chinese New Year crafts. Redeem a workshop pass by presenting a same-day receipt at the Level 3 Concierge Counter.\nDate: 7\, 8\, 14\, 15\, 28 and 29 January 2023\nLocation: Level 2 Kids Corner at Pop Palette \nLion Dance Performance: Get into the festive mood and usher in the Lunar New Year in an auspicious way with i12 Katong’s lion dance performance\nDate: 27 January 2023\nTime: 12pm\nLocation: Main entrance and Level 1 Atrium \nHop-hop Hooray – Rewards Up For Grabs for KLIK Members!\nRedemptions for spending S$80 and above ($120 for supermarket and enrichment centres) include a sure-win lucky dip with vouchers worth S$20 and above\, $2 parking credits\, and a packet of i12 Katong’s limited-edition red packets; while spending of S$250 ($375 for supermarket and enrichment centres) and above will allow shoppers to redeem the above-mentioned rewards and an additional complimentary can of abalone.\n*T&Cs apply. \nAll redemptions are limited to 3 same-day receipts and must be made at the Level 3 Concierge Desk. Limited to 1 redemption per KLIK member per day. Redemptions for spend of S$80 and above are limited to 100 per day\, while redemptions for spend of S$250 and above are limited to 50 per day. Red packets and cans of abalones are available while stocks last. \nFeast in 兔 the Year of the Rabbit with Bistro Bytes\nRing in the new year with good food from Bistro Bytes (#02-12/14)\, i12 Katong’s F&B curated concept that allows shoppers to order a wide variety of cuisines in a single order for self pick-up or delivery. \nFrom 2 to 31 January\, the first 1\,000 orders can enjoy 8% off with the promo code with a minimum spending of S$30 in a single receipt via the KLIK app. T&Cs apply. ^ \nRide Is On Us at Pop Palette\nShop for your new Chinese New Year outfits at Pop Palette (#02-19) and receive a complimentary S$10 Grab voucher! To redeem\, shoppers will simply have to spend a minimum of S$50 and present a maximum of 2 same-day receipts (from Pop Palette only)\, at the Level 3 Concierge Desk to be eligible. Limited to the first 50 members daily and 1 redemption per member per day. T&Cs apply. ^ \n^All redemptions are exclusive to KLIK members and must be made at the Level 3 Concierge Desk. Redemptions are limited to 1 per KLIK member per day\, while stocks last. \nFor more information on i12 Katong’s Chinese New Year activities and promotions\, please visit www.i12katong.com.sg\, or check for real-time updates via Facebook and Instagram.\n 
URL:https://thewellnessinsider.asia/event/i12-katong-ushers-year-of-the-rabbit-with-chinese-zodiac-sculptures-made-from-upcycled-flip-flops/
LOCATION:i12 Katong\, 112 East Coast Rd\, Singapore\, XX\, 428802\, Singapore
CATEGORIES:Arts,Celebrations
ATTACH;FMTTYPE=image/png:https://thewellnessinsider.asia/wp-content/uploads/2022/12/i12-Katong_campaign.png
END:VEVENT
BEGIN:VEVENT
DTSTART;VALUE=DATE:20221125
DTEND;VALUE=DATE:20221205
DTSTAMP:20260423T153625
CREATED:20221125T090010Z
LAST-MODIFIED:20221128T070654Z
UID:9639-1669334400-1670198399@thewellnessinsider.asia
SUMMARY:PLAYfiesta SG 2022
DESCRIPTION:Mark your calendars for 10 days of PLAYfiesta SG 2022\, a first-in-Singapore event organised by Stellar Ace\, Singapore’s largest local Out of Home (OOH) media company. As Orchard Road lights up for Christmas\, locals and tourists alike can head into zones of Augmented Reality (AR) games\, live performances and a twinkling bazaar of local food and retail products. \nWith PLAYfiesta SG\, the lifestyle precinct will be buzzing with activity\, as visitors enjoy the multi-dimensional and immersive experiences. There are integrated and experiential zones at the venue\, with live performances by local talents\, a food and retail bazaar featuring Made With Passion local lifestyle Brand’s and “The Mirror World”\, which features AR games that take one away to eight imaginative game worlds developed by REVEZ Motiona\, a local award-winning Creative Tech provider. There will also be nightly performances and movie screenings under the stars. \n\n\n\n\nGAME \nAdmission: Ticketed\nBAZAAR \nAdmission: Free\nMUSIC \nAdmission: Free\n\n\nThe Mirror World \nOne ticket to 8 immersive story world. This AR game experience for the young and old will spark the competitive streak in you as it stretches your imagination and transports you into an alternate universe to survive and thrive.\nF&B and Retail \nLook forward to exciting retail and food and beverage options including Made with Passion brands.\nPerformances \na non-stop line-up of live performances to take you into the night with local musicians\, DJs\, stand-up comedians\, Christmas Carolling and more. \nMovie screenings of Puss in Boots and Shrek\, with mascot appearances and prizes to win.\n\n\n\n\nSaid Mr Tony Heng\, President of Stellar Lifestyle\, “With PLAYfiesta SG\, Stellar Lifestyle is leveraging our core strengths in retail and advertising to support dynamic events and experiences for our local communities that include SMEs\, and youths who are entrepreneurs and artists. We are also taking the opportunity to do right and do good\, through environmental and social education with Virtual and Augmented Reality games\, covering areas such as climate change\, food sustainability and common online scams.” \nWith support from the Singapore Tourism Board\, as well as partners such as Singtel\, Citibank\, United International Pictures\, NETS\, Endowus\, and SISTIC\, PLAYfiesta is an attestation of Stellar Ace’s unique role as an Omnichannel Architect that can provide offline and online engagement solutions through dynamic events and experiences. \nMs Guo Teyu\, Director\, Retail and Dining\, Singapore Tourism Board\, said\, “There is so much to experience in Orchard Road this festive season\, and events such as PLAYfiesta SG offer yet another reason for people to explore the precinct. The inaugural event has something for everyone\, from augmented reality to live entertainment and a local bazaar\, and strengthens Orchard Road’s position as a lifestyle destination beyond retail.” \nThe concept behind PLAYfiesta SG is anchored on “Play” as one of the key touch points of Stellar Ace’s Home-Travel-Eat-Shop-Play ecosystem\, with its WINK+ app and lovable influencers\, Gamer Bluey\, Chef Reddy\, Cashie Greeny and Shopper Pinky who will “host” PLAYfiesta SG. \nPLAYfiesta SG will be held at State Property 37 Emerald Hill\, previously home to the Singapore Chinese Girls School. Nearest MRT station is Somerset\, and parking nearby is at The Heeren (Cairnhill Road)\, Orchard Building (Grange Road) or 22 Biddeford Road Carpark. \nFor full event details and ticket sales\, please visit www.PLAYfiesta.asia. \n\nImages: Stellar Ace
URL:https://thewellnessinsider.asia/event/playfiesta-sg-2022/
LOCATION:37 Emerald Hill\, Singapore
CATEGORIES:Arts,Celebrations,Lifestyle
END:VEVENT
BEGIN:VEVENT
DTSTART;VALUE=DATE:20221001
DTEND;VALUE=DATE:20221030
DTSTAMP:20260423T153625
CREATED:20220916T111002Z
LAST-MODIFIED:20220916T111002Z
UID:9158-1664582400-1667087999@thewellnessinsider.asia
SUMMARY:Canberra Art Biennial
DESCRIPTION:The 2022 edition sees the festival rebranded as Canberra Art Biennial and sees expansion to the National Arboretum (contour 656)\, the University of Canberra (contour 606) as well as maintaining and building further on our presence in North and South Canberra\, centred on contour 556\, the height above sea level of Lake Burley Griffin. \n \nContour 556 is the water level of Lake Burley Griffin\, which links the event in name as well as in purpose to the history of the central Canberra landscape. The artworks and installations selected for the festival respond in some way to Canberra’s history\, from 50\,000 years to the present day. contour 556 will therefore offer the Canberra\, Australian and international community a unique opportunity to engage with and understand the layers of Canberra’s history through art. \nThe event offers visitors a unique opportunity to engage with and understand the layers of Canberra’s history through art. Artists will be responding to the designed city of Canberra: represented by Australia’s political\, cultural\, and physical history. \nCheck out their program schedule here and plan your visit! \n\nImages: Canberra Art Biennial 
URL:https://thewellnessinsider.asia/event/canberra-art-biennial/
LOCATION:Canberra\, Australia
CATEGORIES:Arts
ATTACH;FMTTYPE=image/jpeg:https://thewellnessinsider.asia/wp-content/uploads/2022/09/a1.jpg
END:VEVENT
END:VCALENDAR