BEGIN:VCALENDAR
VERSION:2.0
PRODID:-//The Wellness Insider - ECPv6.15.20//NONSGML v1.0//EN
CALSCALE:GREGORIAN
METHOD:PUBLISH
X-WR-CALNAME:The Wellness Insider
X-ORIGINAL-URL:https://thewellnessinsider.asia
X-WR-CALDESC:Events for The Wellness Insider
REFRESH-INTERVAL;VALUE=DURATION:PT1H
X-Robots-Tag:noindex
X-PUBLISHED-TTL:PT1H
BEGIN:VTIMEZONE
TZID:Asia/Shanghai
BEGIN:STANDARD
TZOFFSETFROM:+0800
TZOFFSETTO:+0800
TZNAME:CST
DTSTART:20240101T000000
END:STANDARD
END:VTIMEZONE
BEGIN:VEVENT
DTSTART;VALUE=DATE:20251211
DTEND;VALUE=DATE:20260501
DTSTAMP:20260422T091833
CREATED:20251211T081507Z
LAST-MODIFIED:20251211T081507Z
UID:17195-1765411200-1777593599@thewellnessinsider.asia
SUMMARY:Tradition in Motion: Singapore’s Lion Dance Heritage
DESCRIPTION:Singapore Chinese Cultural Centre (SCCC) is proud to present Tradition in Motion: Singapore’s Lion Dance Heritage\, a special exhibition for the upcoming Chinese New Year that showcases the rich history\, evolving customs\, and contemporary expressions of lion dance in Singapore.  \nFeaturing over 50 artefacts\, photographs\, posters and figurines\, the exhibition highlights the enduring significance of lion dance in Singapore\, its diversity\, innovations\, and achievements of local lion dance troupes. The exhibition is anchored by a display of eight lion heads\, representing the variety of lion dance styles practised in Singapore including the familiar southern lion dance\, and the less common Hainan Lion and the Fujian Green Lion. \nPresented through three main thematic zones\, the exhibition first explores the history\, traditions\, and customs of lion dance in Singapore. The exhibition also reveals the intricate craft of lion head making\, featuring a handcrafted lion head made by Singapore’s last lion head craftsman\, Henry Ng\, shown in its first and final stages of production.  \nThe second zone explores Singapore’s lion dance culture as it continues to thrive in Singapore today. In this zone\, visitors can view the Genting World Lion Dance Trophies won by Yiwei Athletic Association in 2023 and 2025\, and learn how our local troupes continue to embrace diversity by opening its doors to members of all ages and ethnicities\, and adapting lion dance routines for senior performers. \nThe final zone showcases pop-culture representations of lion dance that highlight contemporary culture’s ongoing fascination with lion dance. From vintage posters of films such as Once Upon a Time in China III to limited-edition collectibles like the Uniplay Fortune (Mer)lion Dance figurine\, the exhibition showcases lion dance as an enduring source of inspiration for cultural offerings. \nSCCC Chief Executive Officer\, Mr Alvin Tan\, said\, “Through the exhibition\, we hope that visitors can learn more about lion dance\, including its early roots\, the unique traits of lion dance in Singapore\, how it continues to be manifested through popular culture\, and more. We also hope that visitors will not only feel proud of the achievements of our local lion dance troupes\, but be inspired by their resilience and ongoing efforts to ensure that lion dance becomes not only an enduring artform but a cultural heritage that Singaporeans can be proud of.” \nVisit Tradition in Motion: Singapore’s Lion Dance Heritage to learn how the traditional art form of lion dance continues to innovate\, and how it remains a vibrant symbol of culture\, resilience\, and community spirit. The exhibition will be on display at SCCC Concourse Level 1\, 9am to 10pm\, from 11 December 2025 to 30 April 2026. Admission is free. \n\nImage: Singapore Chinese Cultural Centre
URL:https://thewellnessinsider.asia/event/tradition-in-motion-singapores-lion-dance-heritage/
LOCATION:Singapore Chinese Cultural Centre\, 1 Straits Boulevard\, 018906\, Singapore
CATEGORIES:Arts
ATTACH;FMTTYPE=image/jpeg:https://thewellnessinsider.asia/wp-content/uploads/2025/12/Tradition-in-Motion.jpeg
END:VEVENT
BEGIN:VEVENT
DTSTART;VALUE=DATE:20251231
DTEND;VALUE=DATE:20260103
DTSTAMP:20260422T091833
CREATED:20250923T060533Z
LAST-MODIFIED:20250923T060533Z
UID:16746-1767139200-1767398399@thewellnessinsider.asia
SUMMARY:Singland Festival - Singapore's Biggest Indoor New Year Celebration 2026
DESCRIPTION:Timed with Singapore’s 60th anniversary\, Singland Festival promises to be the nation’s biggest indoor New Year celebration\, featuring four spectacular shows headlined by international icons across genres at Marina Bay Sands. \n \nFour Icons\, One Stage\nJoining Rain in headlining the inaugural Singland Festival are three powerhouse performers who bring their own unique artistry and global appeal to the Marina Bay Sands stage. \n(2nd January 2026) Terry Lin – The Prince of Ballads\n \nRenowned for his soaring tenor and timeless classics such as ‘Tears for You’ and ’Single Love Song’\, Terry Lin has earned acclaim across Asia for his impeccable vocal technique and heartfelt storytelling. With more than three decades in music and acclaimed appearances on I Am a Singer\, Lin promises an evening of emotional resonance and timeless artistry. \n(3rd January 2026) NE-YO – Grammy-Winning R&B Icon\n \nWith three Grammy Awards and a catalogue of chart-topping hits including ‘So Sick’\, ‘Closer’\, and ‘Miss Independent’\, NE-YO is a defining voice of contemporary R&B. His career spans nearly two decades of songwriting\, performing\, and producing\, and his live shows are famed for their smooth vocals\, polished choreography\, and unmatched stage presence. NE-YO’s appearance at Singland Festival marks a rare opportunity for Singapore audiences to experience his artistry up close. \n(3rd January 2026) Henry Lau – The Multi-Talented Global Star\n \nSinger\, songwriter\, producer\, dancer\, and violinist\, Henry Lau is a true multi-hyphenate who has built a loyal following across Asia\, North America\, and beyond. Known for his versatility and charisma\, Henry’s performances combine K-Pop roots with international pop sensibilities\, making him a bridge between East and West. Fans can expect a dynamic show filled with energy\, artistry\, and connection. \nTicket information\nTicket Prices (Shows I\, II & IV – Rain\, Terry Lin\, NE-YO) \n\nSVIP (Seating): $328\nVIP (Seating): $298\nCat 1 (Seating): $268\nCat 2 (Seating): $238\nCat 3 (Seating): $198\n\nTicket Prices (Show III – Henry Lau) \n\nSVIP (Seating): $238\nVIP (Seating): $188\nCat 1 (Seating): $148\nCat 2 (Standing): $118\n\nGeneral Ticket Sales: Start 30 Sept 2025\, 1200hrs. \nEarly Bird promotion will be available between 22 Sept 2025\, 1200hrs to 25 Sept 2025\, 2359hrs. \nCustomers can purchase tickets directly on SISTIC\, Trip.com\, and 携程旅行 during this period. Tickets are limited and will be made available on a first-come\, first-served basis. \nEarly Bird offers 10% off all ticket categories (早鸟优惠 10％折扣). \n\nImages: SingLand Festival
URL:https://thewellnessinsider.asia/event/singland-festival-singapores-biggest-indoor-new-year-celebration-2026/
LOCATION:Marina Bay Sands Expo and Convention Centre\, 10 Bayfront Ave\, Singapore\, 018956\, Singapore
CATEGORIES:Arts
ATTACH;FMTTYPE=image/jpeg:https://thewellnessinsider.asia/wp-content/uploads/2025/09/Singland-KV1-scaled.jpg
END:VEVENT
BEGIN:VEVENT
DTSTART;VALUE=DATE:20260121
DTEND;VALUE=DATE:20260223
DTSTAMP:20260422T091833
CREATED:20260105T083649Z
LAST-MODIFIED:20260105T083649Z
UID:17225-1768953600-1771804799@thewellnessinsider.asia
SUMMARY:Hobby Horse: Rhythm and Forms of Play
DESCRIPTION:Funan presents Creative Intersections “HOBBYHORSE: Rhythm and Forms of Play” as part of the Singapore Art Week 2026 (SAW). Taking inspiration from the Year of the Horse\, this art meets retail multifaceted experiential exhibition is a celebration of motion and meaning-making in all its unruly forms. \nFeaturing 24 local artists and 15 retail brand collaborations\, expect imaginative displays\, pop-up acts\, and interactive experiences blending various stores and locations in the mall from Basement 2 to Level 7\, including the Level 1 Grand Stairs\, \, and the outdoor Kinetic Wall\, and 15 retail brands. At the Underground Pedestrian Link\, Light to Night 2026 – presented by the National Gallery Singapore in partnership with Funan – transforms the walls with a colourful mural. \nCurated by Justin Loke\, Creative Director of Vertical Submarine\, has been helming Creative Intersections since 2023. He will be leading a team of local artists from various disciplines to bring the vision of HobbyHorse to life this year. \nThis campaign will also be rolling out shopper rewards such as the “SPOT. COUNT. WIN.” guessing game at L1 Grand Stairs\, and spend-and-redeem programme. \nFor updates and more information\, please visit their website www.capitaland.com/sg/malls/funan/en.html \n\nImages: Funan
URL:https://thewellnessinsider.asia/event/hobby-horse-rhythm-and-forms-of-play/
LOCATION:Funan\, 107 North Bridge Road\, Singapore\, 179105\, Singapore
CATEGORIES:Arts,Celebrations
ATTACH;FMTTYPE=image/png:https://thewellnessinsider.asia/wp-content/uploads/2026/01/Hobbyhorse.png
END:VEVENT
END:VCALENDAR