BEGIN:VCALENDAR
VERSION:2.0
PRODID:-//The Wellness Insider - ECPv6.15.20//NONSGML v1.0//EN
CALSCALE:GREGORIAN
METHOD:PUBLISH
X-ORIGINAL-URL:https://thewellnessinsider.asia
X-WR-CALDESC:Events for The Wellness Insider
REFRESH-INTERVAL;VALUE=DURATION:PT1H
X-Robots-Tag:noindex
X-PUBLISHED-TTL:PT1H
BEGIN:VTIMEZONE
TZID:Asia/Shanghai
BEGIN:STANDARD
TZOFFSETFROM:+0800
TZOFFSETTO:+0800
TZNAME:CST
DTSTART:20230101T000000
END:STANDARD
END:VTIMEZONE
BEGIN:VEVENT
DTSTART;VALUE=DATE:20241025
DTEND;VALUE=DATE:20250324
DTSTAMP:20260423T044525
CREATED:20241014T130101Z
LAST-MODIFIED:20241014T130320Z
UID:14854-1729814400-1742774399@thewellnessinsider.asia
SUMMARY:Discover the artistic evolution of Singapore’s oldest living and active artist
DESCRIPTION:Marvel at the picturesque and nostalgic depictions of well-loved scenes of everyday Singapore and magnificent landscapes from around the world at Becoming Lim Tze Peng. From 25 October 2024 to 23 March 2025\, National Gallery Singapore presents its first solo exhibition on Singapore’s oldest living and active artist\, Lim Tze Peng\, featuring over 50 artworks curated from Singapore’s public art collections\, the artist’s personal art collection\, and rare archival materials. Visitors can look forward to tracing the artistic evolution of the 103 year-old artist\, with artworks dating back to 1946 and as recent as 2023. \nBecoming Lim Tze Peng is the fourth installment of the 2024 Gallery’s four-part SG Artist series\, which seeks to spotlight visionary Singaporean artists who reflect Singapore’s post-independence spirit and innovation. Delve into the compelling stories behind Lim’s bold and expressive ink works\, including the invention of his own distinct style of calligraphy\, ‘hu tu zi’ (糊涂字)\, also known as ‘muddled calligraphy’ or ‘muddled characters’. \nFor more information on the exhibition\, please visit: www.nationalgallery.sg/BecomingLimTzePeng
URL:https://thewellnessinsider.asia/event/discover-the-artistic-evolution-of-singapores-oldest-living-and-active-artist/
LOCATION:National Gallery Singapore\, 1 St. Andrews Road\, Singapore\, 178957\, Singapore
CATEGORIES:Arts
ATTACH;FMTTYPE=image/png:https://thewellnessinsider.asia/wp-content/uploads/2024/10/Becoming-Lim-Tze-Peng.png
END:VEVENT
BEGIN:VEVENT
DTSTART;VALUE=DATE:20250115
DTEND;VALUE=DATE:20250519
DTSTAMP:20260423T044525
CREATED:20241130T015555Z
LAST-MODIFIED:20241130T015555Z
UID:15266-1736899200-1747612799@thewellnessinsider.asia
SUMMARY:Singapore Art Museum presents the homecoming of Seeing Forest
DESCRIPTION:Step into Seeing Forest\, presented for the first time in Singapore at Singapore Art Museum (SAM) at Tanjong Pagar Distripark. Returning from Venice\, this exhibition by interdisciplinary artist Robert Zhao Renhui invites visitors to immerse themselves in the multifaceted life of Singapore’s secondary forests—overlooked forests regrown from deforested land due to human intervention. Drawing on nearly a decade of research\, Zhao encourages audiences to look beyond our familiar cityscape and uncover the complex ecosystems that shape our natural environment. \nVisitors will be able to catch the full assemblage of videos and sculptural installations presented in Venice\, transforming SAM’s gallery space into an enveloping\, forested zone filled with sounds\, sights\, and stories that convey the richness of secondary forests. Through Zhao’s captivating scenes of these in-between spaces\, spot sambar deer that escaped from the local zoo in the 1970s\, Japanese sparrowhawks pausing for a drink and a wild boar giving birth in the forest next to the artist’s apartment. \nSeeing Forest was first presented at the Singapore Pavilion at the 60th International Art Exhibition of La Biennale di Venezia (Biennale Arte 2024)\, widely recognised as the Olympics of the art world. From Venice to SAM’s home ground\, the exhibition invites audiences to discover a lesser-known side of Singapore\, and reflect on their place within these wild\, yet radically free environments. \n\n\n\nDates:\n15 January – 18 May 2025\n\n\nLocation:\nSingapore Art Museum at Tanjong Pagar Distripark\, Level 3\, Gallery 3 (Accessible via Lobby B)\n39 Keppel Road\, Tanjong Pagar Distripark\, Singapore 089065\n\n\nWebsite:\nhttps://www.singaporeartmuseum.sg/art-events/exhibitions/seeing-forest\n\n\nAdmission:\nGeneral Admission applies; Free for Singaporeans and PR. Free admission from 17–26 Jan 2025.\n\n\n\n\nImage: Singapore Art Museum 
URL:https://thewellnessinsider.asia/event/singapore-art-museum-presents-the-homecoming-of-seeing-forest/
LOCATION:Singapore Art Museum at Tanjong Pagar Distripark\, 39 Keppel Road\, Tanjong Pagar Distripark\, Singapore\, 089065\, Singapore
CATEGORIES:Arts
ATTACH;FMTTYPE=image/jpeg:https://thewellnessinsider.asia/wp-content/uploads/2024/11/SAM-Seeing-Forest.jpg
END:VEVENT
BEGIN:VEVENT
DTSTART;VALUE=DATE:20250117
DTEND;VALUE=DATE:20250120
DTSTAMP:20260423T044525
CREATED:20250101T080800Z
LAST-MODIFIED:20250101T080800Z
UID:15402-1737072000-1737331199@thewellnessinsider.asia
SUMMARY:Celebrate CNY the SINGAPO人 Way in the Heart of the City!
DESCRIPTION:Singapore Chinese Cultural Centre (SCCC) and Singapore Chinese Orchestra (SCO) join hands once again to bring a wide range of family friendly activities to the heart of the Central Business District for CNY Family FUN (CNYFF) 2025! \nFor the first time\, Sun Yat Sen Nanyang Memorial Hall (SYSNMH) will also participate in CNYFF 2025 which will take place from 17 to 19 January 2025\, and offer three out of a total of 22 programmes\, performances and activities at SCCC and Singapore Conference Hall (SCH). \nThe highlights of SCCC’s CNYFF 2025 offerings are as listed below: \n\n蛇prise CNY Art Installation: Visit SCCC’s CNY rooftop installation\, ”蛇prise”\, which includes a giant snake lawn installation\, a prosperity pavilion and more!\nLED Snake Dance: Be dazzled by an exciting giant LED snake dance at SCCC Concourse to usher in the Year of the Snake.\nLife-sized Snakes and Ladders Game: Play to your heart’s content at SCCC’s larger-than-life Snakes and Ladders installation and learn about CNY traditions while you compete against your family and friends.\nYear of the Snake Zodiac Forecast Exhibition: Curious about how your year ahead will be? Read about the forecast for your zodiac animal at SCCC’s Zodiac Predictions Exhibition at the Concourse.\n\nThe Story of Golden Lions: Discover the history of the Golden Lions and watch a special performance by the lion dance troupe. The audience will also get a chance to put on the golden lion masks and try on props. \n\n\nIn addition to the above programme highlights\, visitors to SCCC and SCH can look forward to the following CNYFF signature offerings: \n\nSpring Bazaar: Come on down to SCCC’s annual CNY Spring Bazaar\, and check out various booths offering CNY snacks\, decorations\, traditional pastries\, accessories and even bubble tea!\nRhapsodies of Spring 2025: Usher in the Year of the Snake with festive melodies in SCO’s CNY concert led by Principal Conductor Quek Ling Kiong.\nThe SINGAPO人 Style Mahjong Classroom: Learn the origins\, cultural significance\, and different styles of mahjong in this workshop for beginners and discover why mahjong is one of Singaporeans’ favourite CNY games!\n\nFrom 18 December 2024\, visitors can redeem a set of limited-edition SCCC CNY 2025 red packets upon completing a survey at SCCC’s 蛇prise CNY Art Installation (limited to one redemption per visitor\, while stocks last). \nAccording to Mr Alvin Tan\, CEO/SCCC: “Together with SCO\, we hope to bring festive cheer into the heart of the city\, encourage more Singaporeans to join us for family-friendly arts and cultural festivities\, and in the process\, discover how we celebrate Chinese New Year in uniquely Singaporean ways.” \nFor more details on CNYFF 2025 and its programmes\, please visit singaporen.sg/cnyff \n\nImage: Singapore Chinese Cultural Centre
URL:https://thewellnessinsider.asia/event/celebrate-cny-the-singapo%e4%ba%ba-way-in-the-heart-of-the-city/
LOCATION:Singapore Chinese Cultural Centre\, 1 Straits Boulevard\, 018906\, Singapore
CATEGORIES:Arts
ATTACH;FMTTYPE=image/jpeg:https://thewellnessinsider.asia/wp-content/uploads/2025/01/CNY-Family-Fun.jpg
END:VEVENT
BEGIN:VEVENT
DTSTART;TZID=Asia/Shanghai:20250117T200000
DTEND;TZID=Asia/Shanghai:20250117T210000
DTSTAMP:20260423T044525
CREATED:20250102T170744Z
LAST-MODIFIED:20250102T170744Z
UID:15412-1737144000-1737147600@thewellnessinsider.asia
SUMMARY:TGIF MUSIC STATION: SCCC X YES 933 | “SINGAPO人” Knocking on Wood Snake 蛇年唱蛇么歌
DESCRIPTION:Ring in the brand new year with TGIF Music Station (CNY Edition) as local artistes Shigga Shay\, Zhu Zeliang\, Music-In-Law\, LimTayPeng\, Yi Ting and Damon perform crowd-favourite CNY tunes. \nMore details on TGIF MUSIC STATION: SCCC X YES 933 below: \n\nDate: Fri\, 17 Jan 2025\nTime (Physical Show): From 8:00 PM\nTime (Online): 8:00 PM\nTheme: “SINGAPO人” Knocking on Wood Snake\nVenue: Singapore Chinese Cultural Centre\, Ho Bee Concourse\, Level 1\n\nAdmission is free\, pre-registration is not required. \nAudiences can enjoy the performances live at SCCC’s Ho Bee Concourse or at the comfort of their own homes via live stream on SCCC’s Facebook and TikTok as well. \n\nImage: Singapore Chinese Cultural Centre
URL:https://thewellnessinsider.asia/event/tgif-music-station-sccc-x-yes-933-singapo%e4%ba%ba-knocking-on-wood-snake-%e8%9b%87%e5%b9%b4%e5%94%b1%e8%9b%87%e4%b9%88%e6%ad%8c/
LOCATION:Singapore Chinese Cultural Centre\, 1 Straits Boulevard\, 018906\, Singapore
CATEGORIES:Arts,Celebrations
ATTACH;FMTTYPE=image/jpeg:https://thewellnessinsider.asia/wp-content/uploads/2025/01/SCCC_CNYFF_Knocking-on-Wood-Snake-蛇年唱蛇么歌_KV-Landscape-scaled.jpg
END:VEVENT
END:VCALENDAR