BEGIN:VCALENDAR
VERSION:2.0
PRODID:-//The Wellness Insider - ECPv6.15.20//NONSGML v1.0//EN
CALSCALE:GREGORIAN
METHOD:PUBLISH
X-ORIGINAL-URL:https://thewellnessinsider.asia
X-WR-CALDESC:Events for The Wellness Insider
REFRESH-INTERVAL;VALUE=DURATION:PT1H
X-Robots-Tag:noindex
X-PUBLISHED-TTL:PT1H
BEGIN:VTIMEZONE
TZID:Asia/Shanghai
BEGIN:STANDARD
TZOFFSETFROM:+0800
TZOFFSETTO:+0800
TZNAME:CST
DTSTART:20230101T000000
END:STANDARD
END:VTIMEZONE
BEGIN:VEVENT
DTSTART;VALUE=DATE:20241025
DTEND;VALUE=DATE:20250324
DTSTAMP:20260423T062337
CREATED:20241014T130101Z
LAST-MODIFIED:20241014T130320Z
UID:14854-1729814400-1742774399@thewellnessinsider.asia
SUMMARY:Discover the artistic evolution of Singapore’s oldest living and active artist
DESCRIPTION:Marvel at the picturesque and nostalgic depictions of well-loved scenes of everyday Singapore and magnificent landscapes from around the world at Becoming Lim Tze Peng. From 25 October 2024 to 23 March 2025\, National Gallery Singapore presents its first solo exhibition on Singapore’s oldest living and active artist\, Lim Tze Peng\, featuring over 50 artworks curated from Singapore’s public art collections\, the artist’s personal art collection\, and rare archival materials. Visitors can look forward to tracing the artistic evolution of the 103 year-old artist\, with artworks dating back to 1946 and as recent as 2023. \nBecoming Lim Tze Peng is the fourth installment of the 2024 Gallery’s four-part SG Artist series\, which seeks to spotlight visionary Singaporean artists who reflect Singapore’s post-independence spirit and innovation. Delve into the compelling stories behind Lim’s bold and expressive ink works\, including the invention of his own distinct style of calligraphy\, ‘hu tu zi’ (糊涂字)\, also known as ‘muddled calligraphy’ or ‘muddled characters’. \nFor more information on the exhibition\, please visit: www.nationalgallery.sg/BecomingLimTzePeng
URL:https://thewellnessinsider.asia/event/discover-the-artistic-evolution-of-singapores-oldest-living-and-active-artist/
LOCATION:National Gallery Singapore\, 1 St. Andrews Road\, Singapore\, 178957\, Singapore
CATEGORIES:Arts
ATTACH;FMTTYPE=image/png:https://thewellnessinsider.asia/wp-content/uploads/2024/10/Becoming-Lim-Tze-Peng.png
END:VEVENT
BEGIN:VEVENT
DTSTART;VALUE=DATE:20241128
DTEND;VALUE=DATE:20241209
DTSTAMP:20260423T062337
CREATED:20241123T055427Z
LAST-MODIFIED:20241123T055843Z
UID:15194-1732752000-1733702399@thewellnessinsider.asia
SUMMARY:35th Singapore International Film Festival
DESCRIPTION:Step into the captivating world of cinema at the 35th Singapore International Film Festival\, a celebration of storytelling\, artistry and cultural diversity. The highly anticipated event in the Singapore arts calendar is the nation’s largest and longest-running film event and brings a vibrant film experience and a deeper appreciation of cinematic culture to the audience. \nCity of Small Blessings by Wong Chen-Hsi \nHeld from 28 November to 8 December\, this year’s lineup features 105 films from 45 countries\, with 80% of the selections hailing from Asia. International highlights this year include the horror-comedy Nightbitch featuring Amy Adams\, The Shrouds by master of body horror David Cronenberg\, Grand Tour by Cannes-award winning director Miguel Gomes\, and a newly restored version of Bong Joon-ho’s debut feature Barking Dogs Never Bite\, which will have its international premiere at SGIFF. Among the highlights are three world premieres of Singapore films – Stranger Eyes by Yeo Siew Hua (header image)\, City of Small Blessings by Wong Chen-Hsi\, and Spirit World by Eric Khoo. \nSGIFF 2024’s full programme lineup\, as well as ticketing information\, is now available on its official website. \n\nImages: Singapore International Film Festival
URL:https://thewellnessinsider.asia/event/35th-singapore-international-film-festival/
CATEGORIES:Arts
ATTACH;FMTTYPE=image/jpeg:https://thewellnessinsider.asia/wp-content/uploads/2024/11/SIFF-Stranger-Eyes.jpg
END:VEVENT
BEGIN:VEVENT
DTSTART;TZID=Asia/Shanghai:20241206T200000
DTEND;TZID=Asia/Shanghai:20241206T210000
DTSTAMP:20260423T062337
CREATED:20241130T013859Z
LAST-MODIFIED:20241130T013859Z
UID:15262-1733515200-1733518800@thewellnessinsider.asia
SUMMARY:TGIF MUSIC STATION: SCCC X YES 933 | Winter Solstice “SINGAPO人” Celebration 冬至大如年
DESCRIPTION:Celebrate Winter Solstice with beloved local singers Tay Kewei\, Tosh Rock\, Benjamin Tan\, Jernelle Oh and MOSSO at the December edition of TGIF Music Station! Bring along your family and friends for a reunion with SCCC and our SINGAPO人 cast\, and enjoy captivating live performances at our Concourse!  \nMore details on TGIF MUSIC STATION: SCCC X YES 933 below: \n\n\nDate: Fri\, 6 Dec 2024 \n\n\nTime (Physical Show): From 8:00 PM \n\n\nTime (Online): 8:00 PM \n\n\nTheme: Winter Solstice “SINGAPO人” Celebration \n\n\nVenue: Singapore Chinese Cultural Centre\, Ho Bee Concourse\, Level 1\nAdmission is free\, pre-registration is not required. \n\n\nAudiences can enjoy the performances live at SCCC’s Ho Bee Concourse or at the comfort of their own homes via live stream on SCCC’s Facebook and TikTok as well.
URL:https://thewellnessinsider.asia/event/tgif-music-station-sccc-x-yes-933-winter-solstice-singapo%e4%ba%ba-celebration-%e5%86%ac%e8%87%b3%e5%a4%a7%e5%a6%82%e5%b9%b4/
LOCATION:Singapore Chinese Cultural Centre\, 1 Straits Boulevard\, 018906\, Singapore
CATEGORIES:Arts
ATTACH;FMTTYPE=image/jpeg:https://thewellnessinsider.asia/wp-content/uploads/2024/11/TGIF-Station-Dec-2024.jpg
END:VEVENT
END:VCALENDAR