BEGIN:VCALENDAR
VERSION:2.0
PRODID:-//The Wellness Insider - ECPv6.15.20//NONSGML v1.0//EN
CALSCALE:GREGORIAN
METHOD:PUBLISH
X-WR-CALNAME:The Wellness Insider
X-ORIGINAL-URL:https://thewellnessinsider.asia
X-WR-CALDESC:Events for The Wellness Insider
REFRESH-INTERVAL;VALUE=DURATION:PT1H
X-Robots-Tag:noindex
X-PUBLISHED-TTL:PT1H
BEGIN:VTIMEZONE
TZID:Asia/Shanghai
BEGIN:STANDARD
TZOFFSETFROM:+0800
TZOFFSETTO:+0800
TZNAME:CST
DTSTART:20230101T000000
END:STANDARD
END:VTIMEZONE
BEGIN:VEVENT
DTSTART;TZID=Asia/Shanghai:20241018T200000
DTEND;TZID=Asia/Shanghai:20241018T210000
DTSTAMP:20260423T092114
CREATED:20241015T134934Z
LAST-MODIFIED:20241015T134934Z
UID:14968-1729281600-1729285200@thewellnessinsider.asia
SUMMARY:Singapore Chinese Cultural Centre Stages First Showcase Of Local Street Buskers!
DESCRIPTION:On 18 October 2024 at 8.00pm\, the Concourse at Singapore Chinese Culture Centre (SCCC) will be transformed into a vibrant showcase of Singapore’s best street talents when SCCC present its first ever TGIF Music Station (Buskers Edition). \nLaunched in 2018\, TGIF Music Station is a free monthly programme which takes place on a Friday night and seeks to showcase both emerging and established local talents in the Mandopop scene. Through TGIF Music Station\, SCCC hopes to promote greater public awareness and appreciation of local talents\, enliven the Central Business District\, and instill pride in Singaporean arts and culture. \nSince its launch\, SCCC has organised a total of 152 sessions and featured a total of 496 local artistes. These sessions have attracted a total of 53\,615 participants and 6 million online views during live streams on SCCC’s social media platforms such as Facebook and TikTok as of August 2024. \nFor its October 2024 TGIF Music Station\, SCCC will be featuring a total of 10 local buskers. These buskers range from young talents such as Lyla Ng (age 11) to senior groups such as Silver Hype comprising Gillian Goh (age 69) and Davidson Teo (age 65) as well as popular buskers who have released singles and EPs as WHYLUCAS and Jeff Ng. \nAccording to Gillian Goh of Silver Hype: “We are grateful to SCCC for the opportunity to perform to a new audience. Through busking on the streets\, we hope to set a positive example of how age should not stop you from doing what you love and to inspire more youths to pursue their dreams\, especially in music. If we can do it\, you can do it!” \nLyla Ng\, added: “I’m excited to perform on TGIF Music Station on 18 October as this is my first time performing at SCCC and I will also be sharing the stage with many of my fellow buskers! Learning and performing Mandarin songs in public has not only allowed me to better appreciate Chinese culture and language but has also improved my academic results! I hope to meet more friends and fans at TGIF Music Station!” \nSCCC Chief Executive Officer Alvin Tan said: “Through SCCC’s TGIF Music Station (Buskers Edition)\, we hope to support our local busking community by providing them with a platform to showcase their talents and interact with their fans\, and help them reach a wider audience both physically and digitally. Moving forward\, SCCC will organise a buskers edition every October and continue to feature at least one busker for every upcoming TGIF Music Station to provide more sustained support for the busking community.” \n\nImage: Singapore Chinese Cultural Centre
URL:https://thewellnessinsider.asia/event/singapore-chinese-cultural-centre-stages-first-showcase-of-local-street-buskers/
LOCATION:Singapore Chinese Cultural Centre\, 1 Straits Boulevard\, 018906\, Singapore
CATEGORIES:Arts
ATTACH;FMTTYPE=image/jpeg:https://thewellnessinsider.asia/wp-content/uploads/2024/10/TGIF-Music-Station-18-Oct-2024.jpg
END:VEVENT
BEGIN:VEVENT
DTSTART;VALUE=DATE:20241025
DTEND;VALUE=DATE:20250324
DTSTAMP:20260423T092114
CREATED:20241014T130101Z
LAST-MODIFIED:20241014T130320Z
UID:14854-1729814400-1742774399@thewellnessinsider.asia
SUMMARY:Discover the artistic evolution of Singapore’s oldest living and active artist
DESCRIPTION:Marvel at the picturesque and nostalgic depictions of well-loved scenes of everyday Singapore and magnificent landscapes from around the world at Becoming Lim Tze Peng. From 25 October 2024 to 23 March 2025\, National Gallery Singapore presents its first solo exhibition on Singapore’s oldest living and active artist\, Lim Tze Peng\, featuring over 50 artworks curated from Singapore’s public art collections\, the artist’s personal art collection\, and rare archival materials. Visitors can look forward to tracing the artistic evolution of the 103 year-old artist\, with artworks dating back to 1946 and as recent as 2023. \nBecoming Lim Tze Peng is the fourth installment of the 2024 Gallery’s four-part SG Artist series\, which seeks to spotlight visionary Singaporean artists who reflect Singapore’s post-independence spirit and innovation. Delve into the compelling stories behind Lim’s bold and expressive ink works\, including the invention of his own distinct style of calligraphy\, ‘hu tu zi’ (糊涂字)\, also known as ‘muddled calligraphy’ or ‘muddled characters’. \nFor more information on the exhibition\, please visit: www.nationalgallery.sg/BecomingLimTzePeng
URL:https://thewellnessinsider.asia/event/discover-the-artistic-evolution-of-singapores-oldest-living-and-active-artist/
LOCATION:National Gallery Singapore\, 1 St. Andrews Road\, Singapore\, 178957\, Singapore
CATEGORIES:Arts
ATTACH;FMTTYPE=image/png:https://thewellnessinsider.asia/wp-content/uploads/2024/10/Becoming-Lim-Tze-Peng.png
END:VEVENT
BEGIN:VEVENT
DTSTART;TZID=Asia/Shanghai:20241031T193000
DTEND;TZID=Asia/Shanghai:20241031T213000
DTSTAMP:20260423T092114
CREATED:20240824T032827Z
LAST-MODIFIED:20240824T032827Z
UID:14146-1730403000-1730410200@thewellnessinsider.asia
SUMMARY:Chinese music set to electrifying EDM beats:  “SING浪 The SINGAPO人 Concert 2024” returns to  showcase the best of local and regional Mandopop!
DESCRIPTION:Boasting a stellar line-up of local and regional artistes\, the 6th edition of SING浪 The SINGAPO人 Concert 2024 is set to take place on 31 October 2024 at Singapore Indoor Stadium. Presented by Singapore Chinese Cultural Centre (SCCC)\, this year’s concert is poised to captivate and inspire the younger generation while celebrating and preserving Singapore’s rich heritage in Chinese music and culture. \nWith the theme “Refresh\, Renew and Re-present”\, concert-goers are in for a dynamic and immersive experience that bridges tradition and modernity. Besides a unique fusion of Chinese opera\, wushu performances and electronic dance music (EDM)\, a mosh pit will also be available for fans to get up close with their favourite artistes. \nPopular local duo BY2\, singer Feng Ze\, DJ WUKONG as well as rising stars like J.M3\, Ben Hum\, Zadon\, Paige and Jordin will bring the stage to life. Other  SINGAPO人 favourites include ballad singer Firdhaus and three-member group 3P alongside other notable regional artistes. \nSCCC Chief Executive Officer Alvin Tan said\, “Through SING浪 The SINGAPO人 Concert 2024\, we hope to provide a platform for homegrown and regional performers to showcase their music and connect with their fans\, to entertain our audience and bring them together through their enjoyment of Mandopop\, and to encourage more Singaporeans to embrace local Chinese culture through pop music.” \nTo enhance the concert experience\, concert-goers will receive complimentary LED wristbands\, unique temporary tattoos and a selection of snacks and drinks. These items will be available on a first-come\, first-served basis and while stocks last. \nTickets to SING浪 The SINGAPO人 Concert 2024 are available on Ticketmaster. PAssion Card\, NTUC\, SAFRA\, merewards and HomeTeamNS card holders can purchase tickets on priority from 23 August 2024 and enjoy a 20% discount. Public can enjoy a 10% early bird discount from 2 to 11 September 2024. For more details\, please visit https://singaporeccc.org.sg/events/sing-lang-the-singaporen-concert-2024.
URL:https://thewellnessinsider.asia/event/chinese-music-set-to-electrifying-edm-beats-sing%e6%b5%aa-the-singapo%e4%ba%ba-concert-2024-returns-to-showcase-the-best-of-local-and-regional-mandopop/
LOCATION:Singapore Indoor Stadium\, 2 Stadium Walk\, Singapore\, 397691\, Singapore
CATEGORIES:Arts
ATTACH;FMTTYPE=image/jpeg:https://thewellnessinsider.asia/wp-content/uploads/2024/08/image-7.jpeg
END:VEVENT
END:VCALENDAR