BEGIN:VCALENDAR
VERSION:2.0
PRODID:-//The Wellness Insider - ECPv6.15.20//NONSGML v1.0//EN
CALSCALE:GREGORIAN
METHOD:PUBLISH
X-WR-CALNAME:The Wellness Insider
X-ORIGINAL-URL:https://thewellnessinsider.asia
X-WR-CALDESC:Events for The Wellness Insider
REFRESH-INTERVAL;VALUE=DURATION:PT1H
X-Robots-Tag:noindex
X-PUBLISHED-TTL:PT1H
BEGIN:VTIMEZONE
TZID:Asia/Shanghai
BEGIN:STANDARD
TZOFFSETFROM:+0800
TZOFFSETTO:+0800
TZNAME:CST
DTSTART:20230101T000000
END:STANDARD
END:VTIMEZONE
BEGIN:VEVENT
DTSTART;VALUE=DATE:20240508
DTEND;VALUE=DATE:20240701
DTSTAMP:20260423T165624
CREATED:20240327T131557Z
LAST-MODIFIED:20240327T131737Z
UID:12533-1715126400-1719791999@thewellnessinsider.asia
SUMMARY:Cultural Extravaganza 2024 by (Re)presenting Our SINGAPO人 Treasures
DESCRIPTION:The Singapore Chinese Cultural Centre (SCCC) is thrilled to announce the seventh edition of Cultural Extravaganza (CE)\, an annual arts and cultural event that showcases the vibrancy of our distinctive SINGAPO人¹ culture through crossovers between disciplines\, cultures and generations. \nBased on the theme of “(Re)presenting Our SINGAPO人 Treasures”\, CE 2024 presents original productions and creative reinterpretations through theatrical performances\, exhibitions and concerts by our talented artists and arts groups. The eight shows and two exhibitions will take place from 8 May to 30 June 2024. \nBe wowed by the original creations of our local talents\nThe Singaporean Composers Series\, a celebration of 20 years of The TENG Company\, features 10 newly commissioned works across different genres in collaboration with 20 local composers\, producers\, musicians and filmmakers. Showcasing Singapore’s unique diversity\, the concert transcends boundaries and spotlights the boundless spectrum of Singaporean artistry. \nDeep dive into the lives and creations of eight prominent local cartoonists at Devoted to Serve exhibition. The original art works are accompanied by works by local illustrator Koh Hong Teng and students from local schools. \n \nSee the world anew through new and fresh interpretations\nHeadlining the opening night of CE 2024 is The Pawned Wife\, presented by Singapore Chinese Cultural Contribution Award (Organisation) recipient\, Nam Hwa Opera. The show presents a modern take of a classic tale\, by blending traditional Teochew opera with contemporary theatre. \nA unique collaboration between NUS Chinese Drama and NUS Chinese Orchestra\, Essentially Macbeth explores what success\, ambition and fulfilment mean to today’s generation. \nDing Yi Music Company’s Disappearing Series…: Childhood Melodies of Yesteryears\, helmed by Artistic Director and Conductor Quek Ling Kiong\, promises an immersive experience through disappearing dialect nursery rhymes and iconic local Chinese\, Malay and Indian folk songs presented with a contemporary twist. \nSCCC Chief Executive Officer\, Mr Low Sze Wee shares\, “Our talented artists and arts groups are always at the forefront in expressing Chinese Singaporean culture in exciting and creative ways. They are our true SINGAPO人 Treasures! At Cultural Extravaganza 2024\, we put the spotlight on our artistic gems\, and celebrate their efforts in promoting our rich and vibrant cultural legacies.” \n \nEmbark on a musical journey with local xinyao icon Liang Wern Fook where he puts together a composition showcase combining narrative poetry with music in collaboration with Singapore Chinese Orchestra for the first time. In addition\, A Choral Extravaganza performance by five local choral groups marks the first choral performance as part of the CE programme line-up. Not forgetting the return of Jazz It Up! A Jazzy Celebration of Chinese Songs 2024 by Jazz Association (Singapore) and Reunion 2.0 by Singapore National Youth Chinese Orchestra. \nCE 2024 will offer both ticketed and complimentary programmes. Tickets will be open for sale from 26 March 2024 via TicketMaster with an early bird discount of 20% till 12 April 2024. PAssion Card\, NTUC\, SAFRA\, merewards and HomeTeamNS members enjoy a 30% early bird discount on their tickets till 12 April 2024\, and a 20% discount thereafter. \nMore details about Cultural Extravaganza can be found at singaporen.sg/ce. \n\n¹ 人 (ren) is the Chinese character for “person” \nImages: Singapore Chinese Cultural Centre
URL:https://thewellnessinsider.asia/event/cultural-extravaganza-2024-by-representing-our-singapo%e4%ba%ba-treasures/
LOCATION:Singapore Chinese Cultural Centre\, 1 Straits Boulevard\, 018906\, Singapore
CATEGORIES:Arts,Lifestyle
ATTACH;FMTTYPE=image/jpeg:https://thewellnessinsider.asia/wp-content/uploads/2024/03/image-10.jpeg
END:VEVENT
BEGIN:VEVENT
DTSTART;TZID=Asia/Shanghai:20240511T160000
DTEND;TZID=Asia/Shanghai:20240511T173000
DTSTAMP:20260423T165624
CREATED:20240507T161714Z
LAST-MODIFIED:20240507T162011Z
UID:12747-1715443200-1715448600@thewellnessinsider.asia
SUMMARY:Project Godown - Secrets of Clarke Quay
DESCRIPTION:This immersive time travel adventure will take participants through an enchanting journey around CQ @ Clarke Quay\, inviting participants to unlock the forgotten stories of the iconic godowns and shophouses lining the Singapore River. From unearthing the precinct’s Teochew heritage to admiring the architectural marvels of godowns and warehouses preserved from our maritime beginnings\, participants will journey through the five distinct blocks of CQ @ Clarke Quay to uncover hidden clues\, puzzles\, and food challenges with vintage photographs acting as a window to the past. \nSome of the hidden gems you’ll learn more about include: \n\nCQ @ Clarke Quay’s Teochew roots – once called “Cha Jung Tau” (firewood)\nRead Bridge – the coolies’ ultimate entertainment hub\nThe fascinating story of the Riverhouse and the secret society\nAdmire modern architectural masterpieces – including a 110-metre long mural by Yip Yew Chong and tobyato!\n\nEvent details \nDates: 11\, 18 and 25 May\nTime: 4pm to 5.30pm\nFee: $50 / pax\, free for children under 6yo\nMeeting Point: Read Bridge @ Clarke Quay \nRegister here. \n\nImage: CQ
URL:https://thewellnessinsider.asia/event/project-godown-secrets-of-clarke-quay/
LOCATION:Clarke Quay\, 3 River Valley Road\, Singapore\, 179024
CATEGORIES:Arts,Lifestyle
ATTACH;FMTTYPE=image/png:https://thewellnessinsider.asia/wp-content/uploads/2024/05/image001.png
END:VEVENT
BEGIN:VEVENT
DTSTART;TZID=Asia/Shanghai:20240512T160000
DTEND;TZID=Asia/Shanghai:20240512T180000
DTSTAMP:20260423T165624
CREATED:20240507T162549Z
LAST-MODIFIED:20240507T162549Z
UID:12760-1715529600-1715536800@thewellnessinsider.asia
SUMMARY:Chicken Rice Diaries: The Hainan Story in Bugis
DESCRIPTION:Embark on a two-hour adventure through Singapore’s vibrant Bugis district with a true-blooded Hainanese guide! Throughout the tour\, you’ll participate in a fun bingo game with clues hidden within the fascinating history of the Hainanese people in Singapore. \nKey highlights of the tour include: \n\nThe origins of the Hainanese community in the bustling Bugis precinct\nDiscover the story of Ngiam Tong Boon\, the Hainanese bartender who invented the world-famous Singapore Sling at the iconic Raffles Hotel\nA tour around the hidden Hylam Street within the modern Bugis Junction\nA sweet finale with Yi Bua\, a traditional Hainanese snack\n\nEvent Details\nDates: 12\, 19 and 26 May\nTime: 4pm to 6pm\nFee: S$50 / pax\, free for children under 6yo\nMeeting Point: Outside Leica Store Raffles Hotel\nRegister here \n\nImages: Capitaland Malls
URL:https://thewellnessinsider.asia/event/chicken-rice-diaries-the-hainan-story-in-bugis/
CATEGORIES:Arts,Lifestyle
ATTACH;FMTTYPE=image/png:https://thewellnessinsider.asia/wp-content/uploads/2024/05/image002.png
END:VEVENT
BEGIN:VEVENT
DTSTART;TZID=Asia/Shanghai:20240518T160000
DTEND;TZID=Asia/Shanghai:20240518T173000
DTSTAMP:20260423T165624
CREATED:20240507T161928Z
LAST-MODIFIED:20240507T161928Z
UID:12756-1716048000-1716053400@thewellnessinsider.asia
SUMMARY:Project Godown - Secrets of Clarke Quay
DESCRIPTION:This immersive time travel adventure will take participants through an enchanting journey around CQ @ Clarke Quay\, inviting participants to unlock the forgotten stories of the iconic godowns and shophouses lining the Singapore River. From unearthing the precinct’s Teochew heritage to admiring the architectural marvels of godowns and warehouses preserved from our maritime beginnings\, participants will journey through the five distinct blocks of CQ @ Clarke Quay to uncover hidden clues\, puzzles\, and food challenges with vintage photographs acting as a window to the past. \nSome of the hidden gems you’ll learn more about include: \n\nCQ @ Clarke Quay’s Teochew roots – once called “Cha Jung Tau” (firewood)\nRead Bridge – the coolies’ ultimate entertainment hub\nThe fascinating story of the Riverhouse and the secret society\nAdmire modern architectural masterpieces – including a 110-metre long mural by Yip Yew Chong and tobyato!\n\nEvent details \nDates: 11\, 18 and 25 May\nTime: 4pm to 5.30pm\nFee: $50 / pax\, free for children under 6yo\nMeeting Point: Read Bridge @ Clarke Quay \nRegister here. \n\nImage: CQ
URL:https://thewellnessinsider.asia/event/project-godown-secrets-of-clarke-quay-2/
LOCATION:Clarke Quay\, 3 River Valley Road\, Singapore\, 179024
CATEGORIES:Arts,Lifestyle
ATTACH;FMTTYPE=image/png:https://thewellnessinsider.asia/wp-content/uploads/2024/05/image001.png
END:VEVENT
BEGIN:VEVENT
DTSTART;TZID=Asia/Shanghai:20240519T160000
DTEND;TZID=Asia/Shanghai:20240519T180000
DTSTAMP:20260423T165624
CREATED:20240507T162713Z
LAST-MODIFIED:20240507T162713Z
UID:12763-1716134400-1716141600@thewellnessinsider.asia
SUMMARY:Chicken Rice Diaries: The Hainan Story in Bugis
DESCRIPTION:Embark on a two-hour adventure through Singapore’s vibrant Bugis district with a true-blooded Hainanese guide! Throughout the tour\, you’ll participate in a fun bingo game with clues hidden within the fascinating history of the Hainanese people in Singapore. \nKey highlights of the tour include: \n\nThe origins of the Hainanese community in the bustling Bugis precinct\nDiscover the story of Ngiam Tong Boon\, the Hainanese bartender who invented the world-famous Singapore Sling at the iconic Raffles Hotel\nA tour around the hidden Hylam Street within the modern Bugis Junction\nA sweet finale with Yi Bua\, a traditional Hainanese snack\n\nEvent Details\nDates: 12\, 19 and 26 May\nTime: 4pm to 6pm\nFee: S$50 / pax\, free for children under 6yo\nMeeting Point: Outside Leica Store Raffles Hotel\nRegister here \n\nImages: Capitaland Malls
URL:https://thewellnessinsider.asia/event/chicken-rice-diaries-the-hainan-story-in-bugis-2/
CATEGORIES:Arts,Lifestyle
ATTACH;FMTTYPE=image/png:https://thewellnessinsider.asia/wp-content/uploads/2024/05/image002.png
END:VEVENT
BEGIN:VEVENT
DTSTART;TZID=Asia/Shanghai:20240524T200000
DTEND;TZID=Asia/Shanghai:20240524T210000
DTSTAMP:20260423T165624
CREATED:20240517T071325Z
LAST-MODIFIED:20240517T071325Z
UID:12785-1716580800-1716584400@thewellnessinsider.asia
SUMMARY:TGIF MUSIC STATION: SCCC X YES 933
DESCRIPTION:This celebration is to all our mothers! Through the power of music\, join artists Wong Jinglun\, Tay Kexin\, Ranen Hum\, Psquare\, and students from Yuhua Secondary School as we express our love and appreciation for our mums this Mother’s Day! \nMore details on TGIF MUSIC STATION: SCCC X YES 933 below: \n\n\nDate: Fri\, 24 May 2024 \n\n\nTime (Physical Show): From 8:00 PM \n\n\nTime (Online): 8:00 PM \n\n\nTheme: This one’s for you\, Mom《献给妈妈的歌》 \n\n\nVenue: Singapore Chinese Cultural Centre\, Ho Bee Concourse\, Level 1 \n\n\nAdmission is free\, pre-registration is not required. \n  \nAudiences can enjoy the performances live at SCCC’s Ho Bee Concourse or at the comfort of their own homes via live stream on SCCC’s Facebook or TikTok.
URL:https://thewellnessinsider.asia/event/tgif-music-station-sccc-x-yes-933/
LOCATION:Singapore Chinese Cultural Centre\, 1 Straits Boulevard\, 018906\, Singapore
CATEGORIES:Arts,Celebrations
ATTACH;FMTTYPE=image/png:https://thewellnessinsider.asia/wp-content/uploads/2024/05/image.png
END:VEVENT
BEGIN:VEVENT
DTSTART;TZID=Asia/Shanghai:20240525T160000
DTEND;TZID=Asia/Shanghai:20240525T173000
DTSTAMP:20260423T165624
CREATED:20240507T162121Z
LAST-MODIFIED:20240507T162121Z
UID:12758-1716652800-1716658200@thewellnessinsider.asia
SUMMARY:Project Godown - Secrets of Clarke Quay
DESCRIPTION:This immersive time travel adventure will take participants through an enchanting journey around CQ @ Clarke Quay\, inviting participants to unlock the forgotten stories of the iconic godowns and shophouses lining the Singapore River. From unearthing the precinct’s Teochew heritage to admiring the architectural marvels of godowns and warehouses preserved from our maritime beginnings\, participants will journey through the five distinct blocks of CQ @ Clarke Quay to uncover hidden clues\, puzzles\, and food challenges with vintage photographs acting as a window to the past. \nSome of the hidden gems you’ll learn more about include: \n\nCQ @ Clarke Quay’s Teochew roots – once called “Cha Jung Tau” (firewood)\nRead Bridge – the coolies’ ultimate entertainment hub\nThe fascinating story of the Riverhouse and the secret society\nAdmire modern architectural masterpieces – including a 110-metre long mural by Yip Yew Chong and tobyato!\n\nEvent details \nDates: 11\, 18 and 25 May\nTime: 4pm to 5.30pm\nFee: $50 / pax\, free for children under 6yo\nMeeting Point: Read Bridge @ Clarke Quay \nRegister here. \n\nImage: CQ
URL:https://thewellnessinsider.asia/event/project-godown-secrets-of-clarke-quay-3/
LOCATION:Clarke Quay\, 3 River Valley Road\, Singapore\, 179024
CATEGORIES:Arts,Lifestyle
ATTACH;FMTTYPE=image/png:https://thewellnessinsider.asia/wp-content/uploads/2024/05/image001.png
END:VEVENT
BEGIN:VEVENT
DTSTART;TZID=Asia/Shanghai:20240526T160000
DTEND;TZID=Asia/Shanghai:20240526T180000
DTSTAMP:20260423T165624
CREATED:20240507T162910Z
LAST-MODIFIED:20240507T162910Z
UID:12765-1716739200-1716746400@thewellnessinsider.asia
SUMMARY:Chicken Rice Diaries: The Hainan Story in Bugis
DESCRIPTION:Embark on a two-hour adventure through Singapore’s vibrant Bugis district with a true-blooded Hainanese guide! Throughout the tour\, you’ll participate in a fun bingo game with clues hidden within the fascinating history of the Hainanese people in Singapore. \nKey highlights of the tour include: \n\nThe origins of the Hainanese community in the bustling Bugis precinct\nDiscover the story of Ngiam Tong Boon\, the Hainanese bartender who invented the world-famous Singapore Sling at the iconic Raffles Hotel\nA tour around the hidden Hylam Street within the modern Bugis Junction\nA sweet finale with Yi Bua\, a traditional Hainanese snack\n\nEvent Details\nDates: 12\, 19 and 26 May\nTime: 4pm to 6pm\nFee: S$50 / pax\, free for children under 6yo\nMeeting Point: Outside Leica Store Raffles Hotel\nRegister here \n\nImages: Capitaland Malls
URL:https://thewellnessinsider.asia/event/chicken-rice-diaries-the-hainan-story-in-bugis-3/
CATEGORIES:Arts,Lifestyle
ATTACH;FMTTYPE=image/png:https://thewellnessinsider.asia/wp-content/uploads/2024/05/image002.png
END:VEVENT
BEGIN:VEVENT
DTSTART;TZID=Asia/Shanghai:20240530T200000
DTEND;TZID=Asia/Shanghai:20240530T230000
DTSTAMP:20260423T165624
CREATED:20240525T043840Z
LAST-MODIFIED:20240525T043840Z
UID:12817-1717099200-1717110000@thewellnessinsider.asia
SUMMARY:Sing! Men's Chorus Celebrates 20 Years of Community and Harmony
DESCRIPTION:Sing! Men’s Chorus (SMC) proudly announces its 20th-anniversary celebration kicking off with a special launch party on May 30th\, 2024. The event will showcase the choir’s milestones and offer a live preview of their upcoming anniversary concert in September. \nSMC was established in 2005 to offer an opportunity for individuals interested in singing in an all-male choir and to introduce another form of choral music for public enjoyment. Throughout the 2 decades\, the choir has slowly grown to nearly 60 alumni members and an average of over twenty active members each season. \nAnniversary Concert Highlights Timeless Favourites and New Premieres\nSMC’s 20th anniversary concert\, “SMC Celebrates 20 Years of Timeless Harmony\,” will spotlight iconic pieces from the choir’s rich history alongside exciting new additions. The concert promises to be a moving celebration of SMC’s dedication to pursuing authenticity in music-making\, yet also injecting its own brand of quirky entertainment that has delighted audiences through the years. \n \nA Legacy of Inclusivity and Community Building\nFor two decades\, SMC has provided a safe and welcoming space for men of all backgrounds to express themselves through song. The choir’s commitment to inclusivity and fellowship has fostered a strong sense of community\, enriching the lives of its members. The choir remains committed to supporting and uplifting communities in need\, through its special brand of entertainment\, which includes working with organisations such as The People’s Association\, The Greenhouse\, and Pink Dot. SMC has also represented the Singapore voice at the biennial Hand in Hand Festival\, an Asian-based choral festival organised by Proud Voices Asia.The choir is dedicated to supporting the local community in all its diversity and promises to continue its legacy of joyful song for years to come. \nIn a time where acceptance\, belonging and a sense of family are principal themes toward cultivating positive mental wellness (especially among men)\, SMC finds itself even more relevant today than when it was first founded. \nLaunch Party Details (a proud partner of Pinkfest 2024):\nDate: 30 May\, 2024\nTime: 8pm\nLocation: Backstage Bar\, 80 Neil Road\, Singapore 088842\nPromotion: As a special thank you to friends and family\, drinks will be going at 20% off all night long \nConcert Details:\nTitle: SMC Celebrates 20 Years of Timeless Harmony\nDate: 14 September (8pm) & 15 September (3pm)\nLocation: Lee Foundation Theatre\nRegistration: https://SMCconcert2024.peatix.com (site will only be ‘live’ from 30 May onwards) \nEarly bird tickets launch on 30 May 2024. \n\nImages: Sing! Men’s Chorus
URL:https://thewellnessinsider.asia/event/sing-mens-chorus-celebrates-20-years-of-community-and-harmony/
LOCATION:Backstage Bar\, 80 Neil Road\, Singapore\, 088842\, Singapore
CATEGORIES:Arts,Celebrations
ATTACH;FMTTYPE=image/png:https://thewellnessinsider.asia/wp-content/uploads/2024/05/1000046121.png
END:VEVENT
END:VCALENDAR