BEGIN:VCALENDAR
VERSION:2.0
PRODID:-//The Wellness Insider - ECPv6.15.20//NONSGML v1.0//EN
CALSCALE:GREGORIAN
METHOD:PUBLISH
X-WR-CALNAME:The Wellness Insider
X-ORIGINAL-URL:https://thewellnessinsider.asia
X-WR-CALDESC:Events for The Wellness Insider
REFRESH-INTERVAL;VALUE=DURATION:PT1H
X-Robots-Tag:noindex
X-PUBLISHED-TTL:PT1H
BEGIN:VTIMEZONE
TZID:Asia/Shanghai
BEGIN:STANDARD
TZOFFSETFROM:+0800
TZOFFSETTO:+0800
TZNAME:CST
DTSTART:20220101T000000
END:STANDARD
END:VTIMEZONE
BEGIN:VEVENT
DTSTART;TZID=Asia/Shanghai:20230102T100000
DTEND;TZID=Asia/Shanghai:20230105T220000
DTSTAMP:20260424T182329
CREATED:20221230T090412Z
LAST-MODIFIED:20230103T071007Z
UID:10208-1672653600-1672956000@thewellnessinsider.asia
SUMMARY:i12 Katong Ushers Year of the Rabbit with Chinese Zodiac Sculptures Made from Upcycled Flip-flops
DESCRIPTION:Singapore\, 27 December 2022 – i12 Katong welcomes the auspicious Year of the Rabbit with a plethora of attractive promotions\, rewards\, and exciting events\, as well as an Art Exhibition of the world’s first sculptures of Chinese Zodiac Animals made from upcycled flip-flops. \nArt Exhibition of the World’s First Sculptures of Chinese Zodiac Animals made from upcycled flip-flops\nDate: 2 to 31 January 2023\nLocation: Level 1 Atrium and around the mall\ni12 Katong welcomes the auspicious Year of the Rabbit with a plethora of attractive promotions\, rewards\, and exciting events\, as well as an Art Exhibition of the world’s first sculptures of Chinese Zodiac Animals made from upcycled flip-flops. \nCommissioned and handcrafted by six talented Kenyan artists from OCEAN Sole Africa\, a non-profit and social enterprise with a mission to clean polluted beaches and provide careers to artisans in high-impact communities; the spectacular displays are inspired by the legacy and tale of the Chinese New Year zodiac animals and will be unveiled to shoppers on 2 January 2023. \n \nTo usher in the Year of the Rabbit\, a 3-metre-tall rabbit sculpture will take centre stage at the mall’s atrium on Level 1. Made over 21 days from 2\,875 pairs of worn-out and discarded flip-flops\, the impressive sculpture depicts the rabbit’s abundance and longevity\, while raising awareness of the tangible impact that our lifestyles can have on the environment. The vibrant colours further add to the art’s overall cheerfulness and complement the festive celebrations of Chinese New Year. \n  \n \nFrom left to right: Handcrafted dragon\, horse\, tiger and snake sculptures made from used flip-flops \nThe zodiac sculptures are a part of i12 Katong’s drive to spotlight novel art collaborations driven by sustainable practices\, in line with Keppel Land’s commitment to sustainability. To raise awareness of the importance of sustainable living\, the artists behind these exhibits aim to not only create beautiful works of art\, but to also promote conversations about environmental issues. \ni12 Katong invites shoppers to embark on a hunt to find the 12 Chinese zodiac animal sculptures around the mall. Follow the trail and submit the correct answers to 12 simple questions at the Level 3 Concierge Counter to redeem up to S$20 worth of vouchers from participating retailers. Redemption is limited to the first 100 shoppers. \nJolly Activities for Every-bunny In The Family!\nTo herald new beginnings\, i12 Katong will host a variety of exciting performances and activities every weekend for the entire month of January 2023. \nChinese Poem Recitals and Pipa Performances by Fang Cao Yuan: Learn about Chinese culture and enjoy Chinese poem recitals and pipa performances by the students of Fang Cao Yuan.\nDate: 7\, 8\, 14 & 15 January 2023\nTime: 2pm\nLocation: Level 1 Atrium \nChinese Calligraphy Decor: Redeem an auspicious handwritten Chinese calligraphy décor piece when you spend a min. of $20.\nDate: 7\, 8\, 14 & 15 January 2023\nTime: 2pm to 4pm\nLocation: Level 1 Atrium \nKids CNY Craft Workshops: Kids can have a fun time making Chinese New Year crafts. Redeem a workshop pass by presenting a same-day receipt at the Level 3 Concierge Counter.\nDate: 7\, 8\, 14\, 15\, 28 and 29 January 2023\nLocation: Level 2 Kids Corner at Pop Palette \nLion Dance Performance: Get into the festive mood and usher in the Lunar New Year in an auspicious way with i12 Katong’s lion dance performance\nDate: 27 January 2023\nTime: 12pm\nLocation: Main entrance and Level 1 Atrium \nHop-hop Hooray – Rewards Up For Grabs for KLIK Members!\nRedemptions for spending S$80 and above ($120 for supermarket and enrichment centres) include a sure-win lucky dip with vouchers worth S$20 and above\, $2 parking credits\, and a packet of i12 Katong’s limited-edition red packets; while spending of S$250 ($375 for supermarket and enrichment centres) and above will allow shoppers to redeem the above-mentioned rewards and an additional complimentary can of abalone.\n*T&Cs apply. \nAll redemptions are limited to 3 same-day receipts and must be made at the Level 3 Concierge Desk. Limited to 1 redemption per KLIK member per day. Redemptions for spend of S$80 and above are limited to 100 per day\, while redemptions for spend of S$250 and above are limited to 50 per day. Red packets and cans of abalones are available while stocks last. \nFeast in 兔 the Year of the Rabbit with Bistro Bytes\nRing in the new year with good food from Bistro Bytes (#02-12/14)\, i12 Katong’s F&B curated concept that allows shoppers to order a wide variety of cuisines in a single order for self pick-up or delivery. \nFrom 2 to 31 January\, the first 1\,000 orders can enjoy 8% off with the promo code with a minimum spending of S$30 in a single receipt via the KLIK app. T&Cs apply. ^ \nRide Is On Us at Pop Palette\nShop for your new Chinese New Year outfits at Pop Palette (#02-19) and receive a complimentary S$10 Grab voucher! To redeem\, shoppers will simply have to spend a minimum of S$50 and present a maximum of 2 same-day receipts (from Pop Palette only)\, at the Level 3 Concierge Desk to be eligible. Limited to the first 50 members daily and 1 redemption per member per day. T&Cs apply. ^ \n^All redemptions are exclusive to KLIK members and must be made at the Level 3 Concierge Desk. Redemptions are limited to 1 per KLIK member per day\, while stocks last. \nFor more information on i12 Katong’s Chinese New Year activities and promotions\, please visit www.i12katong.com.sg\, or check for real-time updates via Facebook and Instagram.\n 
URL:https://thewellnessinsider.asia/event/i12-katong-ushers-year-of-the-rabbit-with-chinese-zodiac-sculptures-made-from-upcycled-flip-flops/
LOCATION:i12 Katong\, 112 East Coast Rd\, Singapore\, XX\, 428802\, Singapore
CATEGORIES:Arts,Celebrations
ATTACH;FMTTYPE=image/png:https://thewellnessinsider.asia/wp-content/uploads/2022/12/i12-Katong_campaign.png
END:VEVENT
END:VCALENDAR